BEGIN:VCALENDAR
VERSION:2.0
PRODID:-//Seelsorgeeinheit Magdenau - ECPv6.15.20//NONSGML v1.0//EN
CALSCALE:GREGORIAN
METHOD:PUBLISH
X-ORIGINAL-URL:https://www.se-ma.ch
X-WR-CALDESC:Veranstaltungen für Seelsorgeeinheit Magdenau
REFRESH-INTERVAL;VALUE=DURATION:PT1H
X-Robots-Tag:noindex
X-PUBLISHED-TTL:PT1H
BEGIN:VTIMEZONE
TZID:Europe/Zurich
BEGIN:DAYLIGHT
TZOFFSETFROM:+0100
TZOFFSETTO:+0200
TZNAME:CEST
DTSTART:20230326T010000
END:DAYLIGHT
BEGIN:STANDARD
TZOFFSETFROM:+0200
TZOFFSETTO:+0100
TZNAME:CET
DTSTART:20231029T010000
END:STANDARD
BEGIN:DAYLIGHT
TZOFFSETFROM:+0100
TZOFFSETTO:+0200
TZNAME:CEST
DTSTART:20240331T010000
END:DAYLIGHT
BEGIN:STANDARD
TZOFFSETFROM:+0200
TZOFFSETTO:+0100
TZNAME:CET
DTSTART:20241027T010000
END:STANDARD
BEGIN:DAYLIGHT
TZOFFSETFROM:+0100
TZOFFSETTO:+0200
TZNAME:CEST
DTSTART:20250330T010000
END:DAYLIGHT
BEGIN:STANDARD
TZOFFSETFROM:+0200
TZOFFSETTO:+0100
TZNAME:CET
DTSTART:20251026T010000
END:STANDARD
END:VTIMEZONE
BEGIN:VEVENT
DTSTART;TZID=Europe/Zurich:20240701T193000
DTEND;TZID=Europe/Zurich:20240701T203000
DTSTAMP:20260422T222302
CREATED:20230919T095228Z
LAST-MODIFIED:20230919T095228Z
UID:43027-1719862200-1719865800@www.se-ma.ch
SUMMARY:Degersheim: Schweigemeditation
DESCRIPTION:Im Chorraum der Kath. Kirche St. Jakobus werden wir gemeinsam meditieren. Alle Interessierten\, unabhängig von Konfession oder Kirchennähe\, sind dazu herzlich eingeladen. \nFür Auskünfte steht Walter Germann gerne zur Verfügung: T 071 371 29 38.
URL:https://www.se-ma.ch/event/degersheim-schweigemeditation-28/
LOCATION:Jakobuskirche Degersheim\, Bergstrasse 10\, Degersheim\, 9113\, Schweiz
CATEGORIES:Anlässe und Veranstaltungen
END:VEVENT
BEGIN:VEVENT
DTSTART;TZID=Europe/Zurich:20240704T150000
DTEND;TZID=Europe/Zurich:20240704T163000
DTSTAMP:20260422T222302
CREATED:20231211T064728Z
LAST-MODIFIED:20231211T064728Z
UID:44509-1720105200-1720110600@www.se-ma.ch
SUMMARY:Trauercafé
DESCRIPTION:Das Trauercafé bietet Angehörigen die Möglichkeit\, über das Erlebte zu sprechen und sich mit anderen Betroffenen auszutauschen. Es ist keine Anmeldung nötig. \nHomepage Ökum. Hospizgruppe Flawil
URL:https://www.se-ma.ch/event/trauercafe-16/
LOCATION:Haus 5egg\, Bahnhofstrasse 33\, Flawil\, St. Gallen\, 9230\, Schweiz
CATEGORIES:Anlässe und Veranstaltungen
END:VEVENT
BEGIN:VEVENT
DTSTART;VALUE=DATE:20240705
DTEND;VALUE=DATE:20240713
DTSTAMP:20260422T222302
CREATED:20240422T061628Z
LAST-MODIFIED:20240422T061628Z
UID:46835-1720137600-1720828799@www.se-ma.ch
SUMMARY:Jugendarbeit: Kroatienreise
DESCRIPTION:Für Jugendliche ab der Oberstufe\nWeitere Infos und Anmeldung bis 10. Juni
URL:https://www.se-ma.ch/event/jugendarbeit-kroatienreise/
CATEGORIES:Anlässe und Veranstaltungen
END:VEVENT
BEGIN:VEVENT
DTSTART;TZID=Europe/Zurich:20240706T173000
DTEND;TZID=Europe/Zurich:20240706T183000
DTSTAMP:20260422T222302
CREATED:20240327T094915Z
LAST-MODIFIED:20240327T094915Z
UID:46392-1720287000-1720290600@www.se-ma.ch
SUMMARY:Degersheim: Kommunionfeier
DESCRIPTION:
URL:https://www.se-ma.ch/event/degersheim-kommunionfeier-15/
LOCATION:Jakobuskirche Degersheim\, Bergstrasse 10\, Degersheim\, 9113\, Schweiz
CATEGORIES:Gottesdienste
END:VEVENT
BEGIN:VEVENT
DTSTART;TZID=Europe/Zurich:20240707T084500
DTEND;TZID=Europe/Zurich:20240707T084500
DTSTAMP:20260422T222302
CREATED:20240304T134132Z
LAST-MODIFIED:20240304T134132Z
UID:45703-1720341900-1720341900@www.se-ma.ch
SUMMARY:Niederglatt: Eucharistiefeier
DESCRIPTION:
URL:https://www.se-ma.ch/event/niederglatt-eucharistiefeier-13/
LOCATION:Felix + Regula Kirche Niederglatt\, Niederglatt\, 9240\, Schweiz
CATEGORIES:Gottesdienste
END:VEVENT
BEGIN:VEVENT
DTSTART;TZID=Europe/Zurich:20240707T093000
DTEND;TZID=Europe/Zurich:20240707T093000
DTSTAMP:20260422T222302
CREATED:20231114T132646Z
LAST-MODIFIED:20231114T132646Z
UID:43999-1720344600-1720344600@www.se-ma.ch
SUMMARY:Flawil: Eucharistiefeier in Spanisch
DESCRIPTION:ab 9.00 Uhr Beichtgelegenheit
URL:https://www.se-ma.ch/event/flawil-eucharistiefeier-in-spanisch-15/
LOCATION:Kapelle St. Laurentius Flawil\, Enzenbühlstrasse 20\, Flawil\, 9230\, Schweiz
CATEGORIES:Gottesdienste
END:VEVENT
BEGIN:VEVENT
DTSTART;TZID=Europe/Zurich:20240707T101500
DTEND;TZID=Europe/Zurich:20240707T101500
DTSTAMP:20260422T222302
CREATED:20240529T093307Z
LAST-MODIFIED:20240529T093307Z
UID:47543-1720347300-1720347300@www.se-ma.ch
SUMMARY:Flawil: Eucharistiefeier
DESCRIPTION:
URL:https://www.se-ma.ch/event/flawil-eucharistiefeier-13/
LOCATION:Kirche St. Laurentius Flawil\, Enzenbühlstrasse 20\, Flawil\, 9230\, Schweiz
CATEGORIES:Gottesdienste
END:VEVENT
BEGIN:VEVENT
DTSTART;TZID=Europe/Zurich:20240710T113000
DTEND;TZID=Europe/Zurich:20240710T113000
DTSTAMP:20260422T222302
CREATED:20240117T080917Z
LAST-MODIFIED:20240119T122649Z
UID:44994-1720611000-1720611000@www.se-ma.ch
SUMMARY:Flawil: SEMAplus Senioren
DESCRIPTION:Bräteln im Pfarrgarten \nJahresprogramm
URL:https://www.se-ma.ch/event/flawil-semaplus-senioren-7/
LOCATION:Pfarreizentrum Flawil\, Enzenbühlstrasse 16\, Flawil\, 9230\, Schweiz
END:VEVENT
BEGIN:VEVENT
DTSTART;TZID=Europe/Zurich:20240711T113000
DTEND;TZID=Europe/Zurich:20240711T140000
DTSTAMP:20260422T222302
CREATED:20231130T081634Z
LAST-MODIFIED:20231130T081634Z
UID:44313-1720697400-1720706400@www.se-ma.ch
SUMMARY:Flawil: Mittagstisch
DESCRIPTION:Flyer Mittagstisch 2024
URL:https://www.se-ma.ch/event/flawil-mittagstisch-6/
LOCATION:Pfarreizentrum Flawil\, Enzenbühlstrasse 16\, Flawil\, 9230\, Schweiz
CATEGORIES:Anlässe und Veranstaltungen
END:VEVENT
BEGIN:VEVENT
DTSTART;TZID=Europe/Zurich:20240713T173000
DTEND;TZID=Europe/Zurich:20240713T173000
DTSTAMP:20260422T222302
CREATED:20231114T103942Z
LAST-MODIFIED:20231114T103942Z
UID:43958-1720891800-1720891800@www.se-ma.ch
SUMMARY:Flawil: Eucharistiefeier in Portugiesisch
DESCRIPTION:
URL:https://www.se-ma.ch/event/flawil-eucharistiefeier-in-portugiesisch-12/
LOCATION:Kapelle St. Laurentius Flawil\, Enzenbühlstrasse 20\, Flawil\, 9230\, Schweiz
CATEGORIES:Gottesdienste
END:VEVENT
BEGIN:VEVENT
DTSTART;TZID=Europe/Zurich:20240713T173000
DTEND;TZID=Europe/Zurich:20240713T183000
DTSTAMP:20260422T222302
CREATED:20240327T095014Z
LAST-MODIFIED:20240327T095014Z
UID:46394-1720891800-1720895400@www.se-ma.ch
SUMMARY:Degersheim: Eucharistiefeier
DESCRIPTION:
URL:https://www.se-ma.ch/event/degersheim-eucharistiefeier-20/
LOCATION:Jakobuskirche Degersheim\, Bergstrasse 10\, Degersheim\, 9113\, Schweiz
CATEGORIES:Gottesdienste
END:VEVENT
BEGIN:VEVENT
DTSTART;TZID=Europe/Zurich:20240714T084500
DTEND;TZID=Europe/Zurich:20240714T084500
DTSTAMP:20260422T222302
CREATED:20240208T104424Z
LAST-MODIFIED:20240208T115113Z
UID:45361-1720946700-1720946700@www.se-ma.ch
SUMMARY:Wolfertswil: Eucharistiefeier
DESCRIPTION:
URL:https://www.se-ma.ch/event/wolfertswil-kommunionfeier-3-3/
LOCATION:Kirche Bruder Klaus\, Wolfertswil\, 9116
CATEGORIES:Gottesdienste
END:VEVENT
BEGIN:VEVENT
DTSTART;TZID=Europe/Zurich:20240714T090000
DTEND;TZID=Europe/Zurich:20240714T090000
DTSTAMP:20260422T222302
CREATED:20231114T134824Z
LAST-MODIFIED:20231114T134824Z
UID:44044-1720947600-1720947600@www.se-ma.ch
SUMMARY:Eucharistiefeier in Italienisch
DESCRIPTION:
URL:https://www.se-ma.ch/event/eucharistiefeier-in-italienisch-29/
LOCATION:Kapelle St. Laurentius Flawil\, Enzenbühlstrasse 20\, Flawil\, 9230\, Schweiz
CATEGORIES:Gottesdienste
END:VEVENT
BEGIN:VEVENT
DTSTART;TZID=Europe/Zurich:20240714T101500
DTEND;TZID=Europe/Zurich:20240714T101500
DTSTAMP:20260422T222302
CREATED:20231116T072743Z
LAST-MODIFIED:20240529T093240Z
UID:44159-1720952100-1720952100@www.se-ma.ch
SUMMARY:Flawil: Eucharistiefeier
DESCRIPTION:
URL:https://www.se-ma.ch/event/flawil-kommunionfeier-21/
LOCATION:Kirche St. Laurentius Flawil\, Enzenbühlstrasse 20\, Flawil\, 9230\, Schweiz
CATEGORIES:Gottesdienste
END:VEVENT
BEGIN:VEVENT
DTSTART;TZID=Europe/Zurich:20240720T173000
DTEND;TZID=Europe/Zurich:20240720T183000
DTSTAMP:20260422T222302
CREATED:20240327T095110Z
LAST-MODIFIED:20240327T095110Z
UID:46396-1721496600-1721500200@www.se-ma.ch
SUMMARY:Degersheim: Eucharistiefeier
DESCRIPTION:
URL:https://www.se-ma.ch/event/degersheim-eucharistiefeier-21/
LOCATION:Jakobuskirche Degersheim\, Bergstrasse 10\, Degersheim\, 9113\, Schweiz
CATEGORIES:Gottesdienste
END:VEVENT
BEGIN:VEVENT
DTSTART;TZID=Europe/Zurich:20240721T084500
DTEND;TZID=Europe/Zurich:20240721T084500
DTSTAMP:20260422T222302
CREATED:20240304T134206Z
LAST-MODIFIED:20240304T134206Z
UID:45705-1721551500-1721551500@www.se-ma.ch
SUMMARY:Niederglatt: Eucharistiefeier
DESCRIPTION:
URL:https://www.se-ma.ch/event/niederglatt-eucharistiefeier-14/
LOCATION:Felix + Regula Kirche Niederglatt\, Niederglatt\, 9240\, Schweiz
CATEGORIES:Gottesdienste
END:VEVENT
BEGIN:VEVENT
DTSTART;TZID=Europe/Zurich:20240721T101500
DTEND;TZID=Europe/Zurich:20240721T101500
DTSTAMP:20260422T222302
CREATED:20240529T093437Z
LAST-MODIFIED:20240529T093437Z
UID:47546-1721556900-1721556900@www.se-ma.ch
SUMMARY:Flawil: Eucharistiefeier
DESCRIPTION:
URL:https://www.se-ma.ch/event/flawil-eucharistiefeier-14/
LOCATION:Kirche St. Laurentius Flawil\, Enzenbühlstrasse 20\, Flawil\, 9230\, Schweiz
CATEGORIES:Gottesdienste
END:VEVENT
BEGIN:VEVENT
DTSTART;TZID=Europe/Zurich:20240727T173000
DTEND;TZID=Europe/Zurich:20240727T173000
DTSTAMP:20260422T222302
CREATED:20231114T104022Z
LAST-MODIFIED:20231114T104022Z
UID:43960-1722101400-1722101400@www.se-ma.ch
SUMMARY:Flawil: Eucharistiefeier in Portugiesisch - fällt aus
DESCRIPTION:
URL:https://www.se-ma.ch/event/flawil-eucharistiefeier-in-portugiesisch-faellt-aus-3/
LOCATION:Kapelle St. Laurentius Flawil\, Enzenbühlstrasse 20\, Flawil\, 9230\, Schweiz
CATEGORIES:Gottesdienste
END:VEVENT
BEGIN:VEVENT
DTSTART;TZID=Europe/Zurich:20240727T173000
DTEND;TZID=Europe/Zurich:20240727T183000
DTSTAMP:20260422T222302
CREATED:20240327T095211Z
LAST-MODIFIED:20240524T085419Z
UID:46398-1722101400-1722105000@www.se-ma.ch
SUMMARY:Degersheim: Eucharistiefeier
DESCRIPTION:mit Abt Emmanuel Rutz
URL:https://www.se-ma.ch/event/degersheim-eucharistiefeier-22/
LOCATION:Jakobuskirche Degersheim\, Bergstrasse 10\, Degersheim\, 9113\, Schweiz
CATEGORIES:Gottesdienste
END:VEVENT
BEGIN:VEVENT
DTSTART;TZID=Europe/Zurich:20240728T084500
DTEND;TZID=Europe/Zurich:20240728T084500
DTSTAMP:20260422T222302
CREATED:20240208T104554Z
LAST-MODIFIED:20240208T114944Z
UID:45363-1722156300-1722156300@www.se-ma.ch
SUMMARY:Wolfertswil: Eucharistiefeier
DESCRIPTION:
URL:https://www.se-ma.ch/event/wolfertswil-kommunionfeier-3-4/
LOCATION:Kirche Bruder Klaus\, Wolfertswil\, 9116
CATEGORIES:Gottesdienste
END:VEVENT
BEGIN:VEVENT
DTSTART;TZID=Europe/Zurich:20240728T101500
DTEND;TZID=Europe/Zurich:20240728T101500
DTSTAMP:20260422T222302
CREATED:20231116T072853Z
LAST-MODIFIED:20231116T072853Z
UID:44163-1722161700-1722161700@www.se-ma.ch
SUMMARY:Flawil: Eucharistiefeier
DESCRIPTION:
URL:https://www.se-ma.ch/event/flawil-eucharistiefeier-10/
LOCATION:Kirche St. Laurentius Flawil\, Enzenbühlstrasse 20\, Flawil\, 9230\, Schweiz
CATEGORIES:Gottesdienste
END:VEVENT
END:VCALENDAR