BEGIN:VCALENDAR
VERSION:2.0
PRODID:-//Seelsorgeeinheit Magdenau - ECPv6.15.20//NONSGML v1.0//EN
CALSCALE:GREGORIAN
METHOD:PUBLISH
X-ORIGINAL-URL:https://www.se-ma.ch
X-WR-CALDESC:Veranstaltungen für Seelsorgeeinheit Magdenau
REFRESH-INTERVAL;VALUE=DURATION:PT1H
X-Robots-Tag:noindex
X-PUBLISHED-TTL:PT1H
BEGIN:VTIMEZONE
TZID:Europe/Zurich
BEGIN:DAYLIGHT
TZOFFSETFROM:+0100
TZOFFSETTO:+0200
TZNAME:CEST
DTSTART:20230326T010000
END:DAYLIGHT
BEGIN:STANDARD
TZOFFSETFROM:+0200
TZOFFSETTO:+0100
TZNAME:CET
DTSTART:20231029T010000
END:STANDARD
BEGIN:DAYLIGHT
TZOFFSETFROM:+0100
TZOFFSETTO:+0200
TZNAME:CEST
DTSTART:20240331T010000
END:DAYLIGHT
BEGIN:STANDARD
TZOFFSETFROM:+0200
TZOFFSETTO:+0100
TZNAME:CET
DTSTART:20241027T010000
END:STANDARD
BEGIN:DAYLIGHT
TZOFFSETFROM:+0100
TZOFFSETTO:+0200
TZNAME:CEST
DTSTART:20250330T010000
END:DAYLIGHT
BEGIN:STANDARD
TZOFFSETFROM:+0200
TZOFFSETTO:+0100
TZNAME:CET
DTSTART:20251026T010000
END:STANDARD
END:VTIMEZONE
BEGIN:VEVENT
DTSTART;TZID=Europe/Zurich:20240930T080000
DTEND;TZID=Europe/Zurich:20241004T170000
DTSTAMP:20260422T174320
CREATED:20240703T080350Z
LAST-MODIFIED:20240925T055812Z
UID:48037-1727683200-1728061200@www.se-ma.ch
SUMMARY:Degersheim/Wolfertswil: Sekretariate bleiben geschlossen!
DESCRIPTION:Die Sekretariate Degersheim und Wolfertswil bleiben vom 30.09. bis und mit 4.10.2024 geschlossen. In dringenden Fällen wenden Sie sich bitte ans Notfalltelefon 071 393 14 14.
URL:https://www.se-ma.ch/event/degersheim-sekretariat-bleibt-geschlossen/
LOCATION:kath. Pfarramt Degersheim\, Friedbergstrasse 2\, 9113 Degersheim\, 9113\, Schweiz
CATEGORIES:Anlässe und Veranstaltungen
END:VEVENT
BEGIN:VEVENT
DTSTART;VALUE=DATE:20241001
DTEND;VALUE=DATE:20241002
DTSTAMP:20260422T174320
CREATED:20240909T133335Z
LAST-MODIFIED:20240909T133335Z
UID:48615-1727740800-1727827199@www.se-ma.ch
SUMMARY:Jugendarbeit - Active-Days
DESCRIPTION:Ziplinepark Kronberg \nHerbstangebot
URL:https://www.se-ma.ch/event/jugendarbeit-active-days-2/
CATEGORIES:Kinder und Familien
END:VEVENT
BEGIN:VEVENT
DTSTART;VALUE=DATE:20241002
DTEND;VALUE=DATE:20241003
DTSTAMP:20260422T174320
CREATED:20240909T133406Z
LAST-MODIFIED:20240909T133406Z
UID:48617-1727827200-1727913599@www.se-ma.ch
SUMMARY:Jugendarbeit - Active-Days
DESCRIPTION:Fussballgolg Müllheim \nHerbstangebot
URL:https://www.se-ma.ch/event/jugendarbeit-active-days-3/
CATEGORIES:Kinder und Familien
END:VEVENT
BEGIN:VEVENT
DTSTART;TZID=Europe/Zurich:20241003T150000
DTEND;TZID=Europe/Zurich:20241003T163000
DTSTAMP:20260422T174320
CREATED:20231211T064814Z
LAST-MODIFIED:20231211T064814Z
UID:44513-1727967600-1727973000@www.se-ma.ch
SUMMARY:Trauercafé
DESCRIPTION:Das Trauercafé bietet Angehörigen die Möglichkeit\, über das Erlebte zu sprechen und sich mit anderen Betroffenen auszutauschen. Es ist keine Anmeldung nötig. \nHomepage Ökum. Hospizgruppe Flawil
URL:https://www.se-ma.ch/event/trauercafe-18/
LOCATION:Haus 5egg\, Bahnhofstrasse 33\, Flawil\, St. Gallen\, 9230\, Schweiz
CATEGORIES:Anlässe und Veranstaltungen
END:VEVENT
BEGIN:VEVENT
DTSTART;TZID=Europe/Zurich:20241004T183000
DTEND;TZID=Europe/Zurich:20241004T200000
DTSTAMP:20260422T174320
CREATED:20240619T061221Z
LAST-MODIFIED:20240619T061221Z
UID:47799-1728066600-1728072000@www.se-ma.ch
SUMMARY:Degersheim: Zämägang
DESCRIPTION:für einander da sein \nzusammen statt alleine \nHast du Lust\, mit mir und hoffentlich anderen Menschen zusammen zu sein? Dann komm einfach mit. \nVielleicht kennst du Menschen\, denen das freundliche und interessierte Miteinander gut tun würde. Mache sie aufmerksam auf dieses Angebot oder bring sie gleich selbst mit! \nEs braucht keine Anmeldung! \nTreffpunkt beim Parkplatz Föhrenwäldli Degersheim! \nIch freue mich auf dich! \nSilvan Hollenstein\, Seelsorger\, Tel. 079 743 73 89
URL:https://www.se-ma.ch/event/degersheim-zaemaegang-13/
LOCATION:Föhrenwäldli\, Berg 1\, Degersheim\, 9113 \, Schweiz
CATEGORIES:Anlässe und Veranstaltungen
END:VEVENT
BEGIN:VEVENT
DTSTART;TZID=Europe/Zurich:20241005T173000
DTEND;TZID=Europe/Zurich:20241005T183000
DTSTAMP:20260422T174320
CREATED:20240417T063716Z
LAST-MODIFIED:20240417T063716Z
UID:46674-1728149400-1728153000@www.se-ma.ch
SUMMARY:Degersheim: Eucharistiefeier
DESCRIPTION:
URL:https://www.se-ma.ch/event/degersheim-eucharistiefeier-27/
LOCATION:Jakobuskirche Degersheim\, Bergstrasse 10\, Degersheim\, 9113\, Schweiz
CATEGORIES:Gottesdienste
END:VEVENT
BEGIN:VEVENT
DTSTART;TZID=Europe/Zurich:20241006T084500
DTEND;TZID=Europe/Zurich:20241006T084500
DTSTAMP:20260422T174320
CREATED:20240304T131009Z
LAST-MODIFIED:20240304T131009Z
UID:45682-1728204300-1728204300@www.se-ma.ch
SUMMARY:Niederglatt: Eucharistiefeier
DESCRIPTION:
URL:https://www.se-ma.ch/event/niederglatt-eucharistiefeier-9/
LOCATION:Felix + Regula Kirche Niederglatt\, Niederglatt\, 9240\, Schweiz
CATEGORIES:Gottesdienste
END:VEVENT
BEGIN:VEVENT
DTSTART;TZID=Europe/Zurich:20241006T093000
DTEND;TZID=Europe/Zurich:20241006T093000
DTSTAMP:20260422T174320
CREATED:20231114T132803Z
LAST-MODIFIED:20231114T132803Z
UID:44005-1728207000-1728207000@www.se-ma.ch
SUMMARY:Flawil: Eucharistiefeier in Spanisch
DESCRIPTION:ab 9.00 Uhr Beichtgelegenheit
URL:https://www.se-ma.ch/event/flawil-eucharistiefeier-in-spanisch-17/
LOCATION:Kapelle St. Laurentius Flawil\, Enzenbühlstrasse 20\, Flawil\, 9230\, Schweiz
CATEGORIES:Gottesdienste
END:VEVENT
BEGIN:VEVENT
DTSTART;TZID=Europe/Zurich:20241006T101500
DTEND;TZID=Europe/Zurich:20241006T101500
DTSTAMP:20260422T174320
CREATED:20240530T062128Z
LAST-MODIFIED:20240530T062128Z
UID:47616-1728209700-1728209700@www.se-ma.ch
SUMMARY:Flawil: Eucharistiefeier
DESCRIPTION:
URL:https://www.se-ma.ch/event/flawil-eucharistiefeier-24/
LOCATION:Kirche St. Laurentius Flawil\, Enzenbühlstrasse 20\, Flawil\, 9230\, Schweiz
CATEGORIES:Gottesdienste
END:VEVENT
BEGIN:VEVENT
DTSTART;TZID=Europe/Zurich:20241012T173000
DTEND;TZID=Europe/Zurich:20241012T173000
DTSTAMP:20260422T174320
CREATED:20231114T104238Z
LAST-MODIFIED:20231114T104238Z
UID:43969-1728754200-1728754200@www.se-ma.ch
SUMMARY:Flawil: Eucharistiefeier in Portugiesisch
DESCRIPTION:
URL:https://www.se-ma.ch/event/flawil-eucharistiefeier-in-portugiesisch-14/
LOCATION:Kapelle St. Laurentius Flawil\, Enzenbühlstrasse 20\, Flawil\, 9230\, Schweiz
CATEGORIES:Gottesdienste
END:VEVENT
BEGIN:VEVENT
DTSTART;TZID=Europe/Zurich:20241012T173000
DTEND;TZID=Europe/Zurich:20241012T183000
DTSTAMP:20260422T174320
CREATED:20240417T063827Z
LAST-MODIFIED:20240417T063827Z
UID:46676-1728754200-1728757800@www.se-ma.ch
SUMMARY:Degersheim: Eucharistiefeier
DESCRIPTION:
URL:https://www.se-ma.ch/event/degersheim-eucharistiefeier-28/
LOCATION:Jakobuskirche Degersheim\, Bergstrasse 10\, Degersheim\, 9113\, Schweiz
CATEGORIES:Gottesdienste
END:VEVENT
BEGIN:VEVENT
DTSTART;TZID=Europe/Zurich:20241013T084500
DTEND;TZID=Europe/Zurich:20241013T084500
DTSTAMP:20260422T174320
CREATED:20240208T113819Z
LAST-MODIFIED:20240208T113819Z
UID:45383-1728809100-1728809100@www.se-ma.ch
SUMMARY:Wolfertswil: Eucharistiefeier
DESCRIPTION:
URL:https://www.se-ma.ch/event/wolfertswil-eucharistiefeier-fest-hl-bruder-klaus-3/
LOCATION:Kirche Bruder Klaus\, Wolfertswil\, 9116
CATEGORIES:Gottesdienste
END:VEVENT
BEGIN:VEVENT
DTSTART;TZID=Europe/Zurich:20241013T090000
DTEND;TZID=Europe/Zurich:20241013T090000
DTSTAMP:20260422T174320
CREATED:20231114T134901Z
LAST-MODIFIED:20231114T134901Z
UID:44048-1728810000-1728810000@www.se-ma.ch
SUMMARY:Eucharistiefeier in Italienisch
DESCRIPTION:
URL:https://www.se-ma.ch/event/eucharistiefeier-in-italienisch-31/
LOCATION:Kapelle St. Laurentius Flawil\, Enzenbühlstrasse 20\, Flawil\, 9230\, Schweiz
CATEGORIES:Gottesdienste
END:VEVENT
BEGIN:VEVENT
DTSTART;TZID=Europe/Zurich:20241013T101500
DTEND;TZID=Europe/Zurich:20241013T101500
DTSTAMP:20260422T174320
CREATED:20240529T094101Z
LAST-MODIFIED:20240529T094101Z
UID:47558-1728814500-1728814500@www.se-ma.ch
SUMMARY:Flawil: Eucharistiefeier
DESCRIPTION:
URL:https://www.se-ma.ch/event/flawil-eucharistiefeier-19/
LOCATION:Kirche St. Laurentius Flawil\, Enzenbühlstrasse 20\, Flawil\, 9230\, Schweiz
CATEGORIES:Gottesdienste
END:VEVENT
BEGIN:VEVENT
DTSTART;TZID=Europe/Zurich:20241016T113000
DTEND;TZID=Europe/Zurich:20241016T113000
DTSTAMP:20260422T174320
CREATED:20240117T081509Z
LAST-MODIFIED:20240119T122847Z
UID:45002-1729078200-1729078200@www.se-ma.ch
SUMMARY:Flawil: SEMAplus Senioren
DESCRIPTION:Raclette-Plausch \nJahresprogramm
URL:https://www.se-ma.ch/event/flawil-semaplus-senioren-10/
LOCATION:Pfarreizentrum Flawil\, Enzenbühlstrasse 16\, Flawil\, 9230\, Schweiz
END:VEVENT
BEGIN:VEVENT
DTSTART;TZID=Europe/Zurich:20241016T114500
DTEND;TZID=Europe/Zurich:20241016T140000
DTSTAMP:20260422T174320
CREATED:20240112T085028Z
LAST-MODIFIED:20240228T074316Z
UID:44944-1729079100-1729087200@www.se-ma.ch
SUMMARY:Degersheim: zämä ässä
DESCRIPTION:Wir freuen uns über alle\, die Lust haben\, gemeinsam zu essen\, zu geniessen und zu plaudern. Ein bunt zusammengewürfeltes Küchenteam kocht und serviert speziell für Sie! Der Preis beträgt Fr. 10.00. Bitte geben Sie bei der Anmeldung an\, falls Sie vegetarisch essen möchten! Anmeldung bitte jeweils bis spätestens am Freitag bis 11.00 Uhr\, vor dem „zämä ässä“ an: \nhc.am-esobfsctd-792226@miehsreged-tairaterkes oder Tel. 071 371 10 17
URL:https://www.se-ma.ch/event/degersheim-zaemae-aessae-9/
LOCATION:Pfarreiheim
CATEGORIES:Anlässe und Veranstaltungen
END:VEVENT
BEGIN:VEVENT
DTSTART;TZID=Europe/Zurich:20241019T173000
DTEND;TZID=Europe/Zurich:20241019T183000
DTSTAMP:20260422T174320
CREATED:20240417T064010Z
LAST-MODIFIED:20240417T064010Z
UID:46678-1729359000-1729362600@www.se-ma.ch
SUMMARY:Degersheim: Kommunionfeier
DESCRIPTION:
URL:https://www.se-ma.ch/event/degersheim-kommunionfeier-18/
LOCATION:Jakobuskirche Degersheim\, Bergstrasse 10\, Degersheim\, 9113\, Schweiz
CATEGORIES:Gottesdienste
END:VEVENT
BEGIN:VEVENT
DTSTART;TZID=Europe/Zurich:20241020T084500
DTEND;TZID=Europe/Zurich:20241020T084500
DTSTAMP:20260422T174320
CREATED:20240304T131046Z
LAST-MODIFIED:20240304T131046Z
UID:45684-1729413900-1729413900@www.se-ma.ch
SUMMARY:Niederglatt: Kommunionfeier Missio
DESCRIPTION:
URL:https://www.se-ma.ch/event/niederglatt-kommunionfeier-missio/
LOCATION:Felix + Regula Kirche Niederglatt\, Niederglatt\, 9240\, Schweiz
CATEGORIES:Gottesdienste
END:VEVENT
BEGIN:VEVENT
DTSTART;TZID=Europe/Zurich:20241020T093000
DTEND;TZID=Europe/Zurich:20241020T093000
DTSTAMP:20260422T174320
CREATED:20231114T133009Z
LAST-MODIFIED:20231114T133009Z
UID:44015-1729416600-1729416600@www.se-ma.ch
SUMMARY:Flawil: Eucharistiefeier in Spanisch
DESCRIPTION:
URL:https://www.se-ma.ch/event/flawil-eucharistiefeier-in-spanisch-22/
LOCATION:Kapelle St. Laurentius Flawil\, Enzenbühlstrasse 20\, Flawil\, 9230\, Schweiz
CATEGORIES:Gottesdienste
END:VEVENT
BEGIN:VEVENT
DTSTART;TZID=Europe/Zurich:20241020T101500
DTEND;TZID=Europe/Zurich:20241020T101500
DTSTAMP:20260422T174320
CREATED:20240529T094134Z
LAST-MODIFIED:20240529T094134Z
UID:47560-1729419300-1729419300@www.se-ma.ch
SUMMARY:Flawil: Kommunionfeier
DESCRIPTION:
URL:https://www.se-ma.ch/event/flawil-kommunionfeier-24/
LOCATION:Kirche St. Laurentius Flawil\, Enzenbühlstrasse 20\, Flawil\, 9230\, Schweiz
CATEGORIES:Gottesdienste
END:VEVENT
BEGIN:VEVENT
DTSTART;TZID=Europe/Zurich:20241021T193000
DTEND;TZID=Europe/Zurich:20241021T203000
DTSTAMP:20260422T174320
CREATED:20240703T074732Z
LAST-MODIFIED:20240703T074732Z
UID:48032-1729539000-1729542600@www.se-ma.ch
SUMMARY:Degersheim: Schweigemeditation
DESCRIPTION:Im Chorraum der Kath. Kirche St. Jakobus werden wir gemeinsam meditieren. Alle Interessierten\, unabhängig von Konfession oder Kirchennähe\, sind dazu herzlich eingeladen. \nFür Auskünfte steht Walter Germann gerne zur Verfügung: T 071 371 29 38.
URL:https://www.se-ma.ch/event/degersheim-schweigemeditation-39/
LOCATION:Jakobuskirche Degersheim\, Bergstrasse 10\, Degersheim\, 9113\, Schweiz
CATEGORIES:Anlässe und Veranstaltungen
END:VEVENT
BEGIN:VEVENT
DTSTART;TZID=Europe/Zurich:20241023T143000
DTEND;TZID=Europe/Zurich:20241023T163000
DTSTAMP:20260422T174320
CREATED:20231205T145152Z
LAST-MODIFIED:20240925T055326Z
UID:44406-1729693800-1729701000@www.se-ma.ch
SUMMARY:Degersheim: ökum. Seniorennachmittag
DESCRIPTION:Die „saitenspringer“ sorgen mit altvertrauten Schlager-Evergreens für Unterhaltung und erfreuen unser Herz musikalisch.
URL:https://www.se-ma.ch/event/degersheim-oekum-seniorennachmittag-3/
LOCATION:evang. Kirchgemeindehaus Degersheim\, Steineggstrasse 12\, Degersheim\, 9113\, Schweiz
CATEGORIES:Anlässe und Veranstaltungen
END:VEVENT
BEGIN:VEVENT
DTSTART;TZID=Europe/Zurich:20241023T190000
DTEND;TZID=Europe/Zurich:20241023T190000
DTSTAMP:20260422T174320
CREATED:20241007T122729Z
LAST-MODIFIED:20241007T122841Z
UID:48964-1729710000-1729710000@www.se-ma.ch
SUMMARY:Demenz und die rechtlichen Fragen
DESCRIPTION:Die KESB klärt auf. – Eine Veranstaltung für Menschen mit Demenz\, Angehörige und Interessierte. Der Eintritt ist frei\, es ist keine Anmeldung nötig.
URL:https://www.se-ma.ch/event/demenz-und-die-rechtlichen-fragen/
LOCATION:Zwinglisaal Flawil\, Lindenstrasse 6B\, Flawil\, SG\, 9230\, Schweiz
CATEGORIES:Anlässe und Veranstaltungen
END:VEVENT
BEGIN:VEVENT
DTSTART;TZID=Europe/Zurich:20241024T113000
DTEND;TZID=Europe/Zurich:20241024T140000
DTSTAMP:20260422T174320
CREATED:20231130T081801Z
LAST-MODIFIED:20231130T081801Z
UID:44319-1729769400-1729778400@www.se-ma.ch
SUMMARY:Flawil: Mittagstisch
DESCRIPTION:Flyer Mittagstisch 2024
URL:https://www.se-ma.ch/event/flawil-mittagstisch-9/
LOCATION:Pfarreizentrum Flawil\, Enzenbühlstrasse 16\, Flawil\, 9230\, Schweiz
CATEGORIES:Anlässe und Veranstaltungen
END:VEVENT
BEGIN:VEVENT
DTSTART;TZID=Europe/Zurich:20241024T190000
DTEND;TZID=Europe/Zurich:20241024T200000
DTSTAMP:20260422T174320
CREATED:20240619T062302Z
LAST-MODIFIED:20240619T062302Z
UID:47807-1729796400-1729800000@www.se-ma.ch
SUMMARY:Degersheim: Friedensgebet
DESCRIPTION:Wir beten für den Frieden in unserer Welt.
URL:https://www.se-ma.ch/event/degersheim-friedensgebet-14/
LOCATION:Jakobuskirche Kapelle Degersheim\, Bergstrasse 10\, Degersheim\, St. Gallen\, 9113\, Schweiz
CATEGORIES:Anlässe und Veranstaltungen
END:VEVENT
BEGIN:VEVENT
DTSTART;TZID=Europe/Zurich:20241024T200000
DTEND;TZID=Europe/Zurich:20241024T213000
DTSTAMP:20260422T174320
CREATED:20240910T122032Z
LAST-MODIFIED:20240910T122032Z
UID:48627-1729800000-1729805400@www.se-ma.ch
SUMMARY:Flawil: Exerzitien im Alltag
DESCRIPTION:Flyer Exerzitien im Alltag
URL:https://www.se-ma.ch/event/flawil-exerzitien-im-alltag/
LOCATION:Unterkapellenraum Flawil
CATEGORIES:Anlässe und Veranstaltungen
END:VEVENT
BEGIN:VEVENT
DTSTART;TZID=Europe/Zurich:20241025T193000
DTEND;TZID=Europe/Zurich:20241025T203000
DTSTAMP:20260422T174320
CREATED:20230905T144307Z
LAST-MODIFIED:20230905T144307Z
UID:42713-1729884600-1729888200@www.se-ma.ch
SUMMARY:Degersheim: Taizé Singen
DESCRIPTION:Wir singen gemeinsam Taizé-Lieder und werden dazu musikalisch begleitet. Eingeladen sind alle\, die mitsingen oder einfach die Stimmung geniessen möchten.
URL:https://www.se-ma.ch/event/degersheim-taize-singen-4/
LOCATION:Jakobuskirche Kapelle Degersheim\, Bergstrasse 10\, Degersheim\, St. Gallen\, 9113\, Schweiz
CATEGORIES:Gottesdienste
END:VEVENT
BEGIN:VEVENT
DTSTART;TZID=Europe/Zurich:20241026T173000
DTEND;TZID=Europe/Zurich:20241026T173000
DTSTAMP:20260422T174320
CREATED:20231114T104343Z
LAST-MODIFIED:20231114T104343Z
UID:43971-1729963800-1729963800@www.se-ma.ch
SUMMARY:Flawil: Eucharistiefeier in Portugiesisch - fällt aus
DESCRIPTION:
URL:https://www.se-ma.ch/event/flawil-eucharistiefeier-in-portugiesisch-faellt-aus-6/
LOCATION:Kapelle St. Laurentius Flawil\, Enzenbühlstrasse 20\, Flawil\, 9230\, Schweiz
CATEGORIES:Gottesdienste
END:VEVENT
BEGIN:VEVENT
DTSTART;TZID=Europe/Zurich:20241026T173000
DTEND;TZID=Europe/Zurich:20241026T183000
DTSTAMP:20260422T174320
CREATED:20240417T064137Z
LAST-MODIFIED:20240417T064137Z
UID:46680-1729963800-1729967400@www.se-ma.ch
SUMMARY:Degersheim: Eucharistiefeier
DESCRIPTION:mit Miniaufnahmen
URL:https://www.se-ma.ch/event/degersheim-eucharistiefeier-29/
LOCATION:Jakobuskirche Degersheim\, Bergstrasse 10\, Degersheim\, 9113\, Schweiz
CATEGORIES:Gottesdienste
END:VEVENT
BEGIN:VEVENT
DTSTART;TZID=Europe/Zurich:20241027T083000
DTEND;TZID=Europe/Zurich:20241027T083000
DTSTAMP:20260422T174320
CREATED:20231114T135305Z
LAST-MODIFIED:20231114T135305Z
UID:44072-1730017800-1730017800@www.se-ma.ch
SUMMARY:Eucharistiefeier in Italienisch
DESCRIPTION:
URL:https://www.se-ma.ch/event/eucharistiefeier-in-italienisch-43/
LOCATION:Kapelle St. Laurentius Flawil\, Enzenbühlstrasse 20\, Flawil\, 9230\, Schweiz
CATEGORIES:Gottesdienste
END:VEVENT
END:VCALENDAR