BEGIN:VCALENDAR
VERSION:2.0
PRODID:-//Seelsorgeeinheit Magdenau - ECPv6.15.20//NONSGML v1.0//EN
CALSCALE:GREGORIAN
METHOD:PUBLISH
X-WR-CALNAME:Seelsorgeeinheit Magdenau
X-ORIGINAL-URL:https://www.se-ma.ch
X-WR-CALDESC:Veranstaltungen für Seelsorgeeinheit Magdenau
REFRESH-INTERVAL;VALUE=DURATION:PT1H
X-Robots-Tag:noindex
X-PUBLISHED-TTL:PT1H
BEGIN:VTIMEZONE
TZID:Europe/Zurich
BEGIN:DAYLIGHT
TZOFFSETFROM:+0100
TZOFFSETTO:+0200
TZNAME:CEST
DTSTART:20230326T010000
END:DAYLIGHT
BEGIN:STANDARD
TZOFFSETFROM:+0200
TZOFFSETTO:+0100
TZNAME:CET
DTSTART:20231029T010000
END:STANDARD
BEGIN:DAYLIGHT
TZOFFSETFROM:+0100
TZOFFSETTO:+0200
TZNAME:CEST
DTSTART:20240331T010000
END:DAYLIGHT
BEGIN:STANDARD
TZOFFSETFROM:+0200
TZOFFSETTO:+0100
TZNAME:CET
DTSTART:20241027T010000
END:STANDARD
BEGIN:DAYLIGHT
TZOFFSETFROM:+0100
TZOFFSETTO:+0200
TZNAME:CEST
DTSTART:20250330T010000
END:DAYLIGHT
BEGIN:STANDARD
TZOFFSETFROM:+0200
TZOFFSETTO:+0100
TZNAME:CET
DTSTART:20251026T010000
END:STANDARD
END:VTIMEZONE
BEGIN:VEVENT
DTSTART;TZID=Europe/Zurich:20241101T084500
DTEND;TZID=Europe/Zurich:20241101T084500
DTSTAMP:20260422T155403
CREATED:20240304T131648Z
LAST-MODIFIED:20240304T131749Z
UID:45694-1730450700-1730450700@www.se-ma.ch
SUMMARY:Niederglatt: Gottesdienst zu Allerheiligen und Totengedenkfeier
DESCRIPTION:mit dem Duo „Rond om de Säntis“ (Maya Stieger und Peter Looser)
URL:https://www.se-ma.ch/event/niederglatt-gottesdienst-zu-allerheiligen-und-totengedenkfeier-2/
LOCATION:Felix + Regula Kirche Niederglatt\, Niederglatt\, 9240\, Schweiz
CATEGORIES:Gottesdienste
END:VEVENT
BEGIN:VEVENT
DTSTART;TZID=Europe/Zurich:20241101T101500
DTEND;TZID=Europe/Zurich:20241101T111500
DTSTAMP:20260422T155403
CREATED:20240417T064409Z
LAST-MODIFIED:20240417T064409Z
UID:46682-1730456100-1730459700@www.se-ma.ch
SUMMARY:Degersheim: Gottesdienst zu Allerheiligen und Totengedenken
DESCRIPTION:Musikalisch begleitet mit „Rond om de Säntis“ Maya Stieger und Peter Looser
URL:https://www.se-ma.ch/event/degersheim-gottesdienst-zu-allerheiligen-und-totengedenken/
LOCATION:Jakobuskirche Degersheim\, Bergstrasse 10\, Degersheim\, 9113\, Schweiz
CATEGORIES:Gottesdienste
END:VEVENT
BEGIN:VEVENT
DTSTART;TZID=Europe/Zurich:20241101T130000
DTEND;TZID=Europe/Zurich:20241101T130000
DTSTAMP:20260422T155403
CREATED:20240208T111213Z
LAST-MODIFIED:20240208T113615Z
UID:45387-1730466000-1730466000@www.se-ma.ch
SUMMARY:Wolfertswil: Gottesdienst zu Allerheiligen u. Totengedenken
DESCRIPTION:
URL:https://www.se-ma.ch/event/wolfertswil-gottesdienst-zu-allerheiligen-u-totengedenken/
LOCATION:Kirche Bruder Klaus\, Wolfertswil\, 9116
CATEGORIES:Gottesdienste
END:VEVENT
BEGIN:VEVENT
DTSTART;TZID=Europe/Zurich:20241101T141500
DTEND;TZID=Europe/Zurich:20241101T141500
DTSTAMP:20260422T155403
CREATED:20240530T053807Z
LAST-MODIFIED:20240530T053807Z
UID:47578-1730470500-1730470500@www.se-ma.ch
SUMMARY:Flawil: Gottesdienst zu Allerheiligen und Totengedenken
DESCRIPTION:mit Kirchenchor
URL:https://www.se-ma.ch/event/flawil-gottesdienst-zu-allerheiligen-und-totengedenken/
LOCATION:Kirche St. Laurentius Flawil\, Enzenbühlstrasse 20\, Flawil\, 9230\, Schweiz
CATEGORIES:Gottesdienste
END:VEVENT
BEGIN:VEVENT
DTSTART;TZID=Europe/Zurich:20241101T183000
DTEND;TZID=Europe/Zurich:20241101T183000
DTSTAMP:20260422T155403
CREATED:20240711T134052Z
LAST-MODIFIED:20240711T134052Z
UID:48091-1730485800-1730485800@www.se-ma.ch
SUMMARY:Flawil: Begegnungsfeier
DESCRIPTION:Wir laden dich herzlich in die Begegnungsfeier am Freitagabend in der Kapelle ein. Nach der Feier gibt es immer noch einen kleinen Apéro und so findet die Begegnung nicht nur in der Kirche statt\, sondern geht auch danach weiter. Bist du dabei? Wir freuen uns auf dich! \nFlyer Begegnungsfeier \nÜbersicht Chinderfiiren\n \n 
URL:https://www.se-ma.ch/event/flawil-begegnungsfeier-11/
LOCATION:Kapelle St. Laurentius Flawil\, Enzenbühlstrasse 20\, Flawil\, 9230\, Schweiz
CATEGORIES:Gottesdienste,Kinder und Familien
END:VEVENT
BEGIN:VEVENT
DTSTART;TZID=Europe/Zurich:20241101T183000
DTEND;TZID=Europe/Zurich:20241101T200000
DTSTAMP:20260422T155403
CREATED:20240620T065719Z
LAST-MODIFIED:20240620T065719Z
UID:47869-1730485800-1730491200@www.se-ma.ch
SUMMARY:Flawil: zämägang
DESCRIPTION:Wir treffen uns zu einem Spaziergang!\nHast du Lust\, zusammen unterwegs zu sein? Dann komm einfach mit. Vielleicht kennst du Menschen\, denen das freundliche und interessierte Miteinander guttun würde? Mache sie auf dieses Angebot aufmerksam oder bring sie gleich mit! Keine Anmeldung nötig.\nSilvan Hollenstein\, Seelsorger\, 079 743 73 89\, hc.am-esobfsctd-9297d1@nietsnelloh.navlis\nTreffpunkt: vor der Kirche St. Laurentius
URL:https://www.se-ma.ch/event/flawil-zaemaegang-2/
LOCATION:Kirche St. Laurentius Flawil\, Enzenbühlstrasse 20\, Flawil\, 9230\, Schweiz
CATEGORIES:Anlässe und Veranstaltungen
END:VEVENT
BEGIN:VEVENT
DTSTART;TZID=Europe/Zurich:20241102T173000
DTEND;TZID=Europe/Zurich:20241102T183000
DTSTAMP:20260422T155403
CREATED:20240417T064626Z
LAST-MODIFIED:20240507T093808Z
UID:46685-1730568600-1730572200@www.se-ma.ch
SUMMARY:Degersheim: Eucharistiefeier
DESCRIPTION:Salbungs-Gottesdienst
URL:https://www.se-ma.ch/event/degersheim-eucharistiefeier-30/
LOCATION:Jakobuskirche Degersheim\, Bergstrasse 10\, Degersheim\, 9113\, Schweiz
CATEGORIES:Gottesdienste
END:VEVENT
BEGIN:VEVENT
DTSTART;TZID=Europe/Zurich:20241103T084500
DTEND;TZID=Europe/Zurich:20241103T084500
DTSTAMP:20260422T155403
CREATED:20240304T131133Z
LAST-MODIFIED:20240529T092830Z
UID:45686-1730623500-1730623500@www.se-ma.ch
SUMMARY:Niederglatt: Salbungsgottesdienst\, Eucharistiefeier
DESCRIPTION:
URL:https://www.se-ma.ch/event/niederglatt-eucharistiefeier-10/
LOCATION:Felix + Regula Kirche Niederglatt\, Niederglatt\, 9240\, Schweiz
CATEGORIES:Gottesdienste
END:VEVENT
BEGIN:VEVENT
DTSTART;TZID=Europe/Zurich:20241103T093000
DTEND;TZID=Europe/Zurich:20241103T093000
DTSTAMP:20260422T155403
CREATED:20231114T132818Z
LAST-MODIFIED:20231114T132818Z
UID:44007-1730626200-1730626200@www.se-ma.ch
SUMMARY:Flawil: Eucharistiefeier in Spanisch
DESCRIPTION:ab 9.00 Uhr Beichtgelegenheit
URL:https://www.se-ma.ch/event/flawil-eucharistiefeier-in-spanisch-18/
LOCATION:Kapelle St. Laurentius Flawil\, Enzenbühlstrasse 20\, Flawil\, 9230\, Schweiz
CATEGORIES:Gottesdienste
END:VEVENT
BEGIN:VEVENT
DTSTART;TZID=Europe/Zurich:20241103T101500
DTEND;TZID=Europe/Zurich:20241103T101500
DTSTAMP:20260422T155403
CREATED:20240529T094317Z
LAST-MODIFIED:20240529T094317Z
UID:47564-1730628900-1730628900@www.se-ma.ch
SUMMARY:Flawil: Salbungsgottesdienst\, Eucharistiefeier
DESCRIPTION:
URL:https://www.se-ma.ch/event/flawil-salbungsgottesdienst-eucharistiefeier/
LOCATION:Kirche St. Laurentius Flawil\, Enzenbühlstrasse 20\, Flawil\, 9230\, Schweiz
CATEGORIES:Gottesdienste
END:VEVENT
BEGIN:VEVENT
DTSTART;TZID=Europe/Zurich:20241104T193000
DTEND;TZID=Europe/Zurich:20241104T203000
DTSTAMP:20260422T155403
CREATED:20240925T082105Z
LAST-MODIFIED:20240925T082105Z
UID:48835-1730748600-1730752200@www.se-ma.ch
SUMMARY:Degersheim: Schweigemeditation
DESCRIPTION:In der Kapelle der Kath. Kirche St. Jakobus werden wir gemeinsam meditieren. Alle Interessierten\, unabhängig von Konfession oder Kirchennähe\, sind dazu herzlich eingeladen. \nFür Auskünfte steht Walter Germann gerne zur Verfügung: T 071 371 29 38.
URL:https://www.se-ma.ch/event/degersheim-schweigemeditation-41/
LOCATION:Jakobuskirche Kapelle Degersheim\, Bergstrasse 10\, Degersheim\, St. Gallen\, 9113\, Schweiz
CATEGORIES:Anlässe und Veranstaltungen
END:VEVENT
BEGIN:VEVENT
DTSTART;TZID=Europe/Zurich:20241105T113000
DTEND;TZID=Europe/Zurich:20241105T113000
DTSTAMP:20260422T155403
CREATED:20240117T081638Z
LAST-MODIFIED:20240119T122915Z
UID:45005-1730806200-1730806200@www.se-ma.ch
SUMMARY:Flawil: SEMAplus Senioren
DESCRIPTION:Ökumenischer Senioren-Nachmittag im Lindensaal \nMusik mit den Oldies aus Appenzell \nJahresprogramm
URL:https://www.se-ma.ch/event/flawil-semaplus-senioren-11/
LOCATION:Lindensaal\, Lindenstrasse 6b\, Flawil\, 9230
END:VEVENT
BEGIN:VEVENT
DTSTART;TZID=Europe/Zurich:20241106T190000
DTEND;TZID=Europe/Zurich:20241106T190000
DTSTAMP:20260422T155403
CREATED:20240117T095203Z
LAST-MODIFIED:20240117T095609Z
UID:45036-1730919600-1730919600@www.se-ma.ch
SUMMARY:Niederglatt: Frauengemeinschaft
DESCRIPTION:Vortrag «Pilgern Erdet und Himmelt» Faszination des Jakobweges in Wort und Bild von Josef Schönauer / 19.00 Uhr / Bichwil \nJahresprogramm 2024
URL:https://www.se-ma.ch/event/niederglatt-frauengemeinschaft-13/
END:VEVENT
BEGIN:VEVENT
DTSTART;TZID=Europe/Zurich:20241107T150000
DTEND;TZID=Europe/Zurich:20241107T163000
DTSTAMP:20260422T155403
CREATED:20231211T064841Z
LAST-MODIFIED:20231211T064841Z
UID:44515-1730991600-1730997000@www.se-ma.ch
SUMMARY:Trauercafé
DESCRIPTION:Das Trauercafé bietet Angehörigen die Möglichkeit\, über das Erlebte zu sprechen und sich mit anderen Betroffenen auszutauschen. Es ist keine Anmeldung nötig. \nHomepage Ökum. Hospizgruppe Flawil
URL:https://www.se-ma.ch/event/trauercafe-19/
LOCATION:Haus 5egg\, Bahnhofstrasse 33\, Flawil\, St. Gallen\, 9230\, Schweiz
CATEGORIES:Anlässe und Veranstaltungen
END:VEVENT
BEGIN:VEVENT
DTSTART;TZID=Europe/Zurich:20241107T200000
DTEND;TZID=Europe/Zurich:20241107T213000
DTSTAMP:20260422T155403
CREATED:20240910T122127Z
LAST-MODIFIED:20240910T122127Z
UID:48631-1731009600-1731015000@www.se-ma.ch
SUMMARY:Flawil: Exerzitien im Alltag
DESCRIPTION:Flyer Exerzitien im Alltag
URL:https://www.se-ma.ch/event/flawil-exerzitien-im-alltag-3/
LOCATION:Unterkapellenraum Flawil
CATEGORIES:Anlässe und Veranstaltungen
END:VEVENT
BEGIN:VEVENT
DTSTART;TZID=Europe/Zurich:20241109T100000
DTEND;TZID=Europe/Zurich:20241109T120000
DTSTAMP:20260422T155403
CREATED:20230926T084604Z
LAST-MODIFIED:20230926T084604Z
UID:43207-1731146400-1731153600@www.se-ma.ch
SUMMARY:Degersheim: ökum. Chinderchile
DESCRIPTION:Die Gestaltung des Programms ist auf die Fähigkeiten von Kindern im Alter von 3 -6 Jahren mit ihren Begleitpersonen ausgerichtet. \nIm Anschluss an die Feier geniessen wir das gemütliche Zusammensein im Pfarreiheim.
URL:https://www.se-ma.ch/event/degersheim-oekum-chinderchile-6/
LOCATION:Pfarreiheim
CATEGORIES:Kinder und Familien
END:VEVENT
BEGIN:VEVENT
DTSTART;TZID=Europe/Zurich:20241109T173000
DTEND;TZID=Europe/Zurich:20241109T173000
DTSTAMP:20260422T155403
CREATED:20231114T104402Z
LAST-MODIFIED:20231114T105002Z
UID:43973-1731173400-1731173400@www.se-ma.ch
SUMMARY:Flawil: Eucharistiefeier in Portugiesisch
DESCRIPTION:
URL:https://www.se-ma.ch/event/flawil-eucharistiefeier-in-portugiesisch-faellt-aus-7/
LOCATION:Kapelle St. Laurentius Flawil\, Enzenbühlstrasse 20\, Flawil\, 9230\, Schweiz
CATEGORIES:Gottesdienste
END:VEVENT
BEGIN:VEVENT
DTSTART;TZID=Europe/Zurich:20241109T173000
DTEND;TZID=Europe/Zurich:20241109T183000
DTSTAMP:20260422T155403
CREATED:20240417T064730Z
LAST-MODIFIED:20240417T064730Z
UID:46687-1731173400-1731177000@www.se-ma.ch
SUMMARY:Degersheim: Kommunionfeier
DESCRIPTION:
URL:https://www.se-ma.ch/event/degersheim-kommunionfeier-19/
LOCATION:Jakobuskirche Degersheim\, Bergstrasse 10\, Degersheim\, 9113\, Schweiz
CATEGORIES:Gottesdienste
END:VEVENT
BEGIN:VEVENT
DTSTART;TZID=Europe/Zurich:20241110T084500
DTEND;TZID=Europe/Zurich:20241110T084500
DTSTAMP:20260422T155403
CREATED:20240208T111323Z
LAST-MODIFIED:20240208T113529Z
UID:45389-1731228300-1731228300@www.se-ma.ch
SUMMARY:Wolfertswil: Kommunionfeier
DESCRIPTION:
URL:https://www.se-ma.ch/event/wolfertswil-kommunionfeier-4/
LOCATION:Kirche Bruder Klaus\, Wolfertswil\, 9116
CATEGORIES:Gottesdienste
END:VEVENT
BEGIN:VEVENT
DTSTART;TZID=Europe/Zurich:20241110T090000
DTEND;TZID=Europe/Zurich:20241110T090000
DTSTAMP:20260422T155403
CREATED:20231114T134920Z
LAST-MODIFIED:20231114T134920Z
UID:44050-1731229200-1731229200@www.se-ma.ch
SUMMARY:Eucharistiefeier in Italienisch
DESCRIPTION:
URL:https://www.se-ma.ch/event/eucharistiefeier-in-italienisch-32/
LOCATION:Kapelle St. Laurentius Flawil\, Enzenbühlstrasse 20\, Flawil\, 9230\, Schweiz
CATEGORIES:Gottesdienste
END:VEVENT
BEGIN:VEVENT
DTSTART;TZID=Europe/Zurich:20241110T101500
DTEND;TZID=Europe/Zurich:20241110T101500
DTSTAMP:20260422T155403
CREATED:20240530T053904Z
LAST-MODIFIED:20240530T053904Z
UID:47580-1731233700-1731233700@www.se-ma.ch
SUMMARY:Flawil: Kommunionfeier
DESCRIPTION:
URL:https://www.se-ma.ch/event/flawil-kommunionfeier-25/
LOCATION:Kirche St. Laurentius Flawil\, Enzenbühlstrasse 20\, Flawil\, 9230\, Schweiz
CATEGORIES:Gottesdienste
END:VEVENT
BEGIN:VEVENT
DTSTART;TZID=Europe/Zurich:20241111T193000
DTEND;TZID=Europe/Zurich:20241111T203000
DTSTAMP:20260422T155403
CREATED:20240925T082208Z
LAST-MODIFIED:20240925T082208Z
UID:48837-1731353400-1731357000@www.se-ma.ch
SUMMARY:Degersheim: Schweigemeditation
DESCRIPTION:In der Kapelle der Kath. Kirche St. Jakobus werden wir gemeinsam meditieren. Alle Interessierten\, unabhängig von Konfession oder Kirchennähe\, sind dazu herzlich eingeladen. \nFür Auskünfte steht Walter Germann gerne zur Verfügung: T 071 371 29 38.
URL:https://www.se-ma.ch/event/degersheim-schweigemeditation-42/
LOCATION:Jakobuskirche Kapelle Degersheim\, Bergstrasse 10\, Degersheim\, St. Gallen\, 9113\, Schweiz
CATEGORIES:Anlässe und Veranstaltungen
END:VEVENT
BEGIN:VEVENT
DTSTART;TZID=Europe/Zurich:20241113T114500
DTEND;TZID=Europe/Zurich:20241113T140000
DTSTAMP:20260422T155403
CREATED:20240112T085134Z
LAST-MODIFIED:20240228T074424Z
UID:44946-1731498300-1731506400@www.se-ma.ch
SUMMARY:Degersheim: zämä ässä
DESCRIPTION:Wir freuen uns über alle\, die Lust haben\, gemeinsam zu essen\, zu geniessen und zu plaudern. Ein bunt zusammengewürfeltes Küchenteam kocht und serviert speziell für Sie! Der Preis beträgt Fr. 10.00. Bitte geben Sie bei der Anmeldung an\, falls Sie vegetarisch essen möchten! Anmeldung bitte jeweils bis spätestens am Freitag bis 11.00 Uhr\, vor dem „zämä ässä“ an: \nhc.am-esobfsctd-5727bf@miehsreged-tairaterkes oder Tel. 071 371 10 17
URL:https://www.se-ma.ch/event/degersheim-zaemae-aessae-10/
LOCATION:Pfarreiheim
CATEGORIES:Anlässe und Veranstaltungen
END:VEVENT
BEGIN:VEVENT
DTSTART;TZID=Europe/Zurich:20241114T190000
DTEND;TZID=Europe/Zurich:20241114T190000
DTSTAMP:20260422T155403
CREATED:20240603T072615Z
LAST-MODIFIED:20240612T134331Z
UID:47635-1731610800-1731610800@www.se-ma.ch
SUMMARY:Flawiler Friedensgebet
DESCRIPTION:In Flawil treffen sich Angehörige verschiedener Konfessionen zum Friedensgebet in der kath. Kapelle. \nDaten Friedensgebet
URL:https://www.se-ma.ch/event/flawiler-friedensgebet-31/
LOCATION:Kapelle St. Laurentius Flawil\, Enzenbühlstrasse 20\, Flawil\, 9230\, Schweiz
CATEGORIES:Anlässe und Veranstaltungen,Gottesdienste
END:VEVENT
BEGIN:VEVENT
DTSTART;TZID=Europe/Zurich:20241114T190000
DTEND;TZID=Europe/Zurich:20241114T200000
DTSTAMP:20260422T155403
CREATED:20240619T062411Z
LAST-MODIFIED:20240619T062411Z
UID:47809-1731610800-1731614400@www.se-ma.ch
SUMMARY:Degersheim: Friedensgebet
DESCRIPTION:Wir beten für den Frieden in unserer Welt.
URL:https://www.se-ma.ch/event/degersheim-friedensgebet-15/
LOCATION:Jakobuskirche Kapelle Degersheim\, Bergstrasse 10\, Degersheim\, St. Gallen\, 9113\, Schweiz
CATEGORIES:Anlässe und Veranstaltungen
END:VEVENT
BEGIN:VEVENT
DTSTART;TZID=Europe/Zurich:20241114T200000
DTEND;TZID=Europe/Zurich:20241114T213000
DTSTAMP:20260422T155403
CREATED:20240910T122141Z
LAST-MODIFIED:20240910T122151Z
UID:48633-1731614400-1731619800@www.se-ma.ch
SUMMARY:Flawil: Exerzitien im Alltag
DESCRIPTION:Flyer Exerzitien im Alltag
URL:https://www.se-ma.ch/event/flawil-exerzitien-im-alltag-4/
LOCATION:Unterkapellenraum Flawil
CATEGORIES:Anlässe und Veranstaltungen
END:VEVENT
BEGIN:VEVENT
DTSTART;TZID=Europe/Zurich:20241116T093000
DTEND;TZID=Europe/Zurich:20241116T110000
DTSTAMP:20260422T155403
CREATED:20240625T082642Z
LAST-MODIFIED:20240625T082642Z
UID:47947-1731749400-1731754800@www.se-ma.ch
SUMMARY:Flawil: ökumenische Chinderfiir
DESCRIPTION:Die Chinderfiir richtet sich an Kinder ab 3 Jahren und ihre erwachsenen Begleitpersonen. Während einer halben Stunde machen wir uns mit den Kindern und ihren erwachsenen Begleitpersonen auf den Weg\, den christlichen Glauben mit Musik\, einer Geschichte\, Spiel und Spass zu entdecken.\nAnschliessend gemeinsam Znüniessen\,  Kreativ-sein\, Spiel und Spass. \nFlyer Chinderfiir
URL:https://www.se-ma.ch/event/flawil-oekumenische-chinderfiir-3/
LOCATION:Evangelisches Kirchgemeindezentrum Flawil\, Lindenstrasse 6a\, Flawil\, SG\, 9230\, Schweiz
CATEGORIES:Gottesdienste,Kinder und Familien
END:VEVENT
BEGIN:VEVENT
DTSTART;TZID=Europe/Zurich:20241116T130000
DTEND;TZID=Europe/Zurich:20241116T130000
DTSTAMP:20260422T155403
CREATED:20240117T095339Z
LAST-MODIFIED:20240117T095438Z
UID:45038-1731762000-1731762000@www.se-ma.ch
SUMMARY:Niederglatt: Frauengemeinschaft
DESCRIPTION:Kärtli Workshop\nMonika Braun & Deborah Belz zeigen uns div. Varianten schöne Kärtli selber zu gestalten\n13.00 Uhr / Kosten je nach Menge ca. Fr. 50.- \nJahresprogramm 2024
URL:https://www.se-ma.ch/event/niederglatt-frauengemeinschaft-14/
END:VEVENT
BEGIN:VEVENT
DTSTART;TZID=Europe/Zurich:20241116T173000
DTEND;TZID=Europe/Zurich:20241116T183000
DTSTAMP:20260422T155403
CREATED:20240417T064905Z
LAST-MODIFIED:20240507T093730Z
UID:46689-1731778200-1731781800@www.se-ma.ch
SUMMARY:Degersheim: Eucharistiefeier
DESCRIPTION:
URL:https://www.se-ma.ch/event/degersheim-eucharistiefeier-31/
LOCATION:Jakobuskirche Degersheim\, Bergstrasse 10\, Degersheim\, 9113\, Schweiz
CATEGORIES:Gottesdienste
END:VEVENT
BEGIN:VEVENT
DTSTART;TZID=Europe/Zurich:20241116T173000
DTEND;TZID=Europe/Zurich:20241116T190000
DTSTAMP:20260422T155403
CREATED:20240910T122416Z
LAST-MODIFIED:20240910T122416Z
UID:48635-1731778200-1731783600@www.se-ma.ch
SUMMARY:Exerzitien im Alltag - Abschluss in St. Gallen
DESCRIPTION:mit Bischof Markus Büchel in der Kathedrale St. Gallen \nFlyer Exerzitien im Alltag
URL:https://www.se-ma.ch/event/exerzitien-im-alltag-abschluss-in-st-gallen/
LOCATION:Unterkapellenraum Flawil
CATEGORIES:Anlässe und Veranstaltungen
END:VEVENT
END:VCALENDAR