BEGIN:VCALENDAR
VERSION:2.0
PRODID:-//Seelsorgeeinheit Magdenau - ECPv6.15.20//NONSGML v1.0//EN
CALSCALE:GREGORIAN
METHOD:PUBLISH
X-WR-CALNAME:Seelsorgeeinheit Magdenau
X-ORIGINAL-URL:https://www.se-ma.ch
X-WR-CALDESC:Veranstaltungen für Seelsorgeeinheit Magdenau
REFRESH-INTERVAL;VALUE=DURATION:PT1H
X-Robots-Tag:noindex
X-PUBLISHED-TTL:PT1H
BEGIN:VTIMEZONE
TZID:Europe/Zurich
BEGIN:DAYLIGHT
TZOFFSETFROM:+0100
TZOFFSETTO:+0200
TZNAME:CEST
DTSTART:20230326T010000
END:DAYLIGHT
BEGIN:STANDARD
TZOFFSETFROM:+0200
TZOFFSETTO:+0100
TZNAME:CET
DTSTART:20231029T010000
END:STANDARD
BEGIN:DAYLIGHT
TZOFFSETFROM:+0100
TZOFFSETTO:+0200
TZNAME:CEST
DTSTART:20240331T010000
END:DAYLIGHT
BEGIN:STANDARD
TZOFFSETFROM:+0200
TZOFFSETTO:+0100
TZNAME:CET
DTSTART:20241027T010000
END:STANDARD
BEGIN:DAYLIGHT
TZOFFSETFROM:+0100
TZOFFSETTO:+0200
TZNAME:CEST
DTSTART:20250330T010000
END:DAYLIGHT
BEGIN:STANDARD
TZOFFSETFROM:+0200
TZOFFSETTO:+0100
TZNAME:CET
DTSTART:20251026T010000
END:STANDARD
END:VTIMEZONE
BEGIN:VEVENT
DTSTART;TZID=Europe/Zurich:20241201T084500
DTEND;TZID=Europe/Zurich:20241201T084500
DTSTAMP:20260422T140525
CREATED:20240304T131242Z
LAST-MODIFIED:20240304T131242Z
UID:45690-1733042700-1733042700@www.se-ma.ch
SUMMARY:Niederglatt: Eucharistiefeier
DESCRIPTION:
URL:https://www.se-ma.ch/event/niederglatt-eucharistiefeier-11/
LOCATION:Felix + Regula Kirche Niederglatt\, Niederglatt\, 9240\, Schweiz
CATEGORIES:Gottesdienste
END:VEVENT
BEGIN:VEVENT
DTSTART;TZID=Europe/Zurich:20241201T093000
DTEND;TZID=Europe/Zurich:20241201T093000
DTSTAMP:20260422T140525
CREATED:20231114T132849Z
LAST-MODIFIED:20231114T132849Z
UID:44009-1733045400-1733045400@www.se-ma.ch
SUMMARY:Flawil: Eucharistiefeier in Spanisch
DESCRIPTION:ab 9.00 Uhr Beichtgelegenheit
URL:https://www.se-ma.ch/event/flawil-eucharistiefeier-in-spanisch-19/
LOCATION:Kapelle St. Laurentius Flawil\, Enzenbühlstrasse 20\, Flawil\, 9230\, Schweiz
CATEGORIES:Gottesdienste
END:VEVENT
BEGIN:VEVENT
DTSTART;TZID=Europe/Zurich:20241201T101500
DTEND;TZID=Europe/Zurich:20241201T101500
DTSTAMP:20260422T140525
CREATED:20240530T054037Z
LAST-MODIFIED:20241009T064731Z
UID:47584-1733048100-1733048100@www.se-ma.ch
SUMMARY:Flawil: Eucharistiefeier
DESCRIPTION:mit Nikolaus und der Begegnungsfeier-Gruppe
URL:https://www.se-ma.ch/event/flawil-eucharistiefeier-21/
LOCATION:Kirche St. Laurentius Flawil\, Enzenbühlstrasse 20\, Flawil\, 9230\, Schweiz
CATEGORIES:Gottesdienste,Kinder und Familien
END:VEVENT
BEGIN:VEVENT
DTSTART;TZID=Europe/Zurich:20241201T160000
DTEND;TZID=Europe/Zurich:20241201T160000
DTSTAMP:20260422T140525
CREATED:20241008T125438Z
LAST-MODIFIED:20241106T094237Z
UID:48970-1733068800-1733068800@www.se-ma.ch
SUMMARY:Degersheim: kinderGOTTesdienst
DESCRIPTION:
URL:https://www.se-ma.ch/event/degersheim-kindergottesdienst-duplikat/
LOCATION:Jakobuskirche Degersheim\, Bergstrasse 10\, Degersheim\, 9113\, Schweiz
CATEGORIES:Gottesdienste,Kinder und Familien
END:VEVENT
BEGIN:VEVENT
DTSTART;TZID=Europe/Zurich:20241201T170000
DTEND;TZID=Europe/Zurich:20241201T180000
DTSTAMP:20260422T140525
CREATED:20241122T081050Z
LAST-MODIFIED:20241122T081139Z
UID:49529-1733072400-1733076000@www.se-ma.ch
SUMMARY:Maria und Josef unterwegs - Macht die Türen auf!
DESCRIPTION:Adventsanlass des Pfarreigremiums Niederglatt vor der Kirche Niederglatt
URL:https://www.se-ma.ch/event/maria-und-josef-unterwegs-macht-die-tueren-auf/
LOCATION:Felix + Regula Kirche Niederglatt\, Niederglatt\, 9240\, Schweiz
CATEGORIES:Anlässe und Veranstaltungen,Kinder und Familien
END:VEVENT
BEGIN:VEVENT
DTSTART;TZID=Europe/Zurich:20241201T173000
DTEND;TZID=Europe/Zurich:20241201T183000
DTSTAMP:20260422T140525
CREATED:20240417T081710Z
LAST-MODIFIED:20240417T081710Z
UID:46728-1733074200-1733077800@www.se-ma.ch
SUMMARY:Degersheim: Abendlob im Advent
DESCRIPTION:
URL:https://www.se-ma.ch/event/degersheim-abendlob-im-advent-4/
LOCATION:Jakobuskirche Kapelle Degersheim\, Bergstrasse 10\, Degersheim\, St. Gallen\, 9113\, Schweiz
CATEGORIES:Gottesdienste
END:VEVENT
BEGIN:VEVENT
DTSTART;TZID=Europe/Zurich:20241202T193000
DTEND;TZID=Europe/Zurich:20241202T203000
DTSTAMP:20260422T140525
CREATED:20240925T082510Z
LAST-MODIFIED:20240925T082533Z
UID:48843-1733167800-1733171400@www.se-ma.ch
SUMMARY:Degersheim: Schweigemeditation
DESCRIPTION:In der Kapelle der Kath. Kirche St. Jakobus werden wir gemeinsam meditieren. Alle Interessierten\, unabhängig von Konfession oder Kirchennähe\, sind dazu herzlich eingeladen. \nFür Auskünfte steht Walter Germann gerne zur Verfügung: T 071 371 29 38.
URL:https://www.se-ma.ch/event/degersheim-schweigemeditation-45/
LOCATION:Jakobuskirche Kapelle Degersheim\, Bergstrasse 10\, Degersheim\, St. Gallen\, 9113\, Schweiz
CATEGORIES:Anlässe und Veranstaltungen
END:VEVENT
BEGIN:VEVENT
DTSTART;TZID=Europe/Zurich:20241203T060000
DTEND;TZID=Europe/Zurich:20241203T070000
DTSTAMP:20260422T140525
CREATED:20240417T065501Z
LAST-MODIFIED:20240807T083521Z
UID:46699-1733205600-1733209200@www.se-ma.ch
SUMMARY:Degersheim: Rorate mit der Oberstufe
DESCRIPTION:
URL:https://www.se-ma.ch/event/degersheim-rorate/
LOCATION:Jakobuskirche Degersheim\, Bergstrasse 10\, Degersheim\, 9113\, Schweiz
CATEGORIES:Gottesdienste
END:VEVENT
BEGIN:VEVENT
DTSTART;TZID=Europe/Zurich:20241204T060000
DTEND;TZID=Europe/Zurich:20241204T060000
DTSTAMP:20260422T140525
CREATED:20240208T111619Z
LAST-MODIFIED:20240208T113343Z
UID:45393-1733292000-1733292000@www.se-ma.ch
SUMMARY:Wolfertswil: Rorate\, anschliessend Frühstück
DESCRIPTION:
URL:https://www.se-ma.ch/event/wolfertswil-rorate-anschliessend-fruehstueck/
LOCATION:Kirche Bruder Klaus\, Wolfertswil\, 9116
CATEGORIES:Gottesdienste
END:VEVENT
BEGIN:VEVENT
DTSTART;TZID=Europe/Zurich:20241204T114500
DTEND;TZID=Europe/Zurich:20241204T140000
DTSTAMP:20260422T140525
CREATED:20240112T085237Z
LAST-MODIFIED:20240228T074541Z
UID:44948-1733312700-1733320800@www.se-ma.ch
SUMMARY:Degersheim: zämä ässä
DESCRIPTION:Wir freuen uns über alle\, die Lust haben\, gemeinsam zu essen\, zu geniessen und zu plaudern. Ein bunt zusammengewürfeltes Küchenteam kocht und serviert speziell für Sie! Der Preis beträgt Fr. 10.00. Bitte geben Sie bei der Anmeldung an\, falls Sie vegetarisch essen möchten! Anmeldung bitte jeweils bis spätestens am Freitag bis 11.00 Uhr\, vor dem „zämä ässä“ an: \nhc.am-esobfsctd-2ba06d@miehsreged-tairaterkes oder Tel. 071 371 10 17
URL:https://www.se-ma.ch/event/degersheim-zaemae-aessae-11/
LOCATION:Pfarreiheim
CATEGORIES:Anlässe und Veranstaltungen
END:VEVENT
BEGIN:VEVENT
DTSTART;TZID=Europe/Zurich:20241204T190000
DTEND;TZID=Europe/Zurich:20241204T200000
DTSTAMP:20260422T140525
CREATED:20230929T110438Z
LAST-MODIFIED:20230929T110438Z
UID:43282-1733338800-1733342400@www.se-ma.ch
SUMMARY:Degersheim: Klang & Stille
DESCRIPTION:
URL:https://www.se-ma.ch/event/degersheim-klang-stille-4/
LOCATION:Jakobuskirche Degersheim\, Bergstrasse 10\, Degersheim\, 9113\, Schweiz
CATEGORIES:Anlässe und Veranstaltungen
END:VEVENT
BEGIN:VEVENT
DTSTART;TZID=Europe/Zurich:20241205T060000
DTEND;TZID=Europe/Zurich:20241205T060000
DTSTAMP:20260422T140525
CREATED:20240711T134303Z
LAST-MODIFIED:20241204T135835Z
UID:48093-1733378400-1733378400@www.se-ma.ch
SUMMARY:Flawil: Roratefeier
DESCRIPTION:mitgestaltet von den Schülerinnen und Schüler der Mittelstufe\, anschliessend gemeinsamer Zmorge im Pfarreizentrum \n 
URL:https://www.se-ma.ch/event/flawil-roratefeier-7/
LOCATION:Kirche St. Laurentius Flawil\, Enzenbühlstrasse 20\, Flawil\, 9230\, Schweiz
CATEGORIES:Gottesdienste,Kinder und Familien
END:VEVENT
BEGIN:VEVENT
DTSTART;TZID=Europe/Zurich:20241205T150000
DTEND;TZID=Europe/Zurich:20241205T163000
DTSTAMP:20260422T140525
CREATED:20231211T064903Z
LAST-MODIFIED:20231211T064903Z
UID:44517-1733410800-1733416200@www.se-ma.ch
SUMMARY:Trauercafé
DESCRIPTION:Das Trauercafé bietet Angehörigen die Möglichkeit\, über das Erlebte zu sprechen und sich mit anderen Betroffenen auszutauschen. Es ist keine Anmeldung nötig. \nHomepage Ökum. Hospizgruppe Flawil
URL:https://www.se-ma.ch/event/trauercafe-20/
LOCATION:Haus 5egg\, Bahnhofstrasse 33\, Flawil\, St. Gallen\, 9230\, Schweiz
CATEGORIES:Anlässe und Veranstaltungen
END:VEVENT
BEGIN:VEVENT
DTSTART;TZID=Europe/Zurich:20241206T063000
DTEND;TZID=Europe/Zurich:20241206T063000
DTSTAMP:20260422T140525
CREATED:20241009T062520Z
LAST-MODIFIED:20241009T063230Z
UID:48980-1733466600-1733466600@www.se-ma.ch
SUMMARY:Niederglatt: Roratefeier mit den Erstkommunionkinder in Bichwil
DESCRIPTION:
URL:https://www.se-ma.ch/event/niederglatt-roratefeier-mit-den-erstkommunionkinder-in-bischwil/
LOCATION:Kirche Bichwil
CATEGORIES:Gottesdienste,Kinder und Familien
END:VEVENT
BEGIN:VEVENT
DTSTART;TZID=Europe/Zurich:20241206T150000
DTEND;TZID=Europe/Zurich:20241206T150000
DTSTAMP:20260422T140525
CREATED:20240530T055924Z
LAST-MODIFIED:20241009T070341Z
UID:47614-1733497200-1733497200@www.se-ma.ch
SUMMARY:Flawil: Krankensalbungsgottesdienst
DESCRIPTION:Eucharistiefeier\, anschliessend Kaffee und Kuchen im Pfarreizentrum
URL:https://www.se-ma.ch/event/flawil-krankensalbungsgottesdienst/
LOCATION:Kirche St. Laurentius Flawil\, Enzenbühlstrasse 20\, Flawil\, 9230\, Schweiz
CATEGORIES:Gottesdienste
END:VEVENT
BEGIN:VEVENT
DTSTART;TZID=Europe/Zurich:20241206T183000
DTEND;TZID=Europe/Zurich:20241206T200000
DTSTAMP:20260422T140525
CREATED:20240619T061329Z
LAST-MODIFIED:20241204T091526Z
UID:47801-1733509800-1733515200@www.se-ma.ch
SUMMARY:Degersheim: Zämägang
DESCRIPTION:für einander da sein \nzusammen statt alleine \nZämägang… geht in die Guetzli-Backstube! Infos und Anmeldung bis 4. Dezember 2024 bei: \nSilvan Hollenstein\, Seelsorger\, Tel. 079 743 73 89 \nIch freue mich auf dich!
URL:https://www.se-ma.ch/event/degersheim-zaemaegang-14/
LOCATION:Pfarreiheim
CATEGORIES:Anlässe und Veranstaltungen
END:VEVENT
BEGIN:VEVENT
DTSTART;VALUE=DATE:20241207
DTEND;VALUE=DATE:20241208
DTSTAMP:20260422T140525
CREATED:20241122T081638Z
LAST-MODIFIED:20241122T081638Z
UID:49533-1733529600-1733615999@www.se-ma.ch
SUMMARY:Flawil: Blauring - Weihnachtsbäume und Gesang
DESCRIPTION:Der Blauring Flawil erfreut die Bewohner*innen des WPH Flawil und des 5egg Flawil mit seinem Gesang. Ab dem ersten Advent dürfen wir uns über geschmückte Christbäume auf der Treppe der katholischen Kirche freuen. Unter den Bäumen finden die Besucher*innen einen Gedanken oder Wunsch\, den sie gerne für sich oder zum Weiterschenken mitnehmen dürfen. Der Blauring Flawil wünscht allen eine schöne und besinnliche Advents- und Weihnachtszeit.
URL:https://www.se-ma.ch/event/flawil-blauring-weihnachtsbaeume-und-gesang/
CATEGORIES:Anlässe und Veranstaltungen,Kinder und Familien
END:VEVENT
BEGIN:VEVENT
DTSTART;TZID=Europe/Zurich:20241207T173000
DTEND;TZID=Europe/Zurich:20241207T173000
DTSTAMP:20260422T140525
CREATED:20231114T104501Z
LAST-MODIFIED:20231114T104805Z
UID:43977-1733592600-1733592600@www.se-ma.ch
SUMMARY:Flawil: Eucharistiefeier in Portugiesisch
DESCRIPTION:
URL:https://www.se-ma.ch/event/flawil-eucharistiefeier-in-portugiesisch-faellt-aus-9/
LOCATION:Kapelle St. Laurentius Flawil\, Enzenbühlstrasse 20\, Flawil\, 9230\, Schweiz
CATEGORIES:Gottesdienste
END:VEVENT
BEGIN:VEVENT
DTSTART;TZID=Europe/Zurich:20241207T173000
DTEND;TZID=Europe/Zurich:20241207T183000
DTSTAMP:20260422T140525
CREATED:20240417T065639Z
LAST-MODIFIED:20240417T065639Z
UID:46702-1733592600-1733596200@www.se-ma.ch
SUMMARY:Degersheim: Eucharistiefeier
DESCRIPTION:mit Abt Emmanuel
URL:https://www.se-ma.ch/event/degersheim-eucharistiefeier-34/
LOCATION:Jakobuskirche Degersheim\, Bergstrasse 10\, Degersheim\, 9113\, Schweiz
CATEGORIES:Gottesdienste
END:VEVENT
BEGIN:VEVENT
DTSTART;TZID=Europe/Zurich:20241208T084500
DTEND;TZID=Europe/Zurich:20241208T094500
DTSTAMP:20260422T140525
CREATED:20240208T111722Z
LAST-MODIFIED:20240208T111722Z
UID:45395-1733647500-1733651100@www.se-ma.ch
SUMMARY:Wolfertswil: Eucharistiefeier
DESCRIPTION:
URL:https://www.se-ma.ch/event/wolfertswil-eucharistiefeier/
LOCATION:Kirche Bruder Klaus\, Wolfertswil\, 9116
CATEGORIES:Gottesdienste
END:VEVENT
BEGIN:VEVENT
DTSTART;TZID=Europe/Zurich:20241208T090000
DTEND;TZID=Europe/Zurich:20241208T090000
DTSTAMP:20260422T140525
CREATED:20231114T134934Z
LAST-MODIFIED:20231114T134934Z
UID:44052-1733648400-1733648400@www.se-ma.ch
SUMMARY:Eucharistiefeier in Italienisch
DESCRIPTION:
URL:https://www.se-ma.ch/event/eucharistiefeier-in-italienisch-33/
LOCATION:Kapelle St. Laurentius Flawil\, Enzenbühlstrasse 20\, Flawil\, 9230\, Schweiz
CATEGORIES:Gottesdienste
END:VEVENT
BEGIN:VEVENT
DTSTART;TZID=Europe/Zurich:20241208T101500
DTEND;TZID=Europe/Zurich:20241208T101500
DTSTAMP:20260422T140525
CREATED:20240530T054213Z
LAST-MODIFIED:20240530T054213Z
UID:47586-1733652900-1733652900@www.se-ma.ch
SUMMARY:Flawil: Eucharistiefeier
DESCRIPTION:mit Erstkommunionkindern
URL:https://www.se-ma.ch/event/flawil-eucharistiefeier-22/
LOCATION:Kirche St. Laurentius Flawil\, Enzenbühlstrasse 20\, Flawil\, 9230\, Schweiz
CATEGORIES:Gottesdienste,Kinder und Familien
END:VEVENT
BEGIN:VEVENT
DTSTART;TZID=Europe/Zurich:20241206T150000
DTEND;TZID=Europe/Zurich:20241206T150000
DTSTAMP:20260422T140525
CREATED:20241009T065456Z
LAST-MODIFIED:20241009T065456Z
UID:48996-1733497200-1733497200@www.se-ma.ch
SUMMARY:Flawil: Krankensalbungs-Gottesdienst
DESCRIPTION:mit Eucharistiefeier\, anschliessend Kaffee und Kuchen im Pfarreizentrum\nDer Gottesdienst um 18.30 Uhr entfällt.
URL:https://www.se-ma.ch/event/flawil-krankensalbungs-gottesdienst/
LOCATION:Kirche St. Laurentius Flawil\, Enzenbühlstrasse 20\, Flawil\, 9230\, Schweiz
CATEGORIES:Gottesdienste
END:VEVENT
BEGIN:VEVENT
DTSTART;TZID=Europe/Zurich:20241208T173000
DTEND;TZID=Europe/Zurich:20241208T183000
DTSTAMP:20260422T140525
CREATED:20240807T083139Z
LAST-MODIFIED:20240807T083139Z
UID:48224-1733679000-1733682600@www.se-ma.ch
SUMMARY:Degersheim: Abendlob im Advent
DESCRIPTION:
URL:https://www.se-ma.ch/event/degersheim-abendlob-im-advent-6/
LOCATION:Jakobuskirche Kapelle Degersheim\, Bergstrasse 10\, Degersheim\, St. Gallen\, 9113\, Schweiz
CATEGORIES:Gottesdienste
END:VEVENT
BEGIN:VEVENT
DTSTART;TZID=Europe/Zurich:20241209T000000
DTEND;TZID=Europe/Zurich:20241209T000000
DTSTAMP:20260422T140525
CREATED:20241009T063423Z
LAST-MODIFIED:20241009T063423Z
UID:48993-1733702400-1733702400@www.se-ma.ch
SUMMARY:Niederglatt: Roratefeier
DESCRIPTION:mit der Fam.-Gottesdienstgruppe\nZeit noch nicht bestimmt
URL:https://www.se-ma.ch/event/niederglatt-roratefeier/
LOCATION:Felix + Regula Kirche Niederglatt\, Niederglatt\, 9240\, Schweiz
CATEGORIES:Gottesdienste,Kinder und Familien
END:VEVENT
BEGIN:VEVENT
DTSTART;TZID=Europe/Zurich:20241209T193000
DTEND;TZID=Europe/Zurich:20241209T203000
DTSTAMP:20260422T140525
CREATED:20240925T082633Z
LAST-MODIFIED:20240925T082633Z
UID:48845-1733772600-1733776200@www.se-ma.ch
SUMMARY:Degersheim: Schweigemeditation
DESCRIPTION:In der Kapelle der Kath. Kirche St. Jakobus werden wir gemeinsam meditieren. Alle Interessierten\, unabhängig von Konfession oder Kirchennähe\, sind dazu herzlich eingeladen. \nFür Auskünfte steht Walter Germann gerne zur Verfügung: T 071 371 29 38.
URL:https://www.se-ma.ch/event/degersheim-schweigemeditation-46/
LOCATION:Jakobuskirche Kapelle Degersheim\, Bergstrasse 10\, Degersheim\, St. Gallen\, 9113\, Schweiz
CATEGORIES:Anlässe und Veranstaltungen
END:VEVENT
BEGIN:VEVENT
DTSTART;TZID=Europe/Zurich:20241210T060000
DTEND;TZID=Europe/Zurich:20241210T070000
DTSTAMP:20260422T140525
CREATED:20240417T065750Z
LAST-MODIFIED:20240417T065750Z
UID:46704-1733810400-1733814000@www.se-ma.ch
SUMMARY:Degersheim: Rorate mit der Frauengemeinschaft
DESCRIPTION:
URL:https://www.se-ma.ch/event/degersheim-rorate-mit-der-frauengemeinschaft/
LOCATION:Jakobuskirche Degersheim\, Bergstrasse 10\, Degersheim\, 9113\, Schweiz
CATEGORIES:Gottesdienste
END:VEVENT
BEGIN:VEVENT
DTSTART;TZID=Europe/Zurich:20241211T143000
DTEND;TZID=Europe/Zurich:20241211T143000
DTSTAMP:20260422T140525
CREATED:20240117T081746Z
LAST-MODIFIED:20240117T081746Z
UID:45008-1733927400-1733927400@www.se-ma.ch
SUMMARY:Flawil: SEMAplus Senioren
DESCRIPTION:Adventsfeier
URL:https://www.se-ma.ch/event/flawil-semaplus-senioren-12/
LOCATION:Pfarreizentrum Flawil\, Enzenbühlstrasse 16\, Flawil\, 9230\, Schweiz
END:VEVENT
BEGIN:VEVENT
DTSTART;TZID=Europe/Zurich:20241211T143000
DTEND;TZID=Europe/Zurich:20241211T163000
DTSTAMP:20260422T140525
CREATED:20231205T145344Z
LAST-MODIFIED:20231205T145344Z
UID:44409-1733927400-1733934600@www.se-ma.ch
SUMMARY:Degersheim: ökum. Seniorennachmittag
DESCRIPTION:Weihnachtliche Feier mit dem Panflöten-Ensemble „Panträumer“.
URL:https://www.se-ma.ch/event/degersheim-oekum-seniorennachmittag-4/
LOCATION:evang. Kirchgemeindehaus Degersheim\, Steineggstrasse 12\, Degersheim\, 9113\, Schweiz
CATEGORIES:Anlässe und Veranstaltungen
END:VEVENT
BEGIN:VEVENT
DTSTART;TZID=Europe/Zurich:20241211T190000
DTEND;TZID=Europe/Zurich:20241211T200000
DTSTAMP:20260422T140525
CREATED:20230929T110538Z
LAST-MODIFIED:20230929T110538Z
UID:43284-1733943600-1733947200@www.se-ma.ch
SUMMARY:Degersheim: Klang & Stille
DESCRIPTION:
URL:https://www.se-ma.ch/event/degersheim-klang-stille-5/
LOCATION:Jakobuskirche Degersheim\, Bergstrasse 10\, Degersheim\, 9113\, Schweiz
CATEGORIES:Anlässe und Veranstaltungen
END:VEVENT
END:VCALENDAR