BEGIN:VCALENDAR
VERSION:2.0
PRODID:-//Seelsorgeeinheit Magdenau - ECPv6.15.20//NONSGML v1.0//EN
CALSCALE:GREGORIAN
METHOD:PUBLISH
X-ORIGINAL-URL:https://www.se-ma.ch
X-WR-CALDESC:Veranstaltungen für Seelsorgeeinheit Magdenau
REFRESH-INTERVAL;VALUE=DURATION:PT1H
X-Robots-Tag:noindex
X-PUBLISHED-TTL:PT1H
BEGIN:VTIMEZONE
TZID:Europe/Zurich
BEGIN:DAYLIGHT
TZOFFSETFROM:+0100
TZOFFSETTO:+0200
TZNAME:CEST
DTSTART:20230326T010000
END:DAYLIGHT
BEGIN:STANDARD
TZOFFSETFROM:+0200
TZOFFSETTO:+0100
TZNAME:CET
DTSTART:20231029T010000
END:STANDARD
BEGIN:DAYLIGHT
TZOFFSETFROM:+0100
TZOFFSETTO:+0200
TZNAME:CEST
DTSTART:20240331T010000
END:DAYLIGHT
BEGIN:STANDARD
TZOFFSETFROM:+0200
TZOFFSETTO:+0100
TZNAME:CET
DTSTART:20241027T010000
END:STANDARD
BEGIN:DAYLIGHT
TZOFFSETFROM:+0100
TZOFFSETTO:+0200
TZNAME:CEST
DTSTART:20250330T010000
END:DAYLIGHT
BEGIN:STANDARD
TZOFFSETFROM:+0200
TZOFFSETTO:+0100
TZNAME:CET
DTSTART:20251026T010000
END:STANDARD
BEGIN:DAYLIGHT
TZOFFSETFROM:+0100
TZOFFSETTO:+0200
TZNAME:CEST
DTSTART:20260329T010000
END:DAYLIGHT
BEGIN:STANDARD
TZOFFSETFROM:+0200
TZOFFSETTO:+0100
TZNAME:CET
DTSTART:20261025T010000
END:STANDARD
END:VTIMEZONE
BEGIN:VEVENT
DTSTART;VALUE=DATE:20241230
DTEND;VALUE=DATE:20250102
DTSTAMP:20260422T123118
CREATED:20241204T074841Z
LAST-MODIFIED:20241204T074841Z
UID:49972-1735516800-1735775999@www.se-ma.ch
SUMMARY:Flawil und Niederglatt: Die Sekretariate bleiben geschlossen.
DESCRIPTION:
URL:https://www.se-ma.ch/event/flawil-und-niederglatt-die-sekretariate-bleiben-geschlossen-2/
END:VEVENT
BEGIN:VEVENT
DTSTART;TZID=Europe/Zurich:20241231T080000
DTEND;TZID=Europe/Zurich:20250102T170000
DTSTAMP:20260422T123118
CREATED:20241203T160845Z
LAST-MODIFIED:20241203T160845Z
UID:49930-1735632000-1735837200@www.se-ma.ch
SUMMARY:Degersheim und Wolfertswil: Die Sekretariate bleiben geschlossen
DESCRIPTION:Die Sekretariate Degersheim und Wolfertswil bleiben geschlossen. Für dringende Anliegen können Sie jederzeit 071 393 14 14 wählen. Jemand aus unserem Pastoralteam hilft Ihnen gerne weiter.
URL:https://www.se-ma.ch/event/degersheim-und-wolfertswil-die-sekretariate-bleiben-geschlossen/
LOCATION:kath. Pfarramt Degersheim\, Friedbergstrasse 2\, 9113 Degersheim\, 9113\, Schweiz
CATEGORIES:Anlässe und Veranstaltungen
END:VEVENT
BEGIN:VEVENT
DTSTART;TZID=Europe/Zurich:20241231T234500
DTEND;TZID=Europe/Zurich:20250101T010000
DTSTAMP:20260422T123118
CREATED:20240712T134645Z
LAST-MODIFIED:20241022T134145Z
UID:48141-1735688700-1735693200@www.se-ma.ch
SUMMARY:Magdenau: Übergang ins Neue Jahr
DESCRIPTION:St. Verena Magdenau: Ein- und Ausläuten / Besinnung / Musik / Anstossen
URL:https://www.se-ma.ch/event/uebergang-ins-neue-jahr/
LOCATION:Kirche St. Verena Magdenau\, St. Verena 929\, Wolfertswil\, 9116\, Schweiz
CATEGORIES:Anlässe und Veranstaltungen,Gottesdienste
END:VEVENT
BEGIN:VEVENT
DTSTART;TZID=Europe/Zurich:20250103T183000
DTEND;TZID=Europe/Zurich:20250103T200000
DTSTAMP:20260422T123118
CREATED:20241218T093345Z
LAST-MODIFIED:20241218T093345Z
UID:50186-1735929000-1735934400@www.se-ma.ch
SUMMARY:Degersheim: Zämägang
DESCRIPTION:für einander da sein \nzusammen statt alleine \nHast du Lust\, mit mir und hoffentlich anderen Menschen zusammen zu sein? Dann komm einfach mit. \nVielleicht kennst du Menschen\, denen das freundliche und interessierte Miteinander gut tun würde. Mache sie aufmerksam auf dieses Angebot oder bring sie gleich selbst mit! \nEs braucht keine Anmeldung! \nTreffpunkt beim Parkplatz Föhrenwäldli Degersheim! \nIch freue mich auf dich! \nSilvan Hollenstein\, Seelsorger\, Tel. 079 743 73 89
URL:https://www.se-ma.ch/event/degersheim-zaemaegang-15/
LOCATION:Föhrenwäldli\, Berg 1\, Degersheim\, 9113 \, Schweiz
CATEGORIES:Anlässe und Veranstaltungen
END:VEVENT
BEGIN:VEVENT
DTSTART;TZID=Europe/Zurich:20250104T173000
DTEND;TZID=Europe/Zurich:20250104T183000
DTSTAMP:20260422T123118
CREATED:20250108T080628Z
LAST-MODIFIED:20250108T080628Z
UID:50333-1736011800-1736015400@www.se-ma.ch
SUMMARY:Degersheim: Eucharistiefeier
DESCRIPTION:mit Tegerscher Neujahrssegen und Stiftmessen
URL:https://www.se-ma.ch/event/degersheim-eucharistiefeier-36/
LOCATION:Jakobuskirche Degersheim\, Bergstrasse 10\, Degersheim\, 9113\, Schweiz
CATEGORIES:Gottesdienste
END:VEVENT
BEGIN:VEVENT
DTSTART;TZID=Europe/Zurich:20250105T084500
DTEND;TZID=Europe/Zurich:20250105T084500
DTSTAMP:20260422T123118
CREATED:20241203T183409Z
LAST-MODIFIED:20241203T183409Z
UID:49936-1736066700-1736066700@www.se-ma.ch
SUMMARY:Niederglatt: Eucharistiefeier
DESCRIPTION:
URL:https://www.se-ma.ch/event/niederglatt-eucharistiefeier-8/
LOCATION:Felix + Regula Kirche Niederglatt\, Niederglatt\, 9240\, Schweiz
CATEGORIES:Gottesdienste
END:VEVENT
BEGIN:VEVENT
DTSTART;TZID=Europe/Zurich:20250105T093000
DTEND;TZID=Europe/Zurich:20250105T093000
DTSTAMP:20260422T123118
CREATED:20241124T142402Z
LAST-MODIFIED:20241124T142402Z
UID:49644-1736069400-1736069400@www.se-ma.ch
SUMMARY:Flawil: Eucharistiefeier in Spanisch
DESCRIPTION:ab 9.00 Uhr Beichtgelegenheit
URL:https://www.se-ma.ch/event/flawil-eucharistiefeier-in-spanisch-24/
LOCATION:Kapelle St. Laurentius Flawil\, Enzenbühlstrasse 20\, Flawil\, 9230\, Schweiz
CATEGORIES:Gottesdienste
END:VEVENT
BEGIN:VEVENT
DTSTART;TZID=Europe/Zurich:20250105T101500
DTEND;TZID=Europe/Zurich:20250105T101500
DTSTAMP:20260422T123118
CREATED:20241124T143530Z
LAST-MODIFIED:20241124T143530Z
UID:49678-1736072100-1736072100@www.se-ma.ch
SUMMARY:Flawil: Sternsinger-Aussende-Gottesdienst\, Eucharistiefeier
DESCRIPTION:anschliessend Neujahrapéro
URL:https://www.se-ma.ch/event/flawil-sternsinger-aussende-gottesdienst-eucharistiefeier/
LOCATION:Kirche St. Laurentius Flawil\, Enzenbühlstrasse 20\, Flawil\, 9230\, Schweiz
CATEGORIES:Gottesdienste,Kinder und Familien
END:VEVENT
BEGIN:VEVENT
DTSTART;TZID=Europe/Zurich:20250106T193000
DTEND;TZID=Europe/Zurich:20250106T203000
DTSTAMP:20260422T123118
CREATED:20240925T082830Z
LAST-MODIFIED:20240925T082830Z
UID:48849-1736191800-1736195400@www.se-ma.ch
SUMMARY:Degersheim: Schweigemeditation
DESCRIPTION:In der Kapelle der Kath. Kirche St. Jakobus werden wir gemeinsam meditieren. Alle Interessierten\, unabhängig von Konfession oder Kirchennähe\, sind dazu herzlich eingeladen. \nFür Auskünfte steht Walter Germann gerne zur Verfügung: T 071 371 29 38.
URL:https://www.se-ma.ch/event/degersheim-schweigemeditation-48/
LOCATION:Jakobuskirche Kapelle Degersheim\, Bergstrasse 10\, Degersheim\, St. Gallen\, 9113\, Schweiz
CATEGORIES:Anlässe und Veranstaltungen
END:VEVENT
BEGIN:VEVENT
DTSTART;TZID=Europe/Zurich:20250109T150000
DTEND;TZID=Europe/Zurich:20250109T163000
DTSTAMP:20260422T123118
CREATED:20241209T070511Z
LAST-MODIFIED:20241209T070525Z
UID:50040-1736434800-1736440200@www.se-ma.ch
SUMMARY:Trauercafé
DESCRIPTION:Das Trauercafé bietet Angehörigen die Möglichkeit\, über das Erlebte zu sprechen und sich mit anderen Betroffenen auszutauschen. Es ist keine Anmeldung nötig. \nHomepage Ökum. Hospizgruppe Flawil
URL:https://www.se-ma.ch/event/trauercafe-duplikat/
LOCATION:Haus 5egg\, Bahnhofstrasse 33\, Flawil\, St. Gallen\, 9230\, Schweiz
CATEGORIES:Anlässe und Veranstaltungen
END:VEVENT
BEGIN:VEVENT
DTSTART;TZID=Europe/Zurich:20250109T190000
DTEND;TZID=Europe/Zurich:20250109T190000
DTSTAMP:20260422T123118
CREATED:20241206T183954Z
LAST-MODIFIED:20241206T183954Z
UID:50017-1736449200-1736449200@www.se-ma.ch
SUMMARY:Flawiler Friedensgebet
DESCRIPTION:In Flawil treffen sich Angehörige verschiedener Konfessionen zum Friedensgebet in der kath. Kapelle \nDaten Flawiler Friedensgebet \n 
URL:https://www.se-ma.ch/event/flawiler-friedensgebet-40/
LOCATION:Pfarrei St. Laurentius\, Flawil \, Schweiz
CATEGORIES:Anlässe und Veranstaltungen,Gottesdienste
END:VEVENT
BEGIN:VEVENT
DTSTART;TZID=Europe/Zurich:20250111T173000
DTEND;TZID=Europe/Zurich:20250111T173000
DTSTAMP:20260422T123118
CREATED:20241124T141537Z
LAST-MODIFIED:20241124T141537Z
UID:49609-1736616600-1736616600@www.se-ma.ch
SUMMARY:Flawil: Eucharistiefeier in Portugiesisch
DESCRIPTION:
URL:https://www.se-ma.ch/event/flawil-eucharistiefeier-in-portugiesisch-15/
LOCATION:Kapelle St. Laurentius Flawil\, Enzenbühlstrasse 20\, Flawil\, 9230\, Schweiz
CATEGORIES:Gottesdienste
END:VEVENT
BEGIN:VEVENT
DTSTART;TZID=Europe/Zurich:20250111T173000
DTEND;TZID=Europe/Zurich:20250111T183000
DTSTAMP:20260422T123118
CREATED:20250108T080827Z
LAST-MODIFIED:20250108T080827Z
UID:50335-1736616600-1736620200@www.se-ma.ch
SUMMARY:Degersheim: Dankes-Gottesdienst\, Eucharistiefeier
DESCRIPTION:Dankes-Gottesdienst der Sternsinger\, Eucharistie mit Salz- und Wassersegnung\, Gedächtnis
URL:https://www.se-ma.ch/event/degersheim-dankes-gottesdienst-eucharistiefeier/
LOCATION:Jakobuskirche Degersheim\, Bergstrasse 10\, Degersheim\, 9113\, Schweiz
CATEGORIES:Gottesdienste
END:VEVENT
BEGIN:VEVENT
DTSTART;TZID=Europe/Zurich:20250112T084500
DTEND;TZID=Europe/Zurich:20250112T094500
DTSTAMP:20260422T123118
CREATED:20241115T094840Z
LAST-MODIFIED:20241115T095223Z
UID:49382-1736671500-1736675100@www.se-ma.ch
SUMMARY:Wolfertswil: Sternsinger Dankesgottesdienst
DESCRIPTION:Eucharistiefeier mit Salz- und Wassersegnung
URL:https://www.se-ma.ch/event/wolfertswil-sternsinger-dankesgottesdienst/
LOCATION:Kirche Bruder Klaus\, Wolfertswil\, 9116
END:VEVENT
BEGIN:VEVENT
DTSTART;TZID=Europe/Zurich:20250112T090000
DTEND;TZID=Europe/Zurich:20250112T090000
DTSTAMP:20260422T123118
CREATED:20231114T134952Z
LAST-MODIFIED:20231114T134952Z
UID:44054-1736672400-1736672400@www.se-ma.ch
SUMMARY:Eucharistiefeier in Italienisch
DESCRIPTION:
URL:https://www.se-ma.ch/event/eucharistiefeier-in-italienisch-34/
LOCATION:Kapelle St. Laurentius Flawil\, Enzenbühlstrasse 20\, Flawil\, 9230\, Schweiz
CATEGORIES:Gottesdienste
END:VEVENT
BEGIN:VEVENT
DTSTART;TZID=Europe/Zurich:20250112T101500
DTEND;TZID=Europe/Zurich:20250112T101500
DTSTAMP:20260422T123118
CREATED:20241124T143649Z
LAST-MODIFIED:20241124T143649Z
UID:49680-1736676900-1736676900@www.se-ma.ch
SUMMARY:Flawil: Eucharistiefeier
DESCRIPTION:mitgestaltet von den jungen Erwachsenen auf dem Firmweg
URL:https://www.se-ma.ch/event/flawil-eucharistiefeier-26/
LOCATION:Kirche St. Laurentius Flawil\, Enzenbühlstrasse 20\, Flawil\, 9230\, Schweiz
CATEGORIES:Gottesdienste
END:VEVENT
BEGIN:VEVENT
DTSTART;TZID=Europe/Zurich:20250112T170000
DTEND;TZID=Europe/Zurich:20250112T183000
DTSTAMP:20260422T123118
CREATED:20250108T081325Z
LAST-MODIFIED:20250108T081325Z
UID:50337-1736701200-1736706600@www.se-ma.ch
SUMMARY:Degersheim: Dreikönigskonzert
DESCRIPTION:Festkonzert „Bonne Année“\nZum Jahresbeginn findet mit dem Dreikönigskonzert bereits ein erster kultureller Höhepunkt statt. Festliche Klänge\, geformt zu einem musikalischen Hochgenuss mit dem Sinfonischen Orchester Wil und Wolfgang Sieber\, Luzern. Das Konzert zu Ehren der Heiligen Familie und der drei Könige bietet auch Überraschendes.\nKeine Platzreservationen möglich! \nwww.dreikönigskonzert.ch
URL:https://www.se-ma.ch/event/degersheim-dreikoenigskonzert/
LOCATION:Jakobuskirche Degersheim\, Bergstrasse 10\, Degersheim\, 9113\, Schweiz
CATEGORIES:Anlässe und Veranstaltungen
END:VEVENT
BEGIN:VEVENT
DTSTART;TZID=Europe/Zurich:20250113T193000
DTEND;TZID=Europe/Zurich:20250113T203000
DTSTAMP:20260422T123118
CREATED:20240925T082945Z
LAST-MODIFIED:20240925T082945Z
UID:48851-1736796600-1736800200@www.se-ma.ch
SUMMARY:Degersheim: Schweigemeditation
DESCRIPTION:In der Kapelle der Kath. Kirche St. Jakobus werden wir gemeinsam meditieren. Alle Interessierten\, unabhängig von Konfession oder Kirchennähe\, sind dazu herzlich eingeladen. \nFür Auskünfte steht Walter Germann gerne zur Verfügung: T 071 371 29 38.
URL:https://www.se-ma.ch/event/degersheim-schweigemeditation-49/
LOCATION:Jakobuskirche Kapelle Degersheim\, Bergstrasse 10\, Degersheim\, St. Gallen\, 9113\, Schweiz
CATEGORIES:Anlässe und Veranstaltungen
END:VEVENT
BEGIN:VEVENT
DTSTART;TZID=Europe/Zurich:20250115T114500
DTEND;TZID=Europe/Zurich:20250115T140000
DTSTAMP:20260422T123118
CREATED:20240807T060440Z
LAST-MODIFIED:20240807T060440Z
UID:48195-1736941500-1736949600@www.se-ma.ch
SUMMARY:Degersheim: zämä ässä
DESCRIPTION:Wir freuen uns über alle\, die Lust haben\, gemeinsam zu essen\, zu geniessen und zu plaudern. Ein bunt zusammengewürfeltes Küchenteam kocht und serviert speziell für Sie! Der Preis beträgt Fr. 10.00. Bitte geben Sie bei der Anmeldung an\, falls Sie vegetarisch essen möchten! Anmeldungen bitte bis spätestens am Freitag bis 11.00 Uhr\, vor dem „zämä ässä“ an: oder Tel. 071 371 10 17
URL:https://www.se-ma.ch/event/degersheim-zaemae-aessae-12/
LOCATION:Pfarreiheim
CATEGORIES:Anlässe und Veranstaltungen
END:VEVENT
BEGIN:VEVENT
DTSTART;TZID=Europe/Zurich:20250115T143000
DTEND;TZID=Europe/Zurich:20250115T170000
DTSTAMP:20260422T123118
CREATED:20241216T074913Z
LAST-MODIFIED:20241216T074913Z
UID:50113-1736951400-1736960400@www.se-ma.ch
SUMMARY:Flawil: SEMAplus-Senioren
DESCRIPTION:Filmnachmittag \nJahresprogramm SEMAplus
URL:https://www.se-ma.ch/event/flawil-semaplus-senioren-13/
LOCATION:Pfarreizentrum Flawil\, Enzenbühlstrasse 16\, Flawil\, 9230\, Schweiz
CATEGORIES:Anlässe und Veranstaltungen
END:VEVENT
BEGIN:VEVENT
DTSTART;TZID=Europe/Zurich:20250115T190000
DTEND;TZID=Europe/Zurich:20250115T190000
DTSTAMP:20260422T123118
CREATED:20250105T153311Z
LAST-MODIFIED:20250105T153311Z
UID:50278-1736967600-1736967600@www.se-ma.ch
SUMMARY:Begegnungsmosaik: LineDance - für jederMann und Frau
DESCRIPTION:Flyer Begegnungsmosaik
URL:https://www.se-ma.ch/event/begegnungsmosaik-linedance-fuer-jedermann-und-frau/
LOCATION:Pfarreizentrum Flawil\, Enzenbühlstrasse 16\, Flawil\, 9230\, Schweiz
CATEGORIES:Anlässe und Veranstaltungen
END:VEVENT
BEGIN:VEVENT
DTSTART;TZID=Europe/Zurich:20250116T180000
DTEND;TZID=Europe/Zurich:20250116T180000
DTSTAMP:20260422T123118
CREATED:20250105T153553Z
LAST-MODIFIED:20250105T153553Z
UID:50280-1737050400-1737050400@www.se-ma.ch
SUMMARY:Begegnungsmosaik: Winterwanderung zur Kirche Wolfertswil – mit Führung in der renovierten Kirche
DESCRIPTION:ab Parkplatz Lindensaal \nFlyer Begegnungsmosaik
URL:https://www.se-ma.ch/event/begegnungsmosaik-winterwanderung-zur-kirche-wolfertswil-mit-fuehrung-in-der-renovierten-kirche/
LOCATION:Lindensaal\, Lindenstrasse 6b\, Flawil\, 9230
CATEGORIES:Anlässe und Veranstaltungen
END:VEVENT
BEGIN:VEVENT
DTSTART;TZID=Europe/Zurich:20250117T183000
DTEND;TZID=Europe/Zurich:20250117T183000
DTSTAMP:20260422T123118
CREATED:20250105T154044Z
LAST-MODIFIED:20250105T154200Z
UID:50282-1737138600-1737138600@www.se-ma.ch
SUMMARY:Begegnungsmosaik: Frühlingshafte Apéro-Ideen – fein\, unkompliziert und schön präsentiert
DESCRIPTION:im Pfarreizentrum\, Anmeldung: bis Mittwoch\, 8. Januar im Pfarreisekretariat\, 071 393 45 45 oder hc.am-esobfsctd-78373e@liwalf-tairaterkes\, Teilnehmerzahl begrenzt\nKosten: Fr. 10.00 \nFlyer Begegnungsmosaik
URL:https://www.se-ma.ch/event/begegnungsmosaik-fruehlingshafte-apero-ideen-fein-unkompliziert-und-schoen-praesentiert/
LOCATION:Pfarreizentrum Flawil\, Enzenbühlstrasse 16\, Flawil\, 9230\, Schweiz
CATEGORIES:Anlässe und Veranstaltungen
END:VEVENT
BEGIN:VEVENT
DTSTART;VALUE=DATE:20250118
DTEND;VALUE=DATE:20250119
DTSTAMP:20260422T123118
CREATED:20250105T154423Z
LAST-MODIFIED:20250105T154423Z
UID:50285-1737158400-1737244799@www.se-ma.ch
SUMMARY:Begegnungsmosaik: Dance-Beat
DESCRIPTION:im Pfarreizentrum\, Vorführungen um 10.00\, 14.00\, 17.30\, 20.30 Uhr\, Billetverkauf (Fr. 5.00) unter: www.eventfrog.ch\, Unkostenbeitrag: Kollekte für Kostüme und Lichttechnik \nFlyer Begegnungsmosaik
URL:https://www.se-ma.ch/event/begegnungsmosaik-dance-beat/
LOCATION:Pfarreizentrum Flawil\, Enzenbühlstrasse 16\, Flawil\, 9230\, Schweiz
CATEGORIES:Anlässe und Veranstaltungen
END:VEVENT
BEGIN:VEVENT
DTSTART;TZID=Europe/Zurich:20250118T093000
DTEND;TZID=Europe/Zurich:20250118T110000
DTSTAMP:20260422T123118
CREATED:20241217T104522Z
LAST-MODIFIED:20241217T104658Z
UID:50160-1737192600-1737198000@www.se-ma.ch
SUMMARY:Flawil: ökumenische Chinderfiir
DESCRIPTION:Die Chinderfiir richtet sich an Kinder ab 3 Jahren und ihre erwachsenen Begleitpersonen. Während einer halben Stunde machen wir uns mit den Kindern und ihren erwachsenen Begleitpersonen auf den Weg\, den christlichen Glauben mit Musik\, einer Geschichte\, Spiel und Spass zu entdecken.\nAnschliessend gemeinsam Znüniessen\,  Kreativ-sein\, Spiel und Spass. \nFlyer Chinderfiir
URL:https://www.se-ma.ch/event/flawil-oekumenische-chinderfiir-duplikat/
LOCATION:Evangelisches Kirchgemeindezentrum Flawil\, Lindenstrasse 6a\, Flawil\, SG\, 9230\, Schweiz
CATEGORIES:Gottesdienste,Kinder und Familien
END:VEVENT
BEGIN:VEVENT
DTSTART;TZID=Europe/Zurich:20250118T100000
DTEND;TZID=Europe/Zurich:20250118T120000
DTSTAMP:20260422T123118
CREATED:20241022T132800Z
LAST-MODIFIED:20241022T132813Z
UID:49152-1737194400-1737201600@www.se-ma.ch
SUMMARY:Degersheim: ökum. Chinderchile
DESCRIPTION:Die Gestaltung des Programms ist auf die Fähigkeiten von Kindern im Alter von 3 – 6 Jahren mit ihren Begleitpersonen ausgerichtet. \nIm Anschluss an die Feier geniessen wir das gemütliche Zusammensein im Pfarreiheim.
URL:https://www.se-ma.ch/event/degersheim-oekum-chinderchile-7/
LOCATION:Pfarreiheim
CATEGORIES:Kinder und Familien
END:VEVENT
BEGIN:VEVENT
DTSTART;TZID=Europe/Zurich:20250119T084500
DTEND;TZID=Europe/Zurich:20250119T084500
DTSTAMP:20260422T123118
CREATED:20241203T183436Z
LAST-MODIFIED:20241203T183436Z
UID:49938-1737276300-1737276300@www.se-ma.ch
SUMMARY:Niederglatt: Kommunionfeier
DESCRIPTION:
URL:https://www.se-ma.ch/event/niederglatt-kommunionfeier-11/
LOCATION:Felix + Regula Kirche Niederglatt\, Niederglatt\, 9240\, Schweiz
CATEGORIES:Gottesdienste
END:VEVENT
BEGIN:VEVENT
DTSTART;TZID=Europe/Zurich:20250119T093000
DTEND;TZID=Europe/Zurich:20250119T093000
DTSTAMP:20260422T123118
CREATED:20241124T142741Z
LAST-MODIFIED:20241124T142741Z
UID:49659-1737279000-1737279000@www.se-ma.ch
SUMMARY:Flawil: Eucharistiefeier in Spanisch
DESCRIPTION:
URL:https://www.se-ma.ch/event/flawil-eucharistiefeier-in-spanisch-37/
LOCATION:Kapelle St. Laurentius Flawil\, Enzenbühlstrasse 20\, Flawil\, 9230\, Schweiz
CATEGORIES:Gottesdienste
END:VEVENT
BEGIN:VEVENT
DTSTART;TZID=Europe/Zurich:20250119T094000
DTEND;TZID=Europe/Zurich:20250119T104000
DTSTAMP:20260422T123118
CREATED:20250108T081642Z
LAST-MODIFIED:20250108T081642Z
UID:50339-1737279600-1737283200@www.se-ma.ch
SUMMARY:Degersheim: ökum. Gottesdienst in der reformierten Kirche
DESCRIPTION:Der Gottesdienst wird zum Thema „Einheit der Christen“ gestaltet. Wir freuen uns\, wenn Sie mit uns zusammen feiern!
URL:https://www.se-ma.ch/event/degersheim-oekum-gottesdienst-in-der-reformierten-kirche/
LOCATION:evang. Kirche Degersheim\, Steineggstrasse 10\, Degersheim\, 9113
CATEGORIES:Gottesdienste
END:VEVENT
BEGIN:VEVENT
DTSTART;TZID=Europe/Zurich:20250119T190000
DTEND;TZID=Europe/Zurich:20250119T190000
DTSTAMP:20260422T123118
CREATED:20250105T155037Z
LAST-MODIFIED:20250105T155037Z
UID:50287-1737313200-1737313200@www.se-ma.ch
SUMMARY:Begegnungsmosaik: Tanzcafé
DESCRIPTION:im Pfarreizentrum \nFlyer Begegnungsmosaik
URL:https://www.se-ma.ch/event/begegnungsmosaik-tanzcafe/
LOCATION:Pfarreizentrum Flawil\, Enzenbühlstrasse 16\, Flawil\, 9230\, Schweiz
CATEGORIES:Anlässe und Veranstaltungen
END:VEVENT
END:VCALENDAR