BEGIN:VCALENDAR
VERSION:2.0
PRODID:-//Seelsorgeeinheit Magdenau - ECPv6.15.20//NONSGML v1.0//EN
CALSCALE:GREGORIAN
METHOD:PUBLISH
X-ORIGINAL-URL:https://www.se-ma.ch
X-WR-CALDESC:Veranstaltungen für Seelsorgeeinheit Magdenau
REFRESH-INTERVAL;VALUE=DURATION:PT1H
X-Robots-Tag:noindex
X-PUBLISHED-TTL:PT1H
BEGIN:VTIMEZONE
TZID:Europe/Zurich
BEGIN:DAYLIGHT
TZOFFSETFROM:+0100
TZOFFSETTO:+0200
TZNAME:CEST
DTSTART:20240331T010000
END:DAYLIGHT
BEGIN:STANDARD
TZOFFSETFROM:+0200
TZOFFSETTO:+0100
TZNAME:CET
DTSTART:20241027T010000
END:STANDARD
BEGIN:DAYLIGHT
TZOFFSETFROM:+0100
TZOFFSETTO:+0200
TZNAME:CEST
DTSTART:20250330T010000
END:DAYLIGHT
BEGIN:STANDARD
TZOFFSETFROM:+0200
TZOFFSETTO:+0100
TZNAME:CET
DTSTART:20251026T010000
END:STANDARD
BEGIN:DAYLIGHT
TZOFFSETFROM:+0100
TZOFFSETTO:+0200
TZNAME:CEST
DTSTART:20260329T010000
END:DAYLIGHT
BEGIN:STANDARD
TZOFFSETFROM:+0200
TZOFFSETTO:+0100
TZNAME:CET
DTSTART:20261025T010000
END:STANDARD
END:VTIMEZONE
BEGIN:VEVENT
DTSTART;TZID=Europe/Zurich:20250402T190000
DTEND;TZID=Europe/Zurich:20250402T190000
DTSTAMP:20260422T072853
CREATED:20250327T065944Z
LAST-MODIFIED:20250327T070004Z
UID:51807-1743620400-1743620400@www.se-ma.ch
SUMMARY:Niederglatt: Frauengemeinschaft − Outdoor-Fitness
DESCRIPTION:Treffpunkt: Oberstufe Oberuzwil
URL:https://www.se-ma.ch/event/niederglatt-frauengemeinschaft-%e2%88%92-outdoor-fitness/
LOCATION:St. Gallen
CATEGORIES:Anlässe und Veranstaltungen
END:VEVENT
BEGIN:VEVENT
DTSTART;TZID=Europe/Zurich:20250403T150000
DTEND;TZID=Europe/Zurich:20250403T163000
DTSTAMP:20260422T072853
CREATED:20241209T070624Z
LAST-MODIFIED:20241209T070624Z
UID:50047-1743692400-1743697800@www.se-ma.ch
SUMMARY:Trauercafé
DESCRIPTION:Das Trauercafé bietet Angehörigen die Möglichkeit\, über das Erlebte zu sprechen und sich mit anderen Betroffenen auszutauschen. Es ist keine Anmeldung nötig. \nHomepage Ökum. Hospizgruppe Flawil
URL:https://www.se-ma.ch/event/trauercafe-23/
LOCATION:Haus 5egg\, Bahnhofstrasse 33\, Flawil\, St. Gallen\, 9230\, Schweiz
CATEGORIES:Anlässe und Veranstaltungen
END:VEVENT
BEGIN:VEVENT
DTSTART;TZID=Europe/Zurich:20250403T190000
DTEND;TZID=Europe/Zurich:20250403T190000
DTSTAMP:20260422T072853
CREATED:20241206T184036Z
LAST-MODIFIED:20241206T184036Z
UID:50021-1743706800-1743706800@www.se-ma.ch
SUMMARY:Flawiler Friedensgebet
DESCRIPTION:In Flawil treffen sich Angehörige verschiedener Konfessionen zum Friedensgebet in der kath. Kapelle \nDaten Flawiler Friedensgebet \n 
URL:https://www.se-ma.ch/event/flawiler-friedensgebet-42/
LOCATION:Pfarrei St. Laurentius\, Flawil \, Schweiz
CATEGORIES:Anlässe und Veranstaltungen,Gottesdienste
END:VEVENT
BEGIN:VEVENT
DTSTART;TZID=Europe/Zurich:20250404T113000
DTEND;TZID=Europe/Zurich:20250404T113000
DTSTAMP:20260422T072853
CREATED:20250224T080609Z
LAST-MODIFIED:20250224T080609Z
UID:51158-1743766200-1743766200@www.se-ma.ch
SUMMARY:Flawil: Suppenzmittag am Freitag
DESCRIPTION:
URL:https://www.se-ma.ch/event/flawil-suppenzmittag-am-freitag-5/
LOCATION:Pfarreizentrum Flawil\, Enzenbühlstrasse 16\, Flawil\, 9230\, Schweiz
CATEGORIES:Anlässe und Veranstaltungen
END:VEVENT
BEGIN:VEVENT
DTSTART;TZID=Europe/Zurich:20250404T183000
DTEND;TZID=Europe/Zurich:20250404T200000
DTSTAMP:20260422T072853
CREATED:20241218T093549Z
LAST-MODIFIED:20241218T093549Z
UID:50190-1743791400-1743796800@www.se-ma.ch
SUMMARY:Degersheim: Zämägang
DESCRIPTION:für einander da sein \nzusammen statt alleine \nHast du Lust\, mit mir und hoffentlich anderen Menschen zusammen zu sein? Dann komm einfach mit. \nVielleicht kennst du Menschen\, denen das freundliche und interessierte Miteinander gut tun würde. Mache sie aufmerksam auf dieses Angebot oder bring sie gleich selbst mit! \nEs braucht keine Anmeldung! \nTreffpunkt beim Parkplatz Föhrenwäldli Degersheim! \nIch freue mich auf dich! \nSilvan Hollenstein\, Seelsorger\, Tel. 079 743 73 89
URL:https://www.se-ma.ch/event/degersheim-zaemaegang-17/
LOCATION:Föhrenwäldli\, Berg 1\, Degersheim\, 9113 \, Schweiz
CATEGORIES:Anlässe und Veranstaltungen
END:VEVENT
BEGIN:VEVENT
DTSTART;TZID=Europe/Zurich:20250405T173000
DTEND;TZID=Europe/Zurich:20250405T183000
DTSTAMP:20260422T072853
CREATED:20250205T094035Z
LAST-MODIFIED:20250205T094035Z
UID:50814-1743874200-1743877800@www.se-ma.ch
SUMMARY:Degersheim: Kommunionfeier
DESCRIPTION:Stiftmessen
URL:https://www.se-ma.ch/event/degersheim-kommunionfeier-26/
LOCATION:Jakobuskirche Degersheim\, Bergstrasse 10\, Degersheim\, 9113\, Schweiz
CATEGORIES:Gottesdienste
END:VEVENT
BEGIN:VEVENT
DTSTART;TZID=Europe/Zurich:20250406T084500
DTEND;TZID=Europe/Zurich:20250406T084500
DTSTAMP:20260422T072853
CREATED:20241115T100458Z
LAST-MODIFIED:20241115T100510Z
UID:49403-1743929100-1743929100@www.se-ma.ch
SUMMARY:Wolfertswil: Kommunionfeier
DESCRIPTION:
URL:https://www.se-ma.ch/event/wolfertswil-kommunionfeier-7/
LOCATION:Kirche Bruder Klaus\, Wolfertswil\, 9116
END:VEVENT
BEGIN:VEVENT
DTSTART;TZID=Europe/Zurich:20250406T093000
DTEND;TZID=Europe/Zurich:20250406T093000
DTSTAMP:20260422T072853
CREATED:20241124T142522Z
LAST-MODIFIED:20241124T142522Z
UID:49653-1743931800-1743931800@www.se-ma.ch
SUMMARY:Flawil: Eucharistiefeier in Spanisch
DESCRIPTION:ab 9.00 Uhr Beichtgelegenheit
URL:https://www.se-ma.ch/event/flawil-eucharistiefeier-in-spanisch-34/
LOCATION:Kapelle St. Laurentius Flawil\, Enzenbühlstrasse 20\, Flawil\, 9230\, Schweiz
CATEGORIES:Gottesdienste
END:VEVENT
BEGIN:VEVENT
DTSTART;TZID=Europe/Zurich:20250406T101500
DTEND;TZID=Europe/Zurich:20250406T101500
DTSTAMP:20260422T072853
CREATED:20241124T144752Z
LAST-MODIFIED:20241124T144752Z
UID:49698-1743934500-1743934500@www.se-ma.ch
SUMMARY:Flawil: Kommunionfeier
DESCRIPTION:
URL:https://www.se-ma.ch/event/flawil-kommunionfeier-26/
LOCATION:Kirche St. Laurentius Flawil\, Enzenbühlstrasse 20\, Flawil\, 9230\, Schweiz
CATEGORIES:Gottesdienste
END:VEVENT
BEGIN:VEVENT
DTSTART;TZID=Europe/Zurich:20250406T173000
DTEND;TZID=Europe/Zurich:20250406T183000
DTSTAMP:20260422T072853
CREATED:20250205T094139Z
LAST-MODIFIED:20250205T094139Z
UID:50817-1743960600-1743964200@www.se-ma.ch
SUMMARY:Degersheim: Abendlob zur Fastenzeit
DESCRIPTION:
URL:https://www.se-ma.ch/event/degersheim-abendlob-zur-fastenzeit-8/
LOCATION:Jakobuskirche Kapelle Degersheim\, Bergstrasse 10\, Degersheim\, St. Gallen\, 9113\, Schweiz
CATEGORIES:Gottesdienste
END:VEVENT
BEGIN:VEVENT
DTSTART;TZID=Europe/Zurich:20250406T193000
DTEND;TZID=Europe/Zurich:20250406T200000
DTSTAMP:20260422T072853
CREATED:20250122T142118Z
LAST-MODIFIED:20250122T142118Z
UID:50517-1743967800-1743969600@www.se-ma.ch
SUMMARY:Ökumenische Fastenwoche
DESCRIPTION:Mondphasen – Lebensphasen
URL:https://www.se-ma.ch/event/oekumenische-fastenwoche-3/
LOCATION:Unterkapellenraum Flawil
CATEGORIES:Anlässe und Veranstaltungen
END:VEVENT
BEGIN:VEVENT
DTSTART;TZID=Europe/Zurich:20250407T193000
DTEND;TZID=Europe/Zurich:20250407T200000
DTSTAMP:20260422T072853
CREATED:20250122T142133Z
LAST-MODIFIED:20250122T142133Z
UID:50519-1744054200-1744056000@www.se-ma.ch
SUMMARY:Ökumenische Fastenwoche
DESCRIPTION:Mondphasen – Lebensphasen
URL:https://www.se-ma.ch/event/oekumenische-fastenwoche-4/
LOCATION:Unterkapellenraum Flawil
CATEGORIES:Anlässe und Veranstaltungen
END:VEVENT
BEGIN:VEVENT
DTSTART;TZID=Europe/Zurich:20250408T193000
DTEND;TZID=Europe/Zurich:20250408T200000
DTSTAMP:20260422T072853
CREATED:20250122T142150Z
LAST-MODIFIED:20250122T142150Z
UID:50521-1744140600-1744142400@www.se-ma.ch
SUMMARY:Ökumenische Fastenwoche
DESCRIPTION:Mondphasen – Lebensphasen
URL:https://www.se-ma.ch/event/oekumenische-fastenwoche-5/
LOCATION:Unterkapellenraum Flawil
CATEGORIES:Anlässe und Veranstaltungen
END:VEVENT
BEGIN:VEVENT
DTSTART;TZID=Europe/Zurich:20250409T143000
DTEND;TZID=Europe/Zurich:20250409T170000
DTSTAMP:20260422T072853
CREATED:20241216T075213Z
LAST-MODIFIED:20241216T075213Z
UID:50119-1744209000-1744218000@www.se-ma.ch
SUMMARY:Flawil: SEMAplus-Senioren
DESCRIPTION:Der besondere Geburtstag – lassen Sie sich überraschen \nJahresprogramm SEMAplus
URL:https://www.se-ma.ch/event/flawil-semaplus-senioren-16/
LOCATION:Pfarreizentrum Flawil\, Enzenbühlstrasse 16\, Flawil\, 9230\, Schweiz
CATEGORIES:Anlässe und Veranstaltungen
END:VEVENT
BEGIN:VEVENT
DTSTART;TZID=Europe/Zurich:20250409T193000
DTEND;TZID=Europe/Zurich:20250409T200000
DTSTAMP:20260422T072853
CREATED:20250122T142202Z
LAST-MODIFIED:20250122T142202Z
UID:50523-1744227000-1744228800@www.se-ma.ch
SUMMARY:Ökumenische Fastenwoche
DESCRIPTION:Mondphasen – Lebensphasen
URL:https://www.se-ma.ch/event/oekumenische-fastenwoche-6/
LOCATION:Unterkapellenraum Flawil
CATEGORIES:Anlässe und Veranstaltungen
END:VEVENT
BEGIN:VEVENT
DTSTART;TZID=Europe/Zurich:20250410T080000
DTEND;TZID=Europe/Zurich:20250410T170000
DTSTAMP:20260422T072853
CREATED:20240918T073206Z
LAST-MODIFIED:20250131T074937Z
UID:48694-1744272000-1744304400@www.se-ma.ch
SUMMARY:Degersheim: Friedensgebet in der evang. Kirche
DESCRIPTION:Wir beten für den Frieden in unserer Welt.
URL:https://www.se-ma.ch/event/degersheim-friedensgebet-20/
LOCATION:evang. Kirche Degersheim\, Steineggstrasse 10\, Degersheim\, 9113
CATEGORIES:Gottesdienste
END:VEVENT
BEGIN:VEVENT
DTSTART;TZID=Europe/Zurich:20250410T193000
DTEND;TZID=Europe/Zurich:20250410T200000
DTSTAMP:20260422T072853
CREATED:20250122T142216Z
LAST-MODIFIED:20250122T142216Z
UID:50525-1744313400-1744315200@www.se-ma.ch
SUMMARY:Ökumenische Fastenwoche
DESCRIPTION:Mondphasen – Lebensphasen
URL:https://www.se-ma.ch/event/oekumenische-fastenwoche-7/
LOCATION:Unterkapellenraum Flawil
CATEGORIES:Anlässe und Veranstaltungen
END:VEVENT
BEGIN:VEVENT
DTSTART;TZID=Europe/Zurich:20250411T113000
DTEND;TZID=Europe/Zurich:20250411T113000
DTSTAMP:20260422T072853
CREATED:20250224T080624Z
LAST-MODIFIED:20250224T080624Z
UID:51160-1744371000-1744371000@www.se-ma.ch
SUMMARY:Flawil: Suppenzmittag am Freitag
DESCRIPTION:
URL:https://www.se-ma.ch/event/flawil-suppenzmittag-am-freitag-6/
LOCATION:Pfarreizentrum Flawil\, Enzenbühlstrasse 16\, Flawil\, 9230\, Schweiz
CATEGORIES:Anlässe und Veranstaltungen
END:VEVENT
BEGIN:VEVENT
DTSTART;TZID=Europe/Zurich:20250411T183000
DTEND;TZID=Europe/Zurich:20250411T183000
DTSTAMP:20260422T072853
CREATED:20250122T142453Z
LAST-MODIFIED:20250224T080752Z
UID:50527-1744396200-1744396200@www.se-ma.ch
SUMMARY:Ökumenische Fastenwoche
DESCRIPTION:Mondphasen – Lebensphasen \nAbschluss der Fastenwoche im Freitagabendgottesdienst
URL:https://www.se-ma.ch/event/oekumenische-fastenwoche-8/
LOCATION:Kapelle St. Laurentius Flawil\, Enzenbühlstrasse 20\, Flawil\, 9230\, Schweiz
CATEGORIES:Anlässe und Veranstaltungen,Gottesdienste
END:VEVENT
BEGIN:VEVENT
DTSTART;TZID=Europe/Zurich:20250412T173000
DTEND;TZID=Europe/Zurich:20250412T173000
DTSTAMP:20260422T072853
CREATED:20241124T141747Z
LAST-MODIFIED:20241124T141747Z
UID:49621-1744479000-1744479000@www.se-ma.ch
SUMMARY:Flawil: Eucharistiefeier in Portugiesisch
DESCRIPTION:
URL:https://www.se-ma.ch/event/flawil-eucharistiefeier-in-portugiesisch-21/
LOCATION:Kapelle St. Laurentius Flawil\, Enzenbühlstrasse 20\, Flawil\, 9230\, Schweiz
CATEGORIES:Gottesdienste
END:VEVENT
BEGIN:VEVENT
DTSTART;VALUE=DATE:20250413
DTEND;VALUE=DATE:20250419
DTSTAMP:20260422T072853
CREATED:20250327T065709Z
LAST-MODIFIED:20250327T065709Z
UID:51803-1744502400-1745020799@www.se-ma.ch
SUMMARY:Firmweg Flawil-Niederglatt: Firmreise nach Assisi
DESCRIPTION:
URL:https://www.se-ma.ch/event/firmweg-flawil-niederglatt-firmreise-nach-assisi/
LOCATION:St. Gallen
CATEGORIES:Anlässe und Veranstaltungen
END:VEVENT
BEGIN:VEVENT
DTSTART;TZID=Europe/Zurich:20250413T090000
DTEND;TZID=Europe/Zurich:20250413T090000
DTSTAMP:20260422T072853
CREATED:20241124T140147Z
LAST-MODIFIED:20241124T140147Z
UID:49571-1744534800-1744534800@www.se-ma.ch
SUMMARY:Eucharistiefeier in Italienisch
DESCRIPTION:
URL:https://www.se-ma.ch/event/eucharistiefeier-in-italienisch-46/
LOCATION:Kapelle St. Laurentius Flawil\, Enzenbühlstrasse 20\, Flawil\, 9230\, Schweiz
CATEGORIES:Gottesdienste
END:VEVENT
BEGIN:VEVENT
DTSTART;TZID=Europe/Zurich:20250413T101500
DTEND;TZID=Europe/Zurich:20250413T101500
DTSTAMP:20260422T072853
CREATED:20241124T144920Z
LAST-MODIFIED:20241124T144920Z
UID:49700-1744539300-1744539300@www.se-ma.ch
SUMMARY:Flawil: Eucharistiefeier zum Palmsonntag\, mit Blauring und Pfadi
DESCRIPTION:anschliessend Spaghettata im Pfarreizentrum
URL:https://www.se-ma.ch/event/flawil-eucharistiefeier-zum-palmsonntag-mit-blauring-und-pfadi/
LOCATION:Kirche St. Laurentius Flawil\, Enzenbühlstrasse 20\, Flawil\, 9230\, Schweiz
CATEGORIES:Anlässe und Veranstaltungen,Gottesdienste,Kinder und Familien
END:VEVENT
BEGIN:VEVENT
DTSTART;TZID=Europe/Zurich:20250413T101500
DTEND;TZID=Europe/Zurich:20250413T101500
DTSTAMP:20260422T072853
CREATED:20241203T184016Z
LAST-MODIFIED:20241203T184100Z
UID:49950-1744539300-1744539300@www.se-ma.ch
SUMMARY:Niederglatt: Kommunionfeier zum Palmsonntag
DESCRIPTION:mit der Familiengottesdienstgruppe\, anschliessend Suppentag
URL:https://www.se-ma.ch/event/niederglatt-kommunionfeier-zum-palmsonntag-2/
LOCATION:Felix + Regula Kirche Niederglatt\, Niederglatt\, 9240\, Schweiz
CATEGORIES:Gottesdienste,Kinder und Familien
END:VEVENT
BEGIN:VEVENT
DTSTART;TZID=Europe/Zurich:20250413T101500
DTEND;TZID=Europe/Zurich:20250413T113000
DTSTAMP:20260422T072853
CREATED:20250205T094358Z
LAST-MODIFIED:20250205T094430Z
UID:50819-1744539300-1744543800@www.se-ma.ch
SUMMARY:Degersheim: Eucharistiefeier zum Palmsonntag mit Erstkommunionkinder
DESCRIPTION:
URL:https://www.se-ma.ch/event/degersheim-eucharistiefeier-zum-palmsonntag-mit-erstkommunionkinder/
LOCATION:Jakobuskirche Degersheim\, Bergstrasse 10\, Degersheim\, 9113\, Schweiz
CATEGORIES:Gottesdienste
END:VEVENT
BEGIN:VEVENT
DTSTART;TZID=Europe/Zurich:20250417T170000
DTEND;TZID=Europe/Zurich:20250417T170000
DTSTAMP:20260422T072853
CREATED:20250327T070522Z
LAST-MODIFIED:20250327T070528Z
UID:51813-1744909200-1744909200@www.se-ma.ch
SUMMARY:Flawil: Eucharistiefeier in Spanisch
DESCRIPTION:
URL:https://www.se-ma.ch/event/flawil-eucharistiefeier-in-spanisch-31/
LOCATION:Kapelle St. Laurentius Flawil\, Enzenbühlstrasse 20\, Flawil\, 9230\, Schweiz
CATEGORIES:Gottesdienste
END:VEVENT
BEGIN:VEVENT
DTSTART;TZID=Europe/Zurich:20250417T193000
DTEND;TZID=Europe/Zurich:20250417T203000
DTSTAMP:20260422T072853
CREATED:20241124T145135Z
LAST-MODIFIED:20250416T095826Z
UID:49702-1744918200-1744921800@www.se-ma.ch
SUMMARY:Flawil: SEMA-Eucharistiefeier für Erwachsene und Kinder zum Hohen Donnerstag
DESCRIPTION:anschliessend Brotteilen im Pfarreizentrum und um 21.30 Uhr Gebetsnacht in der Kirche
URL:https://www.se-ma.ch/event/flawil-sema-eucharistiefeier-fuer-erwachsene-und-kinder-zum-hohen-donnerstag/
LOCATION:Kirche St. Laurentius Flawil\, Enzenbühlstrasse 20\, Flawil\, 9230\, Schweiz
CATEGORIES:Anlässe und Veranstaltungen,Gottesdienste,Kinder und Familien
END:VEVENT
BEGIN:VEVENT
DTSTART;TZID=Europe/Zurich:20250418T103000
DTEND;TZID=Europe/Zurich:20250418T103000
DTSTAMP:20260422T072853
CREATED:20241124T145302Z
LAST-MODIFIED:20241124T145302Z
UID:49704-1744972200-1744972200@www.se-ma.ch
SUMMARY:Flawil: Feier zum Karfreitag für Familien mit der Begegnungsfeiergruppe
DESCRIPTION:
URL:https://www.se-ma.ch/event/flawil-feier-zum-karfreitag-fuer-familien-mit-der-begegnungsfeiergruppe/
LOCATION:Kirche St. Laurentius Flawil\, Enzenbühlstrasse 20\, Flawil\, 9230\, Schweiz
CATEGORIES:Gottesdienste,Kinder und Familien
END:VEVENT
BEGIN:VEVENT
DTSTART;TZID=Europe/Zurich:20250418T133000
DTEND;TZID=Europe/Zurich:20250418T170000
DTSTAMP:20260422T072853
CREATED:20250327T070557Z
LAST-MODIFIED:20250327T070603Z
UID:51815-1744983000-1744995600@www.se-ma.ch
SUMMARY:Flawil: Eucharistiefeier in Spanisch
DESCRIPTION:
URL:https://www.se-ma.ch/event/flawil-eucharistiefeier-in-spanisch-42/
LOCATION:Kapelle St. Laurentius Flawil\, Enzenbühlstrasse 20\, Flawil\, 9230\, Schweiz
CATEGORIES:Gottesdienste
END:VEVENT
BEGIN:VEVENT
DTSTART;TZID=Europe/Zurich:20250418T150000
DTEND;TZID=Europe/Zurich:20250418T160000
DTSTAMP:20260422T072853
CREATED:20250205T094707Z
LAST-MODIFIED:20250205T094707Z
UID:50822-1744988400-1744992000@www.se-ma.ch
SUMMARY:Degersheim: Feier zum Karfreitag für Familien
DESCRIPTION:mit KiGo-Gruppe\, mit Karfreitags-Rätschen
URL:https://www.se-ma.ch/event/degersheim-feier-zum-karfreitag-fuer-familien-2/
LOCATION:Jakobuskirche Degersheim\, Bergstrasse 10\, Degersheim\, 9113\, Schweiz
CATEGORIES:Kinder und Familien
END:VEVENT
END:VCALENDAR