BEGIN:VCALENDAR
VERSION:2.0
PRODID:-//Seelsorgeeinheit Magdenau - ECPv6.15.20//NONSGML v1.0//EN
CALSCALE:GREGORIAN
METHOD:PUBLISH
X-ORIGINAL-URL:https://www.se-ma.ch
X-WR-CALDESC:Veranstaltungen für Seelsorgeeinheit Magdenau
REFRESH-INTERVAL;VALUE=DURATION:PT1H
X-Robots-Tag:noindex
X-PUBLISHED-TTL:PT1H
BEGIN:VTIMEZONE
TZID:Europe/Zurich
BEGIN:DAYLIGHT
TZOFFSETFROM:+0100
TZOFFSETTO:+0200
TZNAME:CEST
DTSTART:20240331T010000
END:DAYLIGHT
BEGIN:STANDARD
TZOFFSETFROM:+0200
TZOFFSETTO:+0100
TZNAME:CET
DTSTART:20241027T010000
END:STANDARD
BEGIN:DAYLIGHT
TZOFFSETFROM:+0100
TZOFFSETTO:+0200
TZNAME:CEST
DTSTART:20250330T010000
END:DAYLIGHT
BEGIN:STANDARD
TZOFFSETFROM:+0200
TZOFFSETTO:+0100
TZNAME:CET
DTSTART:20251026T010000
END:STANDARD
BEGIN:DAYLIGHT
TZOFFSETFROM:+0100
TZOFFSETTO:+0200
TZNAME:CEST
DTSTART:20260329T010000
END:DAYLIGHT
BEGIN:STANDARD
TZOFFSETFROM:+0200
TZOFFSETTO:+0100
TZNAME:CET
DTSTART:20261025T010000
END:STANDARD
END:VTIMEZONE
BEGIN:VEVENT
DTSTART;TZID=Europe/Zurich:20250501T150000
DTEND;TZID=Europe/Zurich:20250501T163000
DTSTAMP:20260422T053925
CREATED:20241209T070638Z
LAST-MODIFIED:20241209T070638Z
UID:50049-1746111600-1746117000@www.se-ma.ch
SUMMARY:Trauercafé
DESCRIPTION:Das Trauercafé bietet Angehörigen die Möglichkeit\, über das Erlebte zu sprechen und sich mit anderen Betroffenen auszutauschen. Es ist keine Anmeldung nötig. \nHomepage Ökum. Hospizgruppe Flawil
URL:https://www.se-ma.ch/event/trauercafe-24/
LOCATION:Haus 5egg\, Bahnhofstrasse 33\, Flawil\, St. Gallen\, 9230\, Schweiz
CATEGORIES:Anlässe und Veranstaltungen
END:VEVENT
BEGIN:VEVENT
DTSTART;TZID=Europe/Zurich:20250501T190000
DTEND;TZID=Europe/Zurich:20250501T190000
DTSTAMP:20260422T053925
CREATED:20241206T183817Z
LAST-MODIFIED:20241206T183817Z
UID:50013-1746126000-1746126000@www.se-ma.ch
SUMMARY:Flawiler Friedensgebet
DESCRIPTION:In Flawil treffen sich Angehörige verschiedener Konfessionen zum Friedensgebet in der meth. Kirche. \nDaten Flawiler Friedensgebet \n 
URL:https://www.se-ma.ch/event/flawiler-friedensgebet-38/
LOCATION:Evangelisch-methodistische Kirche\, Riedernstrasse 13\, Flawil\, 9230\, Schweiz
CATEGORIES:Anlässe und Veranstaltungen,Gottesdienste
END:VEVENT
BEGIN:VEVENT
DTSTART;VALUE=DATE:20250502
DTEND;VALUE=DATE:20250503
DTSTAMP:20260422T053925
CREATED:20250327T070755Z
LAST-MODIFIED:20250327T070833Z
UID:51817-1746144000-1746230399@www.se-ma.ch
SUMMARY:Wiboradatag
DESCRIPTION:Die Details zum Anlass finden sich in den Flyern\, die in den Kirchen aufliegen sowie unter www.se-ma.ch/aktuelles.
URL:https://www.se-ma.ch/event/wiboradatag-2/
LOCATION:St. Gallen
CATEGORIES:Anlässe und Veranstaltungen
END:VEVENT
BEGIN:VEVENT
DTSTART;TZID=Europe/Zurich:20250502T170000
DTEND;TZID=Europe/Zurich:20250502T230000
DTSTAMP:20260422T053925
CREATED:20240423T074543Z
LAST-MODIFIED:20240430T091833Z
UID:46894-1746205200-1746226800@www.se-ma.ch
SUMMARY:Degersheim: Incontro Fest der Kulturen
DESCRIPTION:Fest der Kulturen und Begegnungen. Bei schönem Wetter auf dem Dorfplatz\, bei schlechter Witterung findet der Anlass im Pfarreiheim statt.
URL:https://www.se-ma.ch/event/degersheim-incontro-fest-der-kulturen/
LOCATION:Pfarreiheim
CATEGORIES:Anlässe und Veranstaltungen
END:VEVENT
BEGIN:VEVENT
DTSTART;TZID=Europe/Zurich:20250503T173000
DTEND;TZID=Europe/Zurich:20250503T183000
DTSTAMP:20260422T053925
CREATED:20250205T095516Z
LAST-MODIFIED:20250205T095516Z
UID:50834-1746293400-1746297000@www.se-ma.ch
SUMMARY:Degersheim: Eucharistiefeier
DESCRIPTION:
URL:https://www.se-ma.ch/event/degersheim-eucharistiefeier-43/
LOCATION:Jakobuskirche Degersheim\, Bergstrasse 10\, Degersheim\, 9113\, Schweiz
CATEGORIES:Gottesdienste
END:VEVENT
BEGIN:VEVENT
DTSTART;TZID=Europe/Zurich:20250504T084500
DTEND;TZID=Europe/Zurich:20250504T084500
DTSTAMP:20260422T053925
CREATED:20241115T104136Z
LAST-MODIFIED:20241115T104139Z
UID:49415-1746348300-1746348300@www.se-ma.ch
SUMMARY:Wolfertswil: Eucharistiefeier
DESCRIPTION:
URL:https://www.se-ma.ch/event/wolfertswil-eucharistiefeier-7/
LOCATION:Kirche Bruder Klaus\, Wolfertswil\, 9116
END:VEVENT
BEGIN:VEVENT
DTSTART;TZID=Europe/Zurich:20250504T093000
DTEND;TZID=Europe/Zurich:20250504T093000
DTSTAMP:20260422T053925
CREATED:20241124T142536Z
LAST-MODIFIED:20241124T142536Z
UID:49655-1746351000-1746351000@www.se-ma.ch
SUMMARY:Flawil: Eucharistiefeier in Spanisch
DESCRIPTION:ab 9.00 Uhr Beichtgelegenheit
URL:https://www.se-ma.ch/event/flawil-eucharistiefeier-in-spanisch-35/
LOCATION:Kapelle St. Laurentius Flawil\, Enzenbühlstrasse 20\, Flawil\, 9230\, Schweiz
CATEGORIES:Gottesdienste
END:VEVENT
BEGIN:VEVENT
DTSTART;TZID=Europe/Zurich:20250504T101500
DTEND;TZID=Europe/Zurich:20250504T101500
DTSTAMP:20260422T053925
CREATED:20241124T145723Z
LAST-MODIFIED:20241124T145723Z
UID:49712-1746353700-1746353700@www.se-ma.ch
SUMMARY:Flawil: Eucharistiefeier
DESCRIPTION:
URL:https://www.se-ma.ch/event/flawil-eucharistiefeier-28/
LOCATION:Kirche St. Laurentius Flawil\, Enzenbühlstrasse 20\, Flawil\, 9230\, Schweiz
CATEGORIES:Gottesdienste
END:VEVENT
BEGIN:VEVENT
DTSTART;TZID=Europe/Zurich:20250504T190000
DTEND;TZID=Europe/Zurich:20250504T200000
DTSTAMP:20260422T053925
CREATED:20250205T095813Z
LAST-MODIFIED:20250205T095813Z
UID:50838-1746385200-1746388800@www.se-ma.ch
SUMMARY:Degersheim: Abendlob im Mai
DESCRIPTION:
URL:https://www.se-ma.ch/event/degersheim-abendlob-im-mai-4/
LOCATION:Jakobuskirche Kapelle Degersheim\, Bergstrasse 10\, Degersheim\, St. Gallen\, 9113\, Schweiz
CATEGORIES:Gottesdienste
END:VEVENT
BEGIN:VEVENT
DTSTART;TZID=Europe/Zurich:20250505T194500
DTEND;TZID=Europe/Zurich:20250505T204500
DTSTAMP:20260422T053925
CREATED:20240925T085726Z
LAST-MODIFIED:20240925T085726Z
UID:48875-1746474300-1746477900@www.se-ma.ch
SUMMARY:Degersheim: Schweigemeditation
DESCRIPTION:Im Chorraum der Kath. Kirche St. Jakobus werden wir gemeinsam meditieren. Alle Interessierten\, unabhängig von Konfession oder Kirchennähe\, sind dazu herzlich eingeladen. \nFür Auskünfte steht Walter Germann gerne zur Verfügung: T 071 371 29 38.
URL:https://www.se-ma.ch/event/degersheim-schweigemeditation-61/
LOCATION:Jakobuskirche Degersheim\, Bergstrasse 10\, Degersheim\, 9113\, Schweiz
CATEGORIES:Anlässe und Veranstaltungen
END:VEVENT
BEGIN:VEVENT
DTSTART;TZID=Europe/Zurich:20250506T193000
DTEND;TZID=Europe/Zurich:20250506T213000
DTSTAMP:20260422T053925
CREATED:20250411T065642Z
LAST-MODIFIED:20250411T065642Z
UID:51933-1746559800-1746567000@www.se-ma.ch
SUMMARY:Wolfertswil: IMPULSraum - Zyklus II
DESCRIPTION:Es war einmal… \nAn diesem Abend öffnet die Erzählerin Claudia Curschellas ihren Märchenschatz und lädt uns ein\, den Geschichten zu lauschen. Schritt für Schritt durchschreiten wir äussere und innere Räume\, betreten dabei Neuland und lassen unsere Seele erblühen.
URL:https://www.se-ma.ch/event/wolfertswil-impulsraum-zyklus-ii/
LOCATION:Kirche Bruder Klaus\, Wolfertswil\, 9116
END:VEVENT
BEGIN:VEVENT
DTSTART;TZID=Europe/Zurich:20250508T113000
DTEND;TZID=Europe/Zurich:20250508T150000
DTSTAMP:20260422T053925
CREATED:20250411T080903Z
LAST-MODIFIED:20250411T080903Z
UID:51940-1746703800-1746716400@www.se-ma.ch
SUMMARY:Wolfertswil: Seniorengruppe "Frohes Alter"
DESCRIPTION:Mittagstisch im Restaurant Hirschen Egg\, Flawil \nAnschliessend Wanderung zur Wyssbachschlucht – für alle die Lust haben. \nAnmeldung bis 5. Mai an Anna Egli\, 077 483 69 60 \n 
URL:https://www.se-ma.ch/event/wolfertswil-seniorengruppe-frohes-alter/
LOCATION:Restaurant Hirschen Egg\, Egg 1418\, Flawil\, SG\, 9230\, Switzerland
END:VEVENT
BEGIN:VEVENT
DTSTART;TZID=Europe/Zurich:20250508T193000
DTEND;TZID=Europe/Zurich:20250508T193000
DTSTAMP:20260422T053925
CREATED:20250331T134026Z
LAST-MODIFIED:20250331T134036Z
UID:51865-1746732600-1746732600@www.se-ma.ch
SUMMARY:Flawil: FG Maiandacht für alle Frauen der SEMA
DESCRIPTION:
URL:https://www.se-ma.ch/event/flawil-fg-maiandacht-fuer-alle-frauen-der-sema/
LOCATION:Kirche St. Laurentius Flawil\, Enzenbühlstrasse 20\, Flawil\, 9230\, Schweiz
CATEGORIES:Anlässe und Veranstaltungen,Gottesdienste
END:VEVENT
BEGIN:VEVENT
DTSTART;TZID=Europe/Zurich:20250509T183000
DTEND;TZID=Europe/Zurich:20250509T200000
DTSTAMP:20260422T053925
CREATED:20241218T093659Z
LAST-MODIFIED:20241218T093659Z
UID:50192-1746815400-1746820800@www.se-ma.ch
SUMMARY:Degersheim: Zämägang
DESCRIPTION:für einander da sein \nzusammen statt alleine \nHast du Lust\, mit mir und hoffentlich anderen Menschen zusammen zu sein? Dann komm einfach mit. \nVielleicht kennst du Menschen\, denen das freundliche und interessierte Miteinander gut tun würde. Mache sie aufmerksam auf dieses Angebot oder bring sie gleich selbst mit! \nEs braucht keine Anmeldung! \nTreffpunkt beim Parkplatz Föhrenwäldli Degersheim! \nIch freue mich auf dich! \nSilvan Hollenstein\, Seelsorger\, Tel. 079 743 73 89
URL:https://www.se-ma.ch/event/degersheim-zaemaegang-18/
LOCATION:Föhrenwäldli\, Berg 1\, Degersheim\, 9113 \, Schweiz
CATEGORIES:Anlässe und Veranstaltungen
END:VEVENT
BEGIN:VEVENT
DTSTART;TZID=Europe/Zurich:20250510T090000
DTEND;TZID=Europe/Zurich:20250510T090000
DTSTAMP:20260422T053925
CREATED:20250124T071305Z
LAST-MODIFIED:20250124T071305Z
UID:50576-1746867600-1746867600@www.se-ma.ch
SUMMARY:Flawil: Familientreff - Papi-Kind-Abenteuer
DESCRIPTION:Jahresprogramm 2025
URL:https://www.se-ma.ch/event/flawil-familientreff-papi-kind-abenteuer/
LOCATION:St. Gallen
CATEGORIES:Kinder und Familien
ORGANIZER;CN="Familientreff Flawil":MAILTO:familientreff@bluewin.ch
END:VEVENT
BEGIN:VEVENT
DTSTART;TZID=Europe/Zurich:20250510T100000
DTEND;TZID=Europe/Zurich:20250510T120000
DTSTAMP:20260422T053925
CREATED:20241022T133045Z
LAST-MODIFIED:20241022T133045Z
UID:49155-1746871200-1746878400@www.se-ma.ch
SUMMARY:Degersheim: ökum. Chinderchile
DESCRIPTION:Die Gestaltung des Programms ist auf die Fähigkeiten von Kindern im Alter von 3 – 6 Jahren mit ihren Begleitpersonen ausgerichtet. \nIm Anschluss an die Feier geniessen wir das gemütliche Zusammensein im Pfarreiheim.
URL:https://www.se-ma.ch/event/degersheim-oekum-chinderchile-8/
LOCATION:Pfarreiheim
CATEGORIES:Kinder und Familien
END:VEVENT
BEGIN:VEVENT
DTSTART;TZID=Europe/Zurich:20250510T173000
DTEND;TZID=Europe/Zurich:20250510T173000
DTSTAMP:20260422T053925
CREATED:20250402T133358Z
LAST-MODIFIED:20250402T133402Z
UID:51890-1746898200-1746898200@www.se-ma.ch
SUMMARY:Flawil: Eucharistiefeier in Portugiesisch
DESCRIPTION:
URL:https://www.se-ma.ch/event/flawil-eucharistiefeier-in-portugiesisch-31/
LOCATION:Kapelle St. Laurentius Flawil\, Enzenbühlstrasse 20\, Flawil\, 9230\, Schweiz
CATEGORIES:Gottesdienste
END:VEVENT
BEGIN:VEVENT
DTSTART;TZID=Europe/Zurich:20250510T173000
DTEND;TZID=Europe/Zurich:20250510T183000
DTSTAMP:20260422T053925
CREATED:20250205T095934Z
LAST-MODIFIED:20250205T095934Z
UID:50840-1746898200-1746901800@www.se-ma.ch
SUMMARY:Degersheim: Eucharistiefeier zum Muttertag
DESCRIPTION:
URL:https://www.se-ma.ch/event/degersheim-eucharistiefeier-zum-muttertag/
LOCATION:Jakobuskirche Degersheim\, Bergstrasse 10\, Degersheim\, 9113\, Schweiz
CATEGORIES:Gottesdienste
END:VEVENT
BEGIN:VEVENT
DTSTART;VALUE=DATE:20250511
DTEND;VALUE=DATE:20250512
DTSTAMP:20260422T053925
CREATED:20250425T092308Z
LAST-MODIFIED:20250425T092319Z
UID:52195-1746921600-1747007999@www.se-ma.ch
SUMMARY:Flawil: Zopfaktion Blauring
DESCRIPTION:Bestellungen können bis am 3. Mai über www.blauringflawil.ch aufgegeben werden.
URL:https://www.se-ma.ch/event/flawil-zopfaktion-blauring/
LOCATION:St. Gallen
CATEGORIES:Anlässe und Veranstaltungen
END:VEVENT
BEGIN:VEVENT
DTSTART;TZID=Europe/Zurich:20250511T084500
DTEND;TZID=Europe/Zurich:20250511T084500
DTSTAMP:20260422T053925
CREATED:20241203T184329Z
LAST-MODIFIED:20241203T184351Z
UID:49956-1746953100-1746953100@www.se-ma.ch
SUMMARY:Niederglatt: Kommunionfeier zum Muttertag
DESCRIPTION:
URL:https://www.se-ma.ch/event/niederglatt-kommunionfeier-zum-muttertag/
LOCATION:Felix + Regula Kirche Niederglatt\, Niederglatt\, 9240\, Schweiz
CATEGORIES:Gottesdienste
END:VEVENT
BEGIN:VEVENT
DTSTART;TZID=Europe/Zurich:20250511T090000
DTEND;TZID=Europe/Zurich:20250511T090000
DTSTAMP:20260422T053925
CREATED:20241124T140204Z
LAST-MODIFIED:20241124T140204Z
UID:49573-1746954000-1746954000@www.se-ma.ch
SUMMARY:Eucharistiefeier in Italienisch
DESCRIPTION:
URL:https://www.se-ma.ch/event/eucharistiefeier-in-italienisch-47/
LOCATION:Kapelle St. Laurentius Flawil\, Enzenbühlstrasse 20\, Flawil\, 9230\, Schweiz
CATEGORIES:Gottesdienste
END:VEVENT
BEGIN:VEVENT
DTSTART;TZID=Europe/Zurich:20250511T101500
DTEND;TZID=Europe/Zurich:20250511T101500
DTSTAMP:20260422T053925
CREATED:20241124T145753Z
LAST-MODIFIED:20241124T145753Z
UID:49714-1746958500-1746958500@www.se-ma.ch
SUMMARY:Flawil: Kommunionfeier zum Muttertag
DESCRIPTION:
URL:https://www.se-ma.ch/event/flawil-kommunionfeier-zum-muttertag/
LOCATION:Kirche St. Laurentius Flawil\, Enzenbühlstrasse 20\, Flawil\, 9230\, Schweiz
CATEGORIES:Gottesdienste
END:VEVENT
BEGIN:VEVENT
DTSTART;TZID=Europe/Zurich:20250511T190000
DTEND;TZID=Europe/Zurich:20250511T200000
DTSTAMP:20260422T053925
CREATED:20250205T100036Z
LAST-MODIFIED:20250205T100036Z
UID:50842-1746990000-1746993600@www.se-ma.ch
SUMMARY:Degersheim: Abendlob im Mai
DESCRIPTION:
URL:https://www.se-ma.ch/event/degersheim-abendlob-im-mai-5/
LOCATION:Jakobuskirche Kapelle Degersheim\, Bergstrasse 10\, Degersheim\, St. Gallen\, 9113\, Schweiz
CATEGORIES:Gottesdienste
END:VEVENT
BEGIN:VEVENT
DTSTART;TZID=Europe/Zurich:20250512T194500
DTEND;TZID=Europe/Zurich:20250512T204500
DTSTAMP:20260422T053925
CREATED:20240925T085839Z
LAST-MODIFIED:20240925T085839Z
UID:48877-1747079100-1747082700@www.se-ma.ch
SUMMARY:Degersheim: Schweigemeditation
DESCRIPTION:Im Chorraum der Kath. Kirche St. Jakobus werden wir gemeinsam meditieren. Alle Interessierten\, unabhängig von Konfession oder Kirchennähe\, sind dazu herzlich eingeladen. \nFür Auskünfte steht Walter Germann gerne zur Verfügung: T 071 371 29 38.
URL:https://www.se-ma.ch/event/degersheim-schweigemeditation-62/
LOCATION:Jakobuskirche Degersheim\, Bergstrasse 10\, Degersheim\, 9113\, Schweiz
CATEGORIES:Anlässe und Veranstaltungen
END:VEVENT
BEGIN:VEVENT
DTSTART;TZID=Europe/Zurich:20250514T114500
DTEND;TZID=Europe/Zurich:20250514T140000
DTSTAMP:20260422T053925
CREATED:20240807T062503Z
LAST-MODIFIED:20240807T062503Z
UID:48205-1747223100-1747231200@www.se-ma.ch
SUMMARY:Degersheim: zämä ässä
DESCRIPTION:Wir freuen uns über alle\, die Lust haben\, gemeinsam zu essen\, zu geniessen und zu plaudern. Ein bunt zusammengewürfeltes Küchenteam kocht und serviert speziell für Sie! Der Preis beträgt Fr. 10.00. Bitte geben Sie bei der Anmeldung an\, falls Sie vegetarisch essen möchten! Anmeldungen bitte bis spätestens am Freitag bis 11.00 Uhr\, vor dem „zämä ässä“ an: oder Tel. 071 371 10 17
URL:https://www.se-ma.ch/event/degersheim-zaemae-aessae-16/
LOCATION:Pfarreiheim
CATEGORIES:Anlässe und Veranstaltungen
END:VEVENT
BEGIN:VEVENT
DTSTART;TZID=Europe/Zurich:20250514T143000
DTEND;TZID=Europe/Zurich:20250514T143000
DTSTAMP:20260422T053925
CREATED:20250425T092606Z
LAST-MODIFIED:20250425T092612Z
UID:52197-1747233000-1747233000@www.se-ma.ch
SUMMARY:Flawil: SEMAplus und Kolpingfamilie – Maiandacht
DESCRIPTION:„Das Leben von Dorothee Wyss\, der Ehefrau von Niklaus von Flüe. \nmit Ulrike Harder
URL:https://www.se-ma.ch/event/flawil-semaplus-und-kolpingfamilie-maiandacht/
LOCATION:Kapelle St. Laurentius Flawil\, Enzenbühlstrasse 20\, Flawil\, 9230\, Schweiz
CATEGORIES:Anlässe und Veranstaltungen
END:VEVENT
BEGIN:VEVENT
DTSTART;TZID=Europe/Zurich:20250514T143000
DTEND;TZID=Europe/Zurich:20250514T170000
DTSTAMP:20260422T053925
CREATED:20241216T075237Z
LAST-MODIFIED:20241216T075256Z
UID:50121-1747233000-1747242000@www.se-ma.ch
SUMMARY:Flawil: SEMAplus-Senioren
DESCRIPTION:Maiandacht mit Ulrike Harder \nJahresprogramm SEMAplus
URL:https://www.se-ma.ch/event/flawil-semaplus-senioren-17/
LOCATION:Pfarreizentrum Flawil\, Enzenbühlstrasse 16\, Flawil\, 9230\, Schweiz
CATEGORIES:Anlässe und Veranstaltungen
END:VEVENT
BEGIN:VEVENT
DTSTART;TZID=Europe/Zurich:20250515T190000
DTEND;TZID=Europe/Zurich:20250515T190000
DTSTAMP:20260422T053925
CREATED:20241206T184246Z
LAST-MODIFIED:20241206T184246Z
UID:50029-1747335600-1747335600@www.se-ma.ch
SUMMARY:Flawiler Friedensgebet
DESCRIPTION:In Flawil treffen sich Angehörige verschiedener Konfessionen zum Friedensgebet im Zwinglisaal der ref. Kirche. \nDaten Flawiler Friedensgebet \n 
URL:https://www.se-ma.ch/event/flawiler-friedensgebet-46/
LOCATION:Ref. Kirche Feld\, Flawil\, 9230\, Schweiz
CATEGORIES:Anlässe und Veranstaltungen,Gottesdienste
END:VEVENT
BEGIN:VEVENT
DTSTART;TZID=Europe/Zurich:20250515T190000
DTEND;TZID=Europe/Zurich:20250515T200000
DTSTAMP:20260422T053925
CREATED:20240918T073258Z
LAST-MODIFIED:20240918T073258Z
UID:48696-1747335600-1747339200@www.se-ma.ch
SUMMARY:Degersheim: Friedensgebet
DESCRIPTION:Wir beten für den Frieden in unserer Welt.
URL:https://www.se-ma.ch/event/degersheim-friedensgebet-21/
LOCATION:Jakobuskirche Kapelle Degersheim\, Bergstrasse 10\, Degersheim\, St. Gallen\, 9113\, Schweiz
CATEGORIES:Gottesdienste
END:VEVENT
BEGIN:VEVENT
DTSTART;TZID=Europe/Zurich:20250517T093000
DTEND;TZID=Europe/Zurich:20250517T110000
DTSTAMP:20260422T053925
CREATED:20241217T104447Z
LAST-MODIFIED:20250513T115116Z
UID:50158-1747474200-1747479600@www.se-ma.ch
SUMMARY:Flawil: ökumenische Chinderfiir im Unterkapellenraum der kath. Kirche
DESCRIPTION:Die Chinderfiir richtet sich an Kinder ab 3 Jahren und ihre erwachsenen Begleitpersonen. Während einer halben Stunde machen wir uns mit den Kindern und ihren erwachsenen Begleitpersonen auf den Weg\, den christlichen Glauben mit Musik\, einer Geschichte\, Spiel und Spass zu entdecken.\nAnschliessend gemeinsam Znüniessen\,  Kreativ-sein\, Spiel und Spass. \nFlyer Chinderfiir
URL:https://www.se-ma.ch/event/flawil-oekumenische-chinderfiir-6/
LOCATION:Unterkapellenraum Flawil
CATEGORIES:Gottesdienste,Kinder und Familien
END:VEVENT
END:VCALENDAR