BEGIN:VCALENDAR
VERSION:2.0
PRODID:-//Seelsorgeeinheit Magdenau - ECPv6.15.20//NONSGML v1.0//EN
CALSCALE:GREGORIAN
METHOD:PUBLISH
X-ORIGINAL-URL:https://www.se-ma.ch
X-WR-CALDESC:Veranstaltungen für Seelsorgeeinheit Magdenau
REFRESH-INTERVAL;VALUE=DURATION:PT1H
X-Robots-Tag:noindex
X-PUBLISHED-TTL:PT1H
BEGIN:VTIMEZONE
TZID:Europe/Zurich
BEGIN:DAYLIGHT
TZOFFSETFROM:+0100
TZOFFSETTO:+0200
TZNAME:CEST
DTSTART:20240331T010000
END:DAYLIGHT
BEGIN:STANDARD
TZOFFSETFROM:+0200
TZOFFSETTO:+0100
TZNAME:CET
DTSTART:20241027T010000
END:STANDARD
BEGIN:DAYLIGHT
TZOFFSETFROM:+0100
TZOFFSETTO:+0200
TZNAME:CEST
DTSTART:20250330T010000
END:DAYLIGHT
BEGIN:STANDARD
TZOFFSETFROM:+0200
TZOFFSETTO:+0100
TZNAME:CET
DTSTART:20251026T010000
END:STANDARD
BEGIN:DAYLIGHT
TZOFFSETFROM:+0100
TZOFFSETTO:+0200
TZNAME:CEST
DTSTART:20260329T010000
END:DAYLIGHT
BEGIN:STANDARD
TZOFFSETFROM:+0200
TZOFFSETTO:+0100
TZNAME:CET
DTSTART:20261025T010000
END:STANDARD
END:VTIMEZONE
BEGIN:VEVENT
DTSTART;TZID=Europe/Zurich:20250701T113000
DTEND;TZID=Europe/Zurich:20250701T160000
DTSTAMP:20260422T021746
CREATED:20250411T081939Z
LAST-MODIFIED:20250411T081939Z
UID:51949-1751369400-1751385600@www.se-ma.ch
SUMMARY:Wolfertswil: Seniorengruppe "Frohes Alter"
DESCRIPTION:Mittagstisch im Restaurant Freihof\, Gossau. \n11.30 Uhr Abfahrt Kirchplatz Wolfertswil mit Auto oder Velo. \n12.00 Uhr Mittagstisch anschliessend Minigolfturnier. \nAnmeldungen bis 28. Juni an Anna Egli\, 077 483 69 60.
URL:https://www.se-ma.ch/event/wolfertswil-seniorengruppe-frohes-alter-3/
LOCATION:Restaurant Freihof\, Flawilerstrasse 36\, Gossau\, 9200\, Switzerland
END:VEVENT
BEGIN:VEVENT
DTSTART;TZID=Europe/Zurich:20250703T150000
DTEND;TZID=Europe/Zurich:20250703T163000
DTSTAMP:20260422T021746
CREATED:20241209T070709Z
LAST-MODIFIED:20241209T070709Z
UID:50053-1751554800-1751560200@www.se-ma.ch
SUMMARY:Trauercafé
DESCRIPTION:Das Trauercafé bietet Angehörigen die Möglichkeit\, über das Erlebte zu sprechen und sich mit anderen Betroffenen auszutauschen. Es ist keine Anmeldung nötig. \nHomepage Ökum. Hospizgruppe Flawil
URL:https://www.se-ma.ch/event/trauercafe-26/
LOCATION:Haus 5egg\, Bahnhofstrasse 33\, Flawil\, St. Gallen\, 9230\, Schweiz
CATEGORIES:Anlässe und Veranstaltungen
END:VEVENT
BEGIN:VEVENT
DTSTART;TZID=Europe/Zurich:20250703T190000
DTEND;TZID=Europe/Zurich:20250703T190000
DTSTAMP:20260422T021746
CREATED:20241206T183836Z
LAST-MODIFIED:20241206T183836Z
UID:50015-1751569200-1751569200@www.se-ma.ch
SUMMARY:Flawiler Friedensgebet
DESCRIPTION:In Flawil treffen sich Angehörige verschiedener Konfessionen zum Friedensgebet in der meth. Kirche. \nDaten Flawiler Friedensgebet \n 
URL:https://www.se-ma.ch/event/flawiler-friedensgebet-39/
LOCATION:Evangelisch-methodistische Kirche\, Riedernstrasse 13\, Flawil\, 9230\, Schweiz
CATEGORIES:Anlässe und Veranstaltungen,Gottesdienste
END:VEVENT
BEGIN:VEVENT
DTSTART;TZID=Europe/Zurich:20250705T173000
DTEND;TZID=Europe/Zurich:20250705T183000
DTSTAMP:20260422T021746
CREATED:20250205T102036Z
LAST-MODIFIED:20250205T102036Z
UID:50861-1751736600-1751740200@www.se-ma.ch
SUMMARY:Degersheim: Eucharistiefeier
DESCRIPTION:
URL:https://www.se-ma.ch/event/degersheim-eucharistiefeier-45/
LOCATION:Jakobuskirche Degersheim\, Bergstrasse 10\, Degersheim\, 9113\, Schweiz
CATEGORIES:Gottesdienste
END:VEVENT
BEGIN:VEVENT
DTSTART;TZID=Europe/Zurich:20250706T084500
DTEND;TZID=Europe/Zurich:20250706T084500
DTSTAMP:20260422T021746
CREATED:20241119T095014Z
LAST-MODIFIED:20241119T095258Z
UID:49464-1751791500-1751791500@www.se-ma.ch
SUMMARY:Wolfertswil: Eucharistiefeier
DESCRIPTION:
URL:https://www.se-ma.ch/event/wolfertswil-eucharistiefeier-8/
LOCATION:Kirche Bruder Klaus\, Wolfertswil\, 9116
END:VEVENT
BEGIN:VEVENT
DTSTART;TZID=Europe/Zurich:20250706T101500
DTEND;TZID=Europe/Zurich:20250706T101500
DTSTAMP:20260422T021746
CREATED:20241124T151820Z
LAST-MODIFIED:20241124T151820Z
UID:49749-1751796900-1751796900@www.se-ma.ch
SUMMARY:Flawil: Eucharistiefeier\, Verabschiedung von Pater Jerry
DESCRIPTION:anschliessend Apéro
URL:https://www.se-ma.ch/event/flawil-eucharistiefeier-verabschiedung-von-pater-jerry-2/
LOCATION:Kirche St. Laurentius Flawil\, Enzenbühlstrasse 20\, Flawil\, 9230\, Schweiz
CATEGORIES:Gottesdienste
END:VEVENT
BEGIN:VEVENT
DTSTART;TZID=Europe/Zurich:20250710T144500
DTEND;TZID=Europe/Zurich:20250710T144500
DTSTAMP:20260422T021746
CREATED:20250124T071402Z
LAST-MODIFIED:20250124T071402Z
UID:50578-1752158700-1752158700@www.se-ma.ch
SUMMARY:Flawil: Familientreff - Ferienplausch im "Sommer im Feld"
DESCRIPTION:Jahresprogramm 2025
URL:https://www.se-ma.ch/event/flawil-familientreff-ferienplausch-im-sommer-im-feld/
LOCATION:Ref. Kirche Feld\, Flawil\, 9230\, Schweiz
CATEGORIES:Kinder und Familien
ORGANIZER;CN="Familientreff Flawil":MAILTO:familientreff@bluewin.ch
END:VEVENT
BEGIN:VEVENT
DTSTART;TZID=Europe/Zurich:20250712T173000
DTEND;TZID=Europe/Zurich:20250712T173000
DTSTAMP:20260422T021746
CREATED:20241124T141904Z
LAST-MODIFIED:20241124T141904Z
UID:49628-1752341400-1752341400@www.se-ma.ch
SUMMARY:Flawil: Eucharistiefeier in Portugiesisch
DESCRIPTION:
URL:https://www.se-ma.ch/event/flawil-eucharistiefeier-in-portugiesisch-23/
LOCATION:Kapelle St. Laurentius Flawil\, Enzenbühlstrasse 20\, Flawil\, 9230\, Schweiz
CATEGORIES:Gottesdienste
END:VEVENT
BEGIN:VEVENT
DTSTART;TZID=Europe/Zurich:20250712T173000
DTEND;TZID=Europe/Zurich:20250712T183000
DTSTAMP:20260422T021746
CREATED:20250319T085111Z
LAST-MODIFIED:20250319T085111Z
UID:51637-1752341400-1752345000@www.se-ma.ch
SUMMARY:Degersheim: Eucharistiefeier
DESCRIPTION:
URL:https://www.se-ma.ch/event/degersheim-eucharistiefeier-46/
LOCATION:Jakobuskirche Degersheim\, Bergstrasse 10\, Degersheim\, 9113\, Schweiz
CATEGORIES:Gottesdienste
END:VEVENT
BEGIN:VEVENT
DTSTART;TZID=Europe/Zurich:20250713T084500
DTEND;TZID=Europe/Zurich:20250713T084500
DTSTAMP:20260422T021746
CREATED:20241203T184533Z
LAST-MODIFIED:20241203T184533Z
UID:49962-1752396300-1752396300@www.se-ma.ch
SUMMARY:Niederglatt: Eucharistiefeier
DESCRIPTION:
URL:https://www.se-ma.ch/event/niederglatt-eucharistiefeier-19/
LOCATION:Felix + Regula Kirche Niederglatt\, Niederglatt\, 9240\, Schweiz
CATEGORIES:Gottesdienste
END:VEVENT
BEGIN:VEVENT
DTSTART;TZID=Europe/Zurich:20250713T090000
DTEND;TZID=Europe/Zurich:20250713T090000
DTSTAMP:20260422T021746
CREATED:20241124T140234Z
LAST-MODIFIED:20241124T140234Z
UID:49577-1752397200-1752397200@www.se-ma.ch
SUMMARY:Eucharistiefeier in Italienisch
DESCRIPTION:
URL:https://www.se-ma.ch/event/eucharistiefeier-in-italienisch-49/
LOCATION:Kapelle St. Laurentius Flawil\, Enzenbühlstrasse 20\, Flawil\, 9230\, Schweiz
CATEGORIES:Gottesdienste
END:VEVENT
BEGIN:VEVENT
DTSTART;TZID=Europe/Zurich:20250713T101500
DTEND;TZID=Europe/Zurich:20250713T101500
DTSTAMP:20260422T021746
CREATED:20241124T150507Z
LAST-MODIFIED:20241124T151742Z
UID:49736-1752401700-1752401700@www.se-ma.ch
SUMMARY:Flawil: Eucharistiefeier
DESCRIPTION:
URL:https://www.se-ma.ch/event/flawil-eucharistiefeier-31/
LOCATION:Kirche St. Laurentius Flawil\, Enzenbühlstrasse 20\, Flawil\, 9230\, Schweiz
CATEGORIES:Gottesdienste
END:VEVENT
BEGIN:VEVENT
DTSTART;VALUE=DATE:20250714
DTEND;VALUE=DATE:20250719
DTSTAMP:20260422T021746
CREATED:20250709T123441Z
LAST-MODIFIED:20250709T123451Z
UID:53543-1752451200-1752883199@www.se-ma.ch
SUMMARY:Flawil: Das Sekretariat bleibt vom 14. bis 18. Juli geschlossen.
DESCRIPTION:Für ein dringendes\, seelsorgeliches Anliegen erreichen Sie unter der Nr. 071 393 14 14 eine Seelsorgerin oder Seelsorger.
URL:https://www.se-ma.ch/event/flawil-das-sekretariat-bleibt-vom-14-bis-18-juli-geschlossen/
LOCATION:Kath. Pfarramt Flawil\, Enzenbühlstrasse 20\, Flawil\, 9230\, Switzerland
END:VEVENT
BEGIN:VEVENT
DTSTART;TZID=Europe/Zurich:20250719T173000
DTEND;TZID=Europe/Zurich:20250719T183000
DTSTAMP:20260422T021746
CREATED:20250319T085259Z
LAST-MODIFIED:20250715T105139Z
UID:51639-1752946200-1752949800@www.se-ma.ch
SUMMARY:Degersheim: Eucharistiefeier
DESCRIPTION:mit Pater Joseph Maria vom St. Otmarsberg
URL:https://www.se-ma.ch/event/degersheim-eucharistiefeier-47/
LOCATION:Jakobuskirche Degersheim\, Bergstrasse 10\, Degersheim\, 9113\, Schweiz
END:VEVENT
BEGIN:VEVENT
DTSTART;TZID=Europe/Zurich:20250720T084500
DTEND;TZID=Europe/Zurich:20250720T084500
DTSTAMP:20260422T021746
CREATED:20241119T095123Z
LAST-MODIFIED:20241119T095127Z
UID:49467-1753001100-1753001100@www.se-ma.ch
SUMMARY:Wolfertswil: Eucharistiefeier mit Abt Emmanuel
DESCRIPTION:
URL:https://www.se-ma.ch/event/wolfertswil-eucharistiefeier-mit-abt-emmanuel/
LOCATION:Kirche Bruder Klaus\, Wolfertswil\, 9116
END:VEVENT
BEGIN:VEVENT
DTSTART;TZID=Europe/Zurich:20250720T101500
DTEND;TZID=Europe/Zurich:20250720T101500
DTSTAMP:20260422T021746
CREATED:20241124T150523Z
LAST-MODIFIED:20241124T150628Z
UID:49738-1753006500-1753006500@www.se-ma.ch
SUMMARY:Flawil: Eucharistiefeier
DESCRIPTION:
URL:https://www.se-ma.ch/event/flawil-eucharistiefeier-duplikat/
LOCATION:Kirche St. Laurentius Flawil\, Enzenbühlstrasse 20\, Flawil\, 9230\, Schweiz
CATEGORIES:Gottesdienste
END:VEVENT
BEGIN:VEVENT
DTSTART;TZID=Europe/Zurich:20250726T173000
DTEND;TZID=Europe/Zurich:20250726T183000
DTSTAMP:20260422T021746
CREATED:20250319T085411Z
LAST-MODIFIED:20250319T085411Z
UID:51642-1753551000-1753554600@www.se-ma.ch
SUMMARY:Degersheim: Eucharistiefeier
DESCRIPTION:
URL:https://www.se-ma.ch/event/degersheim-eucharistiefeier-48/
LOCATION:Jakobuskirche Degersheim\, Bergstrasse 10\, Degersheim\, 9113\, Schweiz
CATEGORIES:Gottesdienste
END:VEVENT
BEGIN:VEVENT
DTSTART;TZID=Europe/Zurich:20250727T083000
DTEND;TZID=Europe/Zurich:20250727T090000
DTSTAMP:20260422T021746
CREATED:20241124T141117Z
LAST-MODIFIED:20241124T141117Z
UID:49595-1753605000-1753606800@www.se-ma.ch
SUMMARY:Eucharistiefeier in Italienisch
DESCRIPTION:
URL:https://www.se-ma.ch/event/eucharistiefeier-in-italienisch-58/
LOCATION:Kapelle St. Laurentius Flawil\, Enzenbühlstrasse 20\, Flawil\, 9230\, Schweiz
CATEGORIES:Gottesdienste
END:VEVENT
BEGIN:VEVENT
DTSTART;TZID=Europe/Zurich:20250727T084500
DTEND;TZID=Europe/Zurich:20250727T084500
DTSTAMP:20260422T021746
CREATED:20250527T131534Z
LAST-MODIFIED:20250527T131534Z
UID:52819-1753605900-1753605900@www.se-ma.ch
SUMMARY:Niederglatt: Eucharistiefeier
DESCRIPTION:
URL:https://www.se-ma.ch/event/niederglatt-eucharistiefeier-20/
LOCATION:Felix + Regula Kirche Niederglatt\, Niederglatt\, 9240\, Schweiz
CATEGORIES:Gottesdienste
END:VEVENT
BEGIN:VEVENT
DTSTART;TZID=Europe/Zurich:20250727T101500
DTEND;TZID=Europe/Zurich:20250727T101500
DTSTAMP:20260422T021746
CREATED:20241124T150540Z
LAST-MODIFIED:20241124T150540Z
UID:49740-1753611300-1753611300@www.se-ma.ch
SUMMARY:Flawil: Eucharistiefeier
DESCRIPTION:
URL:https://www.se-ma.ch/event/flawil-eucharistiefeier-32/
LOCATION:Kirche St. Laurentius Flawil\, Enzenbühlstrasse 20\, Flawil\, 9230\, Schweiz
CATEGORIES:Gottesdienste
END:VEVENT
END:VCALENDAR