BEGIN:VCALENDAR
VERSION:2.0
PRODID:-//Seelsorgeeinheit Magdenau - ECPv6.15.20//NONSGML v1.0//EN
CALSCALE:GREGORIAN
METHOD:PUBLISH
X-ORIGINAL-URL:https://www.se-ma.ch
X-WR-CALDESC:Veranstaltungen für Seelsorgeeinheit Magdenau
REFRESH-INTERVAL;VALUE=DURATION:PT1H
X-Robots-Tag:noindex
X-PUBLISHED-TTL:PT1H
BEGIN:VTIMEZONE
TZID:Europe/Zurich
BEGIN:DAYLIGHT
TZOFFSETFROM:+0100
TZOFFSETTO:+0200
TZNAME:CEST
DTSTART:20240331T010000
END:DAYLIGHT
BEGIN:STANDARD
TZOFFSETFROM:+0200
TZOFFSETTO:+0100
TZNAME:CET
DTSTART:20241027T010000
END:STANDARD
BEGIN:DAYLIGHT
TZOFFSETFROM:+0100
TZOFFSETTO:+0200
TZNAME:CEST
DTSTART:20250330T010000
END:DAYLIGHT
BEGIN:STANDARD
TZOFFSETFROM:+0200
TZOFFSETTO:+0100
TZNAME:CET
DTSTART:20251026T010000
END:STANDARD
BEGIN:DAYLIGHT
TZOFFSETFROM:+0100
TZOFFSETTO:+0200
TZNAME:CEST
DTSTART:20260329T010000
END:DAYLIGHT
BEGIN:STANDARD
TZOFFSETFROM:+0200
TZOFFSETTO:+0100
TZNAME:CET
DTSTART:20261025T010000
END:STANDARD
END:VTIMEZONE
BEGIN:VEVENT
DTSTART;TZID=Europe/Zurich:20250902T193000
DTEND;TZID=Europe/Zurich:20250902T213000
DTSTAMP:20260421T225641
CREATED:20250411T065842Z
LAST-MODIFIED:20250411T065842Z
UID:51936-1756841400-1756848600@www.se-ma.ch
SUMMARY:Wolfertswil: IMPULSraum - Zyklus II
DESCRIPTION:
URL:https://www.se-ma.ch/event/wolfertswil-impulsraum-zyklus-ii-2/
LOCATION:Kirche Bruder Klaus\, Wolfertswil\, 9116
END:VEVENT
BEGIN:VEVENT
DTSTART;TZID=Europe/Zurich:20250903T190000
DTEND;TZID=Europe/Zurich:20250903T190000
DTSTAMP:20260421T225641
CREATED:20250806T061136Z
LAST-MODIFIED:20250806T061152Z
UID:53693-1756926000-1756926000@www.se-ma.ch
SUMMARY:Palliativer Themenweg - Ein Referat zum Abschluss
DESCRIPTION:Zu Gast im «Sommer im Feld» ist Matthias Angehrn\, Seelsorger und Mitglied der Projektgruppe «spiritual care». Er thematisiert die spirituelle Sicht des Abschiednehmens.
URL:https://www.se-ma.ch/event/palliativer-themenweg-ein-referat-zum-abschluss/
LOCATION:Sommer im Feld\, Flawil\, 9230\, Schweiz
CATEGORIES:Anlässe und Veranstaltungen
END:VEVENT
BEGIN:VEVENT
DTSTART;TZID=Europe/Zurich:20250904T150000
DTEND;TZID=Europe/Zurich:20250904T163000
DTSTAMP:20260421T225641
CREATED:20241209T070723Z
LAST-MODIFIED:20241209T071152Z
UID:50055-1756998000-1757003400@www.se-ma.ch
SUMMARY:Trauercafé
DESCRIPTION:Das Trauercafé bietet Angehörigen die Möglichkeit\, über das Erlebte zu sprechen und sich mit anderen Betroffenen auszutauschen. Es ist keine Anmeldung nötig. \nHomepage Ökum. Hospizgruppe Flawil
URL:https://www.se-ma.ch/event/trauercafe-27/
LOCATION:Haus 5egg\, Bahnhofstrasse 33\, Flawil\, St. Gallen\, 9230\, Schweiz
CATEGORIES:Anlässe und Veranstaltungen
END:VEVENT
BEGIN:VEVENT
DTSTART;VALUE=DATE:20250905
DTEND;VALUE=DATE:20250906
DTSTAMP:20260421T225641
CREATED:20250707T055240Z
LAST-MODIFIED:20250707T055240Z
UID:53441-1757030400-1757116799@www.se-ma.ch
SUMMARY:Herz-Jesu-Freitag
DESCRIPTION:
URL:https://www.se-ma.ch/event/herz-jesu-freitag/
LOCATION:St. Gallen
CATEGORIES:Gottesdienste
END:VEVENT
BEGIN:VEVENT
DTSTART;TZID=Europe/Zurich:20250905T183000
DTEND;TZID=Europe/Zurich:20250905T183000
DTSTAMP:20260421T225641
CREATED:20250729T120151Z
LAST-MODIFIED:20250729T120220Z
UID:53603-1757097000-1757097000@www.se-ma.ch
SUMMARY:Begegnungsfeier zum Erntedank
DESCRIPTION:mit anschliessendem Apéro \nFlyer Begegnungsfeier
URL:https://www.se-ma.ch/event/begegnungsfeier-zum-erntedank/
LOCATION:Kapelle St. Laurentius Flawil\, Enzenbühlstrasse 20\, Flawil\, 9230\, Schweiz
CATEGORIES:Gottesdienste,Kinder und Familien
END:VEVENT
BEGIN:VEVENT
DTSTART;TZID=Europe/Zurich:20250905T183000
DTEND;TZID=Europe/Zurich:20250905T200000
DTSTAMP:20260421T225641
CREATED:20250312T083624Z
LAST-MODIFIED:20250312T083624Z
UID:51568-1757097000-1757102400@www.se-ma.ch
SUMMARY:Degersheim: Zämägang
DESCRIPTION:für einander da sein \nzusammen statt alleine \nHast du Lust\, mit mir und hoffentlich anderen Menschen zusammen zu sein? Dann komm einfach mit. \nVielleicht kennst du Menschen\, denen das freundliche und interessierte Miteinander gut tun würde. Mache sie aufmerksam auf dieses Angebot oder bring sie gleich selbst mit! \nEs braucht keine Anmeldung! \nTreffpunkt beim Parkplatz Föhrenwäldli Degersheim! \nIch freue mich auf dich! \nSilvan Hollenstein\, Seelsorger\, Tel. 079 743 73 89
URL:https://www.se-ma.ch/event/degersheim-zaemaegang-21/
LOCATION:Föhrenwäldli\, Berg 1\, Degersheim\, 9113 \, Schweiz
CATEGORIES:Anlässe und Veranstaltungen
END:VEVENT
BEGIN:VEVENT
DTSTART;TZID=Europe/Zurich:20250906T080000
DTEND;TZID=Europe/Zurich:20250906T170000
DTSTAMP:20260421T225641
CREATED:20250827T055733Z
LAST-MODIFIED:20250827T055738Z
UID:53880-1757145600-1757178000@www.se-ma.ch
SUMMARY:Flawil: FrauenTurnenFlawil - Ausflug
DESCRIPTION:
URL:https://www.se-ma.ch/event/flawil-frauenturnenflawil-ausflug/
LOCATION:St. Gallen
CATEGORIES:Anlässe und Veranstaltungen
END:VEVENT
BEGIN:VEVENT
DTSTART;TZID=Europe/Zurich:20250906T173000
DTEND;TZID=Europe/Zurich:20250906T183000
DTSTAMP:20260421T225641
CREATED:20250319T090250Z
LAST-MODIFIED:20250319T090250Z
UID:51654-1757179800-1757183400@www.se-ma.ch
SUMMARY:Degersheim: Eucharistiefeier
DESCRIPTION:
URL:https://www.se-ma.ch/event/degersheim-eucharistiefeier-50/
LOCATION:Jakobuskirche Degersheim\, Bergstrasse 10\, Degersheim\, 9113\, Schweiz
CATEGORIES:Gottesdienste
END:VEVENT
BEGIN:VEVENT
DTSTART;VALUE=DATE:20250907
DTEND;VALUE=DATE:20250908
DTSTAMP:20260421T225641
CREATED:20250827T055834Z
LAST-MODIFIED:20250827T055834Z
UID:53882-1757203200-1757289599@www.se-ma.ch
SUMMARY:SEMA: Minifest in St. Gallen
DESCRIPTION:
URL:https://www.se-ma.ch/event/sema-minifest-in-st-gallen/
LOCATION:St. Gallen
CATEGORIES:Kinder und Familien
END:VEVENT
BEGIN:VEVENT
DTSTART;VALUE=DATE:20250907
DTEND;VALUE=DATE:20250914
DTSTAMP:20260421T225641
CREATED:20250827T060225Z
LAST-MODIFIED:20250827T060225Z
UID:53885-1757203200-1757807999@www.se-ma.ch
SUMMARY:Ökum. Seniorenferien Flawil
DESCRIPTION:
URL:https://www.se-ma.ch/event/oekum-seniorenferien-flawil-2/
LOCATION:St. Gallen
CATEGORIES:Anlässe und Veranstaltungen
END:VEVENT
BEGIN:VEVENT
DTSTART;TZID=Europe/Zurich:20250907T084500
DTEND;TZID=Europe/Zurich:20250907T084500
DTSTAMP:20260421T225641
CREATED:20241119T100035Z
LAST-MODIFIED:20250819T142750Z
UID:49478-1757234700-1757234700@www.se-ma.ch
SUMMARY:Magdenau: Fest der heiligen Verena mit Apéro
DESCRIPTION:Eucharistiefeier begleitet durch die Kapelle kultUrchig \n 
URL:https://www.se-ma.ch/event/magdenau-fest-der-heiligen-verena-mit-apero/
LOCATION:Kirche St. Verena Magdenau\, St. Verena 929\, Wolfertswil\, 9116\, Schweiz
END:VEVENT
BEGIN:VEVENT
DTSTART;TZID=Europe/Zurich:20250907T093000
DTEND;TZID=Europe/Zurich:20250907T093000
DTSTAMP:20260421T225641
CREATED:20250804T053429Z
LAST-MODIFIED:20250804T053438Z
UID:53635-1757237400-1757237400@www.se-ma.ch
SUMMARY:Flawil: Eucharistiefeier in Spanisch
DESCRIPTION:ab 9.00 Uhr Beichtgelegenheit
URL:https://www.se-ma.ch/event/flawil-eucharistiefeier-in-spanisch-44/
LOCATION:Kapelle St. Laurentius Flawil\, Enzenbühlstrasse 20\, Flawil\, 9230\, Schweiz
CATEGORIES:Gottesdienste
END:VEVENT
BEGIN:VEVENT
DTSTART;TZID=Europe/Zurich:20250907T101500
DTEND;TZID=Europe/Zurich:20250907T101500
DTSTAMP:20260421T225641
CREATED:20250527T133444Z
LAST-MODIFIED:20250527T133449Z
UID:52853-1757240100-1757240100@www.se-ma.ch
SUMMARY:Flawil: Eucharistiefeier
DESCRIPTION:
URL:https://www.se-ma.ch/event/flawil-eucharistiefeier-34/
LOCATION:Kirche St. Laurentius Flawil\, Enzenbühlstrasse 20\, Flawil\, 9230\, Schweiz
CATEGORIES:Gottesdienste
END:VEVENT
BEGIN:VEVENT
DTSTART;TZID=Europe/Zurich:20250908T193000
DTEND;TZID=Europe/Zurich:20250908T203000
DTSTAMP:20260421T225641
CREATED:20250603T092650Z
LAST-MODIFIED:20250603T092650Z
UID:52992-1757359800-1757363400@www.se-ma.ch
SUMMARY:Degersheim: Schweigemeditation
DESCRIPTION:Im Chorraum der Kath. Kirche St. Jakobus werden wir gemeinsam meditieren. Alle Interessierten\, unabhängig von Konfession oder Kirchennähe\, sind dazu herzlich eingeladen. \nFür Auskünfte steht Walter Germann gerne zur Verfügung: T 071 371 29 38.
URL:https://www.se-ma.ch/event/degersheim-schweigemeditation-72/
LOCATION:Jakobuskirche Degersheim\, Bergstrasse 10\, Degersheim\, 9113\, Schweiz
CATEGORIES:Anlässe und Veranstaltungen
END:VEVENT
BEGIN:VEVENT
DTSTART;TZID=Europe/Zurich:20250909T190000
DTEND;TZID=Europe/Zurich:20250909T190000
DTSTAMP:20260421T225641
CREATED:20250806T061401Z
LAST-MODIFIED:20250806T061406Z
UID:53695-1757444400-1757444400@www.se-ma.ch
SUMMARY:Demenz — was tun?
DESCRIPTION:Regula Steiner\, Pflegeexpertin APN referiert zum Thema Demenz und kommentiert einen Kurzfilm aus Sicht einer Fachperson. Der Eintritt ist frei.\nVeranstalter: Alzheimer St. Gallen\, beider Appenzell\, hc.zlaobfsctd-3e83a2@ags.ofni\, 071 223 10 46\, www.alzsga.ch
URL:https://www.se-ma.ch/event/demenz-was-tun/
LOCATION:Pfarreizentrum Flawil\, Enzenbühlstrasse 16\, Flawil\, 9230\, Schweiz
CATEGORIES:Anlässe und Veranstaltungen
END:VEVENT
BEGIN:VEVENT
DTSTART;TZID=Europe/Zurich:20250910T113000
DTEND;TZID=Europe/Zurich:20250910T113000
DTSTAMP:20260421T225641
CREATED:20250411T082422Z
LAST-MODIFIED:20250813T054136Z
UID:51957-1757503800-1757503800@www.se-ma.ch
SUMMARY:Wolfertswil: Seniorengruppe "Frohes Alter"
DESCRIPTION:Mittagstisch im Restaurant Traube Nassen \n14.30 Uhr Gottesdienst mit Krankensalbung in der Kirche Bruder Klaus. \nAnmeldungen bis 8. September an Anna Egli\, 077 483 69 60
URL:https://www.se-ma.ch/event/wolfertswil-seniorengruppe-frohes-alter-5/
LOCATION:Rest. Traube\, Neckerstrasse 6\, Necjer\, St. Gallen\, 9123\, Switzerland
END:VEVENT
BEGIN:VEVENT
DTSTART;TZID=Europe/Zurich:20250910T143000
DTEND;TZID=Europe/Zurich:20250910T143000
DTSTAMP:20260421T225641
CREATED:20250806T062129Z
LAST-MODIFIED:20250806T062302Z
UID:53699-1757514600-1757514600@www.se-ma.ch
SUMMARY:Krankensalbungsgottesdienst
DESCRIPTION:
URL:https://www.se-ma.ch/event/krankensalbungsgottesdienst/
LOCATION:Kirche Bruder Klaus\, Wolfertswil\, 9116
CATEGORIES:Gottesdienste
END:VEVENT
BEGIN:VEVENT
DTSTART;TZID=Europe/Zurich:20250910T143000
DTEND;TZID=Europe/Zurich:20250910T170000
DTSTAMP:20260421T225641
CREATED:20241216T075402Z
LAST-MODIFIED:20241216T075402Z
UID:50125-1757514600-1757523600@www.se-ma.ch
SUMMARY:Flawil: SEMAplus-Senioren
DESCRIPTION:Tanzcafé mit DJ Alexander \nJahresprogramm SEMAplus
URL:https://www.se-ma.ch/event/flawil-semaplus-senioren-19/
LOCATION:Pfarreizentrum Flawil\, Enzenbühlstrasse 16\, Flawil\, 9230\, Schweiz
CATEGORIES:Anlässe und Veranstaltungen
END:VEVENT
BEGIN:VEVENT
DTSTART;TZID=Europe/Zurich:20250911T143000
DTEND;TZID=Europe/Zurich:20250911T170000
DTSTAMP:20260421T225641
CREATED:20250827T060434Z
LAST-MODIFIED:20250827T060444Z
UID:53889-1757601000-1757610000@www.se-ma.ch
SUMMARY:Frauengemeinschaft Flawil: Kafi-Treff
DESCRIPTION:im Rest. 5egg am Bahnhof
URL:https://www.se-ma.ch/event/frauengemeinschaft-flawil-kafi-treff-2/
LOCATION:Restaurant 5egg\, Oberdorfstrasse 5\, 9230 Flawil\, 9230\, Schweiz
CATEGORIES:Anlässe und Veranstaltungen
END:VEVENT
BEGIN:VEVENT
DTSTART;TZID=Europe/Zurich:20250911T190000
DTEND;TZID=Europe/Zurich:20250911T190000
DTSTAMP:20260421T225641
CREATED:20250704T082545Z
LAST-MODIFIED:20250704T082545Z
UID:53408-1757617200-1757617200@www.se-ma.ch
SUMMARY:Flawiler Friedensgebet
DESCRIPTION:In Flawil treffen sich Angehörige verschiedener Konfessionen zum Friedensgebet in der meth. Kirche. \nDaten Friedensgebet Flawil
URL:https://www.se-ma.ch/event/flawiler-friedensgebet-48/
LOCATION:Evangelisch-methodistische Kirche\, Riedernstrasse 13\, Flawil\, 9230\, Schweiz
END:VEVENT
BEGIN:VEVENT
DTSTART;TZID=Europe/Zurich:20250912T183000
DTEND;TZID=Europe/Zurich:20250912T190000
DTSTAMP:20260421T225641
CREATED:20250610T124522Z
LAST-MODIFIED:20250610T124522Z
UID:53111-1757701800-1757703600@www.se-ma.ch
SUMMARY:Degersheim: Führungen mit den Dorfchronisten
DESCRIPTION:Treffpunkt beim Turmeingang. \nInteressierte melden sich  bitte im Sekretariat T 071 371 10 17 oder per Mail: hc.am-esobfsctd-1b67d2@miehsreged-tairaterkes\, an. Bitte Name und Handynummern für Info’s angeben.
URL:https://www.se-ma.ch/event/degersheim-fuehrungen-mit-den-dorfchronisten/
LOCATION:Jakobuskirche Degersheim\, Bergstrasse 10\, Degersheim\, 9113\, Schweiz
CATEGORIES:Anlässe und Veranstaltungen
END:VEVENT
BEGIN:VEVENT
DTSTART;VALUE=DATE:20250913
DTEND;VALUE=DATE:20250914
DTSTAMP:20260421T225641
CREATED:20250827T061035Z
LAST-MODIFIED:20250827T061035Z
UID:53894-1757721600-1757807999@www.se-ma.ch
SUMMARY:Blauring Flawil - Jublatag mit Lagerrückblick
DESCRIPTION:
URL:https://www.se-ma.ch/event/blauring-flawil-jublatag-mit-lagerrueckblick/
LOCATION:St. Gallen
CATEGORIES:Kinder und Familien
END:VEVENT
BEGIN:VEVENT
DTSTART;VALUE=DATE:20250913
DTEND;VALUE=DATE:20250915
DTSTAMP:20260421T225641
CREATED:20250827T060948Z
LAST-MODIFIED:20250827T060948Z
UID:53892-1757721600-1757894399@www.se-ma.ch
SUMMARY:Kollpingfamilie Flawil - Frauenweekend
DESCRIPTION:
URL:https://www.se-ma.ch/event/kollpingfamilie-flawil-frauenweekend/
LOCATION:St. Gallen
CATEGORIES:Anlässe und Veranstaltungen
END:VEVENT
BEGIN:VEVENT
DTSTART;TZID=Europe/Zurich:20250913T100000
DTEND;TZID=Europe/Zurich:20250913T103000
DTSTAMP:20260421T225641
CREATED:20250610T124653Z
LAST-MODIFIED:20250610T124653Z
UID:53114-1757757600-1757759400@www.se-ma.ch
SUMMARY:Degersheim: Führungen mit den Dorfchronisten
DESCRIPTION:Treffpunkt beim Turmeingang. \nInteressierte melden sich  bitte im Sekretariat T 071 371 10 17 oder per Mail: hc.am-esobfsctd-64de34@miehsreged-tairaterkes\, an. Bitte Name und Handynummern für Info’s angeben.
URL:https://www.se-ma.ch/event/degersheim-fuehrungen-mit-den-dorfchronisten-2/
LOCATION:Jakobuskirche Degersheim\, Bergstrasse 10\, Degersheim\, 9113\, Schweiz
CATEGORIES:Anlässe und Veranstaltungen
END:VEVENT
BEGIN:VEVENT
DTSTART;TZID=Europe/Zurich:20250913T173000
DTEND;TZID=Europe/Zurich:20250913T173000
DTSTAMP:20260421T225641
CREATED:20241124T141919Z
LAST-MODIFIED:20241124T141919Z
UID:49630-1757784600-1757784600@www.se-ma.ch
SUMMARY:Flawil: Eucharistiefeier in Portugiesisch
DESCRIPTION:
URL:https://www.se-ma.ch/event/flawil-eucharistiefeier-in-portugiesisch-24/
LOCATION:Kapelle St. Laurentius Flawil\, Enzenbühlstrasse 20\, Flawil\, 9230\, Schweiz
CATEGORIES:Gottesdienste
END:VEVENT
BEGIN:VEVENT
DTSTART;TZID=Europe/Zurich:20250914T084500
DTEND;TZID=Europe/Zurich:20250914T084500
DTSTAMP:20260421T225641
CREATED:20250527T132509Z
LAST-MODIFIED:20250527T132509Z
UID:52845-1757839500-1757839500@www.se-ma.ch
SUMMARY:Niederglatt: Chilbisonntag und Kirchenfest\, Kommunionfeier mit Kirchenchor
DESCRIPTION:
URL:https://www.se-ma.ch/event/niederglatt-chilbisonntag-und-kirchenfest-kommunionfeier-mit-kirchenchor/
LOCATION:Felix + Regula Kirche Niederglatt\, Niederglatt\, 9240\, Schweiz
CATEGORIES:Gottesdienste,Kinder und Familien
END:VEVENT
BEGIN:VEVENT
DTSTART;TZID=Europe/Zurich:20250914T090000
DTEND;TZID=Europe/Zurich:20250914T090000
DTSTAMP:20260421T225641
CREATED:20241124T140309Z
LAST-MODIFIED:20241124T140309Z
UID:49579-1757840400-1757840400@www.se-ma.ch
SUMMARY:Eucharistiefeier in Italienisch
DESCRIPTION:
URL:https://www.se-ma.ch/event/eucharistiefeier-in-italienisch-50/
LOCATION:Kapelle St. Laurentius Flawil\, Enzenbühlstrasse 20\, Flawil\, 9230\, Schweiz
CATEGORIES:Gottesdienste
END:VEVENT
BEGIN:VEVENT
DTSTART;TZID=Europe/Zurich:20250914T101500
DTEND;TZID=Europe/Zurich:20250914T101500
DTSTAMP:20260421T225641
CREATED:20250623T120403Z
LAST-MODIFIED:20250623T120415Z
UID:53337-1757844900-1757844900@www.se-ma.ch
SUMMARY:Flawil: ökumenische Chinderfiir - im Unterkapellenraum der kath. Kirche
DESCRIPTION:Die Chinderfiir richtet sich an Kinder ab 3 Jahren und ihre erwachsenen Begleitpersonen. Während einer halben Stunde machen wir uns mit den Kindern und ihren erwachsenen Begleitpersonen auf den Weg\, den christlichen Glauben mit Musik\, einer Geschichte\, Spiel und Spass zu entdecken.\nGanz wichtig ist auch der anschliessende gemeinsame Znüni. \nFlyer Chinderfiir
URL:https://www.se-ma.ch/event/flawil-oekumenische-chinderfiir-im-unterkapellenraum-der-kath-kirche-duplikat/
LOCATION:Unterkapellenraum Flawil
CATEGORIES:Gottesdienste,Kinder und Familien
END:VEVENT
BEGIN:VEVENT
DTSTART;TZID=Europe/Zurich:20250914T101500
DTEND;TZID=Europe/Zurich:20250914T130000
DTSTAMP:20260421T225641
CREATED:20240827T063530Z
LAST-MODIFIED:20250515T083059Z
UID:48447-1757844900-1757854800@www.se-ma.ch
SUMMARY:Degersheim: Festgottesdienst 100 Jahre Kirche St. Jakobus
DESCRIPTION:  \nEucharistiefeier mit Kirchenchor und parallel Kinderfeier in der Kapelle\, anschliessendem Apéro riche\, Kinderprogramm und Orgelhäppchen
URL:https://www.se-ma.ch/event/degersheim-100-jahre-kirche-st-jakobus/
LOCATION:Jakobuskirche Degersheim\, Bergstrasse 10\, Degersheim\, 9113\, Schweiz
CATEGORIES:Gottesdienste
END:VEVENT
BEGIN:VEVENT
DTSTART;TZID=Europe/Zurich:20250915T144500
DTEND;TZID=Europe/Zurich:20250915T144500
DTSTAMP:20260421T225641
CREATED:20250124T071447Z
LAST-MODIFIED:20250124T071447Z
UID:50580-1757947500-1757947500@www.se-ma.ch
SUMMARY:Flawil: Familientreff - Besuch bei der Feuerwehr
DESCRIPTION:Jahresprogramm 2025
URL:https://www.se-ma.ch/event/flawil-familientreff-besuch-bei-der-feuerwehr/
LOCATION:St. Gallen
CATEGORIES:Kinder und Familien
ORGANIZER;CN="Familientreff Flawil":MAILTO:familientreff@bluewin.ch
END:VEVENT
END:VCALENDAR