BEGIN:VCALENDAR
VERSION:2.0
PRODID:-//Seelsorgeeinheit Magdenau - ECPv6.15.20//NONSGML v1.0//EN
CALSCALE:GREGORIAN
METHOD:PUBLISH
X-ORIGINAL-URL:https://www.se-ma.ch
X-WR-CALDESC:Veranstaltungen für Seelsorgeeinheit Magdenau
REFRESH-INTERVAL;VALUE=DURATION:PT1H
X-Robots-Tag:noindex
X-PUBLISHED-TTL:PT1H
BEGIN:VTIMEZONE
TZID:Europe/Zurich
BEGIN:DAYLIGHT
TZOFFSETFROM:+0100
TZOFFSETTO:+0200
TZNAME:CEST
DTSTART:20240331T010000
END:DAYLIGHT
BEGIN:STANDARD
TZOFFSETFROM:+0200
TZOFFSETTO:+0100
TZNAME:CET
DTSTART:20241027T010000
END:STANDARD
BEGIN:DAYLIGHT
TZOFFSETFROM:+0100
TZOFFSETTO:+0200
TZNAME:CEST
DTSTART:20250330T010000
END:DAYLIGHT
BEGIN:STANDARD
TZOFFSETFROM:+0200
TZOFFSETTO:+0100
TZNAME:CET
DTSTART:20251026T010000
END:STANDARD
BEGIN:DAYLIGHT
TZOFFSETFROM:+0100
TZOFFSETTO:+0200
TZNAME:CEST
DTSTART:20260329T010000
END:DAYLIGHT
BEGIN:STANDARD
TZOFFSETFROM:+0200
TZOFFSETTO:+0100
TZNAME:CET
DTSTART:20261025T010000
END:STANDARD
END:VTIMEZONE
BEGIN:VEVENT
DTSTART;TZID=Europe/Zurich:20251101T084500
DTEND;TZID=Europe/Zurich:20251101T084500
DTSTAMP:20260421T195331
CREATED:20250527T132643Z
LAST-MODIFIED:20250527T132643Z
UID:52847-1761986700-1761986700@www.se-ma.ch
SUMMARY:Niederglatt: Gottesdienst zu Allerheiligen und Totengedenkfeier
DESCRIPTION:
URL:https://www.se-ma.ch/event/niederglatt-gottesdienst-zu-allerheiligen-und-totengedenkfeier-3/
LOCATION:Felix + Regula Kirche Niederglatt\, Niederglatt\, 9240\, Schweiz
CATEGORIES:Gottesdienste
END:VEVENT
BEGIN:VEVENT
DTSTART;TZID=Europe/Zurich:20251101T101500
DTEND;TZID=Europe/Zurich:20251101T101500
DTSTAMP:20260421T195331
CREATED:20250729T120320Z
LAST-MODIFIED:20250729T120320Z
UID:53606-1761992100-1761992100@www.se-ma.ch
SUMMARY:Begegnungsfeier zu Allerheiligen
DESCRIPTION:bei der Friedhofshalle \nFlyer Begegnungsfeier
URL:https://www.se-ma.ch/event/begegnungsfeier-zu-allerheiligen/
LOCATION:Friedhof Wisental\, Enzenbühlstrasse\, 9230 Flawil\, 9230\, Schweiz
CATEGORIES:Gottesdienste,Kinder und Familien
END:VEVENT
BEGIN:VEVENT
DTSTART;TZID=Europe/Zurich:20251101T101500
DTEND;TZID=Europe/Zurich:20251101T111500
DTSTAMP:20260421T195331
CREATED:20250319T092120Z
LAST-MODIFIED:20250319T092120Z
UID:51679-1761992100-1761995700@www.se-ma.ch
SUMMARY:Degersheim: Gottesdienst zu Allerheiligen
DESCRIPTION:und Totengedenken
URL:https://www.se-ma.ch/event/degersheim-gottesdienst-zu-allerheiligen/
LOCATION:Jakobuskirche Degersheim\, Bergstrasse 10\, Degersheim\, 9113\, Schweiz
CATEGORIES:Gottesdienste
END:VEVENT
BEGIN:VEVENT
DTSTART;TZID=Europe/Zurich:20251101T130000
DTEND;TZID=Europe/Zurich:20251101T130000
DTSTAMP:20260421T195331
CREATED:20241119T101310Z
LAST-MODIFIED:20241119T101315Z
UID:49493-1762002000-1762002000@www.se-ma.ch
SUMMARY:Wolfertswil: Gottesdienst zu Allerheiligen und Totengedenken
DESCRIPTION:
URL:https://www.se-ma.ch/event/wolfertswil-gottesdienst-zu-allerheiligen-und-totengedenken/
LOCATION:Kirche Bruder Klaus\, Wolfertswil\, 9116
END:VEVENT
BEGIN:VEVENT
DTSTART;TZID=Europe/Zurich:20251101T143000
DTEND;TZID=Europe/Zurich:20251101T143000
DTSTAMP:20260421T195331
CREATED:20250527T134910Z
LAST-MODIFIED:20250527T141602Z
UID:52885-1762007400-1762007400@www.se-ma.ch
SUMMARY:Flawil: Gottesdienst zu Allerheiligen und Totengedenkfeier\, mit Kirchenchor
DESCRIPTION:
URL:https://www.se-ma.ch/event/flawil-gottesdienst-zu-allerheiligen-und-totengedenkfeier-mit-kirchenchor/
LOCATION:Kirche St. Laurentius Flawil\, Enzenbühlstrasse 20\, Flawil\, 9230\, Schweiz
CATEGORIES:Gottesdienste
END:VEVENT
BEGIN:VEVENT
DTSTART;TZID=Europe/Zurich:20251102T093000
DTEND;TZID=Europe/Zurich:20251102T093000
DTSTAMP:20260421T195331
CREATED:20250804T053519Z
LAST-MODIFIED:20250804T053524Z
UID:53639-1762075800-1762075800@www.se-ma.ch
SUMMARY:Flawil: Eucharistiefeier in Spanisch
DESCRIPTION:ab 9.00 Uhr Beichtgelegenheit
URL:https://www.se-ma.ch/event/flawil-eucharistiefeier-in-spanisch-46/
LOCATION:Kapelle St. Laurentius Flawil\, Enzenbühlstrasse 20\, Flawil\, 9230\, Schweiz
CATEGORIES:Gottesdienste
END:VEVENT
BEGIN:VEVENT
DTSTART;TZID=Europe/Zurich:20251102T101500
DTEND;TZID=Europe/Zurich:20251102T101500
DTSTAMP:20260421T195331
CREATED:20250527T133925Z
LAST-MODIFIED:20250527T133925Z
UID:52863-1762078500-1762078500@www.se-ma.ch
SUMMARY:Flawil: SEMA Allerseelengottesdienst
DESCRIPTION:
URL:https://www.se-ma.ch/event/flawil-sema-allerseelengottesdienst/
LOCATION:Kirche St. Laurentius Flawil\, Enzenbühlstrasse 20\, Flawil\, 9230\, Schweiz
CATEGORIES:Gottesdienste
END:VEVENT
BEGIN:VEVENT
DTSTART;TZID=Europe/Zurich:20251103T120000
DTEND;TZID=Europe/Zurich:20251103T120000
DTSTAMP:20260421T195331
CREATED:20250411T083044Z
LAST-MODIFIED:20250411T083044Z
UID:51964-1762171200-1762171200@www.se-ma.ch
SUMMARY:Wolfertswil: Seniorengruppe "Frohes Alter"
DESCRIPTION:Mittagstisch im Restaurant Moosbad\, Wolfertswil. \n13.30 Uhr Lottospiel mit Preisen. \nAnmeldungen bis 1. November an Anna Egli\, 077 483 69 60
URL:https://www.se-ma.ch/event/wolfertswil-seniorengruppe-frohes-alter-7/
LOCATION:Restaurant Moosbad\, Moosbad\, Wolfertswil\, 9113\, Schweiz
END:VEVENT
BEGIN:VEVENT
DTSTART;TZID=Europe/Zurich:20251103T193000
DTEND;TZID=Europe/Zurich:20251103T203000
DTSTAMP:20260421T195331
CREATED:20250603T093324Z
LAST-MODIFIED:20250603T093324Z
UID:53002-1762198200-1762201800@www.se-ma.ch
SUMMARY:Degersheim: Schweigemeditation
DESCRIPTION:In der Kapelle der Kath. Kirche St. Jakobus werden wir gemeinsam meditieren. Alle Interessierten\, unabhängig von Konfession oder Kirchennähe\, sind dazu herzlich eingeladen. \nFür Auskünfte steht Walter Germann gerne zur Verfügung: T 071 371 29 38.
URL:https://www.se-ma.ch/event/degersheim-schweigemeditation-77/
LOCATION:Jakobuskirche Kapelle Degersheim\, Bergstrasse 10\, Degersheim\, St. Gallen\, 9113\, Schweiz
CATEGORIES:Anlässe und Veranstaltungen
END:VEVENT
BEGIN:VEVENT
DTSTART;VALUE=DATE:20251104
DTEND;VALUE=DATE:20251105
DTSTAMP:20260421T195331
CREATED:20241216T075753Z
LAST-MODIFIED:20241216T075753Z
UID:50135-1762214400-1762300799@www.se-ma.ch
SUMMARY:Flawil: SEMAplus-Senioren
DESCRIPTION:Vortrag mit der Korrespondentin Luzia Tschirky zum Thema: «Wie eine Journalistin in Kriegs- und Krisengebieten arbeitet\, dabei einen kühlen Kopf bewahrt und trotzdem Mensch bleibt». \nJahresprogramm SEMAplus
URL:https://www.se-ma.ch/event/flawil-semaplus-senioren-24/
LOCATION:Lindensaal\, Lindenstrasse 6b\, Flawil\, 9230
CATEGORIES:Anlässe und Veranstaltungen
END:VEVENT
BEGIN:VEVENT
DTSTART;TZID=Europe/Zurich:20251104T144500
DTEND;TZID=Europe/Zurich:20251104T144500
DTSTAMP:20260421T195331
CREATED:20250124T071526Z
LAST-MODIFIED:20250124T071526Z
UID:50582-1762267500-1762267500@www.se-ma.ch
SUMMARY:Flawil: Familientreff - Zopftierlibacken
DESCRIPTION:Jahresprogramm 2025
URL:https://www.se-ma.ch/event/flawil-familientreff-zopftierlibacken/
LOCATION:Pfarreizentrum Flawil\, Enzenbühlstrasse 16\, Flawil\, 9230\, Schweiz
CATEGORIES:Kinder und Familien
ORGANIZER;CN="Familientreff Flawil":MAILTO:familientreff@bluewin.ch
END:VEVENT
BEGIN:VEVENT
DTSTART;TZID=Europe/Zurich:20251104T193000
DTEND;TZID=Europe/Zurich:20251104T213000
DTSTAMP:20260421T195331
CREATED:20250411T065947Z
LAST-MODIFIED:20250411T065947Z
UID:51938-1762284600-1762291800@www.se-ma.ch
SUMMARY:Wolfertswil: IMPULSraum - Zyklus II
DESCRIPTION:
URL:https://www.se-ma.ch/event/wolfertswil-impulsraum-zyklus-ii-3/
LOCATION:St. Gallen
END:VEVENT
BEGIN:VEVENT
DTSTART;TZID=Europe/Zurich:20251106T150000
DTEND;TZID=Europe/Zurich:20251106T163000
DTSTAMP:20260421T195331
CREATED:20241209T071247Z
LAST-MODIFIED:20241209T071247Z
UID:50059-1762441200-1762446600@www.se-ma.ch
SUMMARY:Trauercafé
DESCRIPTION:Das Trauercafé bietet Angehörigen die Möglichkeit\, über das Erlebte zu sprechen und sich mit anderen Betroffenen auszutauschen. Es ist keine Anmeldung nötig. \nHomepage Ökum. Hospizgruppe Flawil
URL:https://www.se-ma.ch/event/trauercafe-29/
LOCATION:Haus 5egg\, Bahnhofstrasse 33\, Flawil\, St. Gallen\, 9230\, Schweiz
CATEGORIES:Anlässe und Veranstaltungen
END:VEVENT
BEGIN:VEVENT
DTSTART;TZID=Europe/Zurich:20251106T190000
DTEND;TZID=Europe/Zurich:20251106T190000
DTSTAMP:20260421T195331
CREATED:20250704T082609Z
LAST-MODIFIED:20250704T082609Z
UID:53411-1762455600-1762455600@www.se-ma.ch
SUMMARY:Flawiler Friedensgebet
DESCRIPTION:In Flawil treffen sich Angehörige verschiedener Konfessionen zum Friedensgebet in der meth. Kirche. \nDaten Friedensgebet Flawil
URL:https://www.se-ma.ch/event/flawiler-friedensgebet-49/
LOCATION:Evangelisch-methodistische Kirche\, Riedernstrasse 13\, Flawil\, 9230\, Schweiz
END:VEVENT
BEGIN:VEVENT
DTSTART;TZID=Europe/Zurich:20251106T200000
DTEND;TZID=Europe/Zurich:20251106T210000
DTSTAMP:20260421T195331
CREATED:20250919T070410Z
LAST-MODIFIED:20250919T070410Z
UID:54248-1762459200-1762462800@www.se-ma.ch
SUMMARY:Gott einen Ort sichern - Exerzitien im Alltag
DESCRIPTION:3. Gruppenabend im Meditationsraum der ref. Kirche
URL:https://www.se-ma.ch/event/gott-einen-ort-sichern-exerzitien-im-alltag-3/
LOCATION:Ref. Kirche Feld\, Flawil\, 9230\, Schweiz
CATEGORIES:Anlässe und Veranstaltungen
END:VEVENT
BEGIN:VEVENT
DTSTART;TZID=Europe/Zurich:20251107T000000
DTEND;TZID=Europe/Zurich:20251107T000000
DTSTAMP:20260421T195331
CREATED:20251031T074831Z
LAST-MODIFIED:20251031T074831Z
UID:54818-1762473600-1762473600@www.se-ma.ch
SUMMARY:Niederglatt: Frauengemeinschaft
DESCRIPTION:Besuch Kerzenfabrik Hongler
URL:https://www.se-ma.ch/event/niederglatt-frauengemeinschaft-6/
LOCATION:St. Gallen
CATEGORIES:Anlässe und Veranstaltungen
END:VEVENT
BEGIN:VEVENT
DTSTART;TZID=Europe/Zurich:20251115T190000
DTEND;TZID=Europe/Zurich:20251115T190000
DTSTAMP:20260421T195331
CREATED:20251031T074929Z
LAST-MODIFIED:20251031T074929Z
UID:54821-1763233200-1763233200@www.se-ma.ch
SUMMARY:Niederglatt: Frauengemeinschaft
DESCRIPTION:Lottoabend im Rest. Engel
URL:https://www.se-ma.ch/event/niederglatt-frauengemeinschaft-15/
LOCATION:St. Gallen
CATEGORIES:Anlässe und Veranstaltungen
END:VEVENT
BEGIN:VEVENT
DTSTART;VALUE=DATE:20251107
DTEND;VALUE=DATE:20251108
DTSTAMP:20260421T195331
CREATED:20250707T055328Z
LAST-MODIFIED:20250707T055328Z
UID:53445-1762473600-1762559999@www.se-ma.ch
SUMMARY:Herz-Jesu-Freitag
DESCRIPTION:
URL:https://www.se-ma.ch/event/herz-jesu-freitag-3/
LOCATION:St. Gallen
CATEGORIES:Gottesdienste
END:VEVENT
BEGIN:VEVENT
DTSTART;TZID=Europe/Zurich:20251107T170000
DTEND;TZID=Europe/Zurich:20251107T223000
DTSTAMP:20260421T195331
CREATED:20241022T134841Z
LAST-MODIFIED:20241022T134841Z
UID:49169-1762534800-1762554600@www.se-ma.ch
SUMMARY:Degersheim: Dankesabend SEMA
DESCRIPTION:Betroffene Personen werden rechtzeitig persönlich eingeladen.
URL:https://www.se-ma.ch/event/degersheim-dankesabend-sema/
LOCATION:evang. Kirchgemeindehaus Degersheim\, Steineggstrasse 12\, Degersheim\, 9113\, Schweiz
CATEGORIES:Anlässe und Veranstaltungen
END:VEVENT
BEGIN:VEVENT
DTSTART;TZID=Europe/Zurich:20251214T101500
DTEND;TZID=Europe/Zurich:20251214T101500
DTSTAMP:20260421T195331
CREATED:20250623T115837Z
LAST-MODIFIED:20251209T101953Z
UID:53332-1765707300-1765707300@www.se-ma.ch
SUMMARY:Flawil: ökumenische Chinderfiir - Zwinglisaal der ref. Kirche
DESCRIPTION:Bei schlechtem Wetter im Zwinglisaal. Die Chinderfiir richtet sich an Kinder ab 3 Jahren und ihre erwachsenen Begleitpersonen. Während einer halben Stunde machen wir uns mit den Kindern und ihren erwachsenen Begleitpersonen auf den Weg\, den christlichen Glauben mit Musik\, einer Geschichte\, Spiel und Spass zu entdecken. Ganz wichtig ist auch der anschliessende gemeinsame Znüni. \nFlyer Chinderfiir
URL:https://www.se-ma.ch/event/flawil-oekumenische-chinderfiir-zwinglisaal-der-ref-kirche/
LOCATION:Unterkapellenraum Flawil
CATEGORIES:Kinder und Familien
END:VEVENT
BEGIN:VEVENT
DTSTART;TZID=Europe/Zurich:20251108T100000
DTEND;TZID=Europe/Zurich:20251108T120000
DTSTAMP:20260421T195331
CREATED:20241022T133546Z
LAST-MODIFIED:20241022T133546Z
UID:49163-1762596000-1762603200@www.se-ma.ch
SUMMARY:Degersheim: ökum. Chinderchile
DESCRIPTION:Die Gestaltung des Programms ist auf die Fähigkeiten von Kindern im Alter von 3 – 6 Jahren mit ihren Begleitpersonen ausgerichtet. \nIm Anschluss an die Feier geniessen wir das gemütliche Zusammensein im evang. Kirchgemeindehaus.
URL:https://www.se-ma.ch/event/degersheim-oekum-chinderchile-12/
LOCATION:evang. Kirchgemeindehaus Degersheim\, Steineggstrasse 12\, Degersheim\, 9113\, Schweiz
CATEGORIES:Kinder und Familien
END:VEVENT
BEGIN:VEVENT
DTSTART;TZID=Europe/Zurich:20251108T173000
DTEND;TZID=Europe/Zurich:20251108T173000
DTSTAMP:20260421T195331
CREATED:20241124T142044Z
LAST-MODIFIED:20241124T142044Z
UID:49638-1762623000-1762623000@www.se-ma.ch
SUMMARY:Flawil: Eucharistiefeier in Portugiesisch
DESCRIPTION:
URL:https://www.se-ma.ch/event/flawil-eucharistiefeier-in-portugiesisch-28/
LOCATION:Kapelle St. Laurentius Flawil\, Enzenbühlstrasse 20\, Flawil\, 9230\, Schweiz
CATEGORIES:Gottesdienste
END:VEVENT
BEGIN:VEVENT
DTSTART;TZID=Europe/Zurich:20251108T173000
DTEND;TZID=Europe/Zurich:20251108T183000
DTSTAMP:20260421T195331
CREATED:20250319T092552Z
LAST-MODIFIED:20250319T092552Z
UID:51683-1762623000-1762626600@www.se-ma.ch
SUMMARY:Degersheim: Kommunionfeier
DESCRIPTION:
URL:https://www.se-ma.ch/event/degersheim-kommunionfeier-32/
LOCATION:Jakobuskirche Degersheim\, Bergstrasse 10\, Degersheim\, 9113\, Schweiz
CATEGORIES:Gottesdienste
END:VEVENT
BEGIN:VEVENT
DTSTART;TZID=Europe/Zurich:20251109T090000
DTEND;TZID=Europe/Zurich:20251109T090000
DTSTAMP:20260421T195331
CREATED:20241124T140337Z
LAST-MODIFIED:20241124T140337Z
UID:49583-1762678800-1762678800@www.se-ma.ch
SUMMARY:Eucharistiefeier in Italienisch
DESCRIPTION:
URL:https://www.se-ma.ch/event/eucharistiefeier-in-italienisch-52/
LOCATION:Kapelle St. Laurentius Flawil\, Enzenbühlstrasse 20\, Flawil\, 9230\, Schweiz
CATEGORIES:Gottesdienste
END:VEVENT
BEGIN:VEVENT
DTSTART;TZID=Europe/Zurich:20251109T101500
DTEND;TZID=Europe/Zurich:20251109T101500
DTSTAMP:20260421T195331
CREATED:20250527T134943Z
LAST-MODIFIED:20251021T085513Z
UID:52889-1762683300-1762683300@www.se-ma.ch
SUMMARY:Flawil: Eucharistiefeier
DESCRIPTION:Verabschiedung von Irène Schiess\, Organistin
URL:https://www.se-ma.ch/event/flawil-kommunionfeier-30/
LOCATION:Kirche St. Laurentius Flawil\, Enzenbühlstrasse 20\, Flawil\, 9230\, Schweiz
CATEGORIES:Gottesdienste
END:VEVENT
BEGIN:VEVENT
DTSTART;TZID=Europe/Zurich:20251110T193000
DTEND;TZID=Europe/Zurich:20251110T203000
DTSTAMP:20260421T195331
CREATED:20250603T093429Z
LAST-MODIFIED:20250603T093429Z
UID:53004-1762803000-1762806600@www.se-ma.ch
SUMMARY:Degersheim: Schweigemeditation
DESCRIPTION:In der Kapelle der Kath. Kirche St. Jakobus werden wir gemeinsam meditieren. Alle Interessierten\, unabhängig von Konfession oder Kirchennähe\, sind dazu herzlich eingeladen. \nFür Auskünfte steht Walter Germann gerne zur Verfügung: T 071 371 29 38.
URL:https://www.se-ma.ch/event/degersheim-schweigemeditation-78/
LOCATION:Jakobuskirche Kapelle Degersheim\, Bergstrasse 10\, Degersheim\, St. Gallen\, 9113\, Schweiz
CATEGORIES:Anlässe und Veranstaltungen
END:VEVENT
BEGIN:VEVENT
DTSTART;TZID=Europe/Zurich:20251113T190000
DTEND;TZID=Europe/Zurich:20251113T200000
DTSTAMP:20260421T195331
CREATED:20240918T073945Z
LAST-MODIFIED:20250131T075449Z
UID:48706-1763060400-1763064000@www.se-ma.ch
SUMMARY:Degersheim: Friedensgebet in der evang. Kirche
DESCRIPTION:Wir beten für den Frieden in unserer Welt.
URL:https://www.se-ma.ch/event/degersheim-friedensgebet-26/
LOCATION:evang. Kirche Degersheim\, Steineggstrasse 10\, Degersheim\, 9113
CATEGORIES:Gottesdienste
END:VEVENT
BEGIN:VEVENT
DTSTART;TZID=Europe/Zurich:20251113T193000
DTEND;TZID=Europe/Zurich:20251113T193000
DTSTAMP:20260421T195331
CREATED:20251031T080747Z
LAST-MODIFIED:20251031T082512Z
UID:54830-1763062200-1763062200@www.se-ma.ch
SUMMARY:Flawil: Elternabend Erstkommunion
DESCRIPTION:
URL:https://www.se-ma.ch/event/flawil-elternabend-erstkommunion/
LOCATION:Kirche St. Laurentius Flawil\, Enzenbühlstrasse 20\, Flawil\, 9230\, Schweiz
CATEGORIES:Anlässe und Veranstaltungen
END:VEVENT
BEGIN:VEVENT
DTSTART;TZID=Europe/Zurich:20251113T193000
DTEND;TZID=Europe/Zurich:20251113T193000
DTSTAMP:20260421T195331
CREATED:20251031T081155Z
LAST-MODIFIED:20251031T081220Z
UID:54835-1763062200-1763062200@www.se-ma.ch
SUMMARY:Flawil: Ökum. Veranstaltungsreihe "Uf de Spur"
DESCRIPTION:Podiumsgespräch: Wie «neu geboren» oder «zu Tode betrübt»?
URL:https://www.se-ma.ch/event/flawil-oekum-veranstaltungsreihe-uf-de-spur-3/
LOCATION:Pfarreizentrum Flawil\, Enzenbühlstrasse 16\, Flawil\, 9230\, Schweiz
CATEGORIES:Anlässe und Veranstaltungen
END:VEVENT
BEGIN:VEVENT
DTSTART;TZID=Europe/Zurich:20251115T173000
DTEND;TZID=Europe/Zurich:20251115T183000
DTSTAMP:20260421T195331
CREATED:20250319T092816Z
LAST-MODIFIED:20250319T092816Z
UID:51686-1763227800-1763231400@www.se-ma.ch
SUMMARY:Degersheim: Kommunionfeier
DESCRIPTION:
URL:https://www.se-ma.ch/event/degersheim-kommunionfeier-33/
LOCATION:Jakobuskirche Degersheim\, Bergstrasse 10\, Degersheim\, 9113\, Schweiz
CATEGORIES:Gottesdienste
END:VEVENT
END:VCALENDAR