BEGIN:VCALENDAR
VERSION:2.0
PRODID:-//Seelsorgeeinheit Magdenau - ECPv6.15.20//NONSGML v1.0//EN
CALSCALE:GREGORIAN
METHOD:PUBLISH
X-ORIGINAL-URL:https://www.se-ma.ch
X-WR-CALDESC:Veranstaltungen für Seelsorgeeinheit Magdenau
REFRESH-INTERVAL;VALUE=DURATION:PT1H
X-Robots-Tag:noindex
X-PUBLISHED-TTL:PT1H
BEGIN:VTIMEZONE
TZID:Europe/Zurich
BEGIN:DAYLIGHT
TZOFFSETFROM:+0100
TZOFFSETTO:+0200
TZNAME:CEST
DTSTART:20250330T010000
END:DAYLIGHT
BEGIN:STANDARD
TZOFFSETFROM:+0200
TZOFFSETTO:+0100
TZNAME:CET
DTSTART:20251026T010000
END:STANDARD
BEGIN:DAYLIGHT
TZOFFSETFROM:+0100
TZOFFSETTO:+0200
TZNAME:CEST
DTSTART:20260329T010000
END:DAYLIGHT
BEGIN:STANDARD
TZOFFSETFROM:+0200
TZOFFSETTO:+0100
TZNAME:CET
DTSTART:20261025T010000
END:STANDARD
BEGIN:DAYLIGHT
TZOFFSETFROM:+0100
TZOFFSETTO:+0200
TZNAME:CEST
DTSTART:20270328T010000
END:DAYLIGHT
BEGIN:STANDARD
TZOFFSETFROM:+0200
TZOFFSETTO:+0100
TZNAME:CET
DTSTART:20271031T010000
END:STANDARD
END:VTIMEZONE
BEGIN:VEVENT
DTSTART;TZID=Europe/Zurich:20260301T093000
DTEND;TZID=Europe/Zurich:20260301T093000
DTSTAMP:20260421T134122
CREATED:20260106T153122Z
LAST-MODIFIED:20260106T153122Z
UID:55951-1772357400-1772357400@www.se-ma.ch
SUMMARY:Flawil: Eucharistiefeier in Spanisch
DESCRIPTION:ab 9.00 Uhr Beichtgelegenheit
URL:https://www.se-ma.ch/event/flawil-eucharistiefeier-in-spanisch-60/
LOCATION:Kapelle St. Laurentius Flawil\, Enzenbühlstrasse 20\, Flawil\, 9230\, Schweiz
CATEGORIES:Gottesdienste
END:VEVENT
BEGIN:VEVENT
DTSTART;TZID=Europe/Zurich:20260301T101500
DTEND;TZID=Europe/Zurich:20260301T101500
DTSTAMP:20260421T134122
CREATED:20260106T155054Z
LAST-MODIFIED:20260106T155054Z
UID:56015-1772360100-1772360100@www.se-ma.ch
SUMMARY:Flawil: SEMA Eucharistiefeier mit Fastenaktionsprojekttag
DESCRIPTION:
URL:https://www.se-ma.ch/event/flawil-sema-eucharistiefeier-mit-fastenaktionsprojekttag/
LOCATION:Kirche St. Laurentius Flawil\, Enzenbühlstrasse 20\, Flawil\, 9230\, Schweiz
CATEGORIES:Gottesdienste
END:VEVENT
BEGIN:VEVENT
DTSTART;TZID=Europe/Zurich:20260302T193000
DTEND;TZID=Europe/Zurich:20260302T203000
DTSTAMP:20260421T134122
CREATED:20251125T095915Z
LAST-MODIFIED:20251125T095915Z
UID:55185-1772479800-1772483400@www.se-ma.ch
SUMMARY:Degersheim: Schweigemeditation
DESCRIPTION:In der Kapelle der Kath. Kirche St. Jakobus werden wir gemeinsam meditieren. Alle Interessierten\, unabhängig von Konfession oder Kirchennähe\, sind dazu herzlich eingeladen. \nFür Auskünfte steht Walter Germann gerne zur Verfügung: T 071 371 29 38.
URL:https://www.se-ma.ch/event/degersheim-schweigemeditation-91/
LOCATION:Jakobuskirche Kapelle Degersheim\, Bergstrasse 10\, Degersheim\, St. Gallen\, 9113\, Schweiz
CATEGORIES:Anlässe und Veranstaltungen
END:VEVENT
BEGIN:VEVENT
DTSTART;TZID=Europe/Zurich:20260303T193000
DTEND;TZID=Europe/Zurich:20260303T193000
DTSTAMP:20260421T134122
CREATED:20260113T094838Z
LAST-MODIFIED:20260113T094843Z
UID:56172-1772566200-1772566200@www.se-ma.ch
SUMMARY:IMPULSraum
DESCRIPTION:
URL:https://www.se-ma.ch/event/impulsraum/
LOCATION:Bruder Klaus Kirche Wolfertswil\, Wolfertswil\, 9116 \, Schweiz
CATEGORIES:Anlässe und Veranstaltungen
END:VEVENT
BEGIN:VEVENT
DTSTART;TZID=Europe/Zurich:20260305T083000
DTEND;TZID=Europe/Zurich:20260305T103000
DTSTAMP:20260421T134122
CREATED:20260210T142135Z
LAST-MODIFIED:20260210T142628Z
UID:56482-1772699400-1772706600@www.se-ma.ch
SUMMARY:Degersheim: Waldcafé
DESCRIPTION:Gerne laden wir Sie als Waldspazierer mit oder ohne Hund\, Jogger\, Träumer\, etc. zu einem feinen Café ein! \nFür Auskünfte steht Silvan Hollenstein\, T 079 743 73 89\, zur Verfügung.
URL:https://www.se-ma.ch/event/degersheim-waldcafe-2/
LOCATION:Föhrenwäldli\, Berg 1\, Degersheim\, 9113 \, Schweiz
CATEGORIES:Anlässe und Veranstaltungen
END:VEVENT
BEGIN:VEVENT
DTSTART;TZID=Europe/Zurich:20260305T150000
DTEND;TZID=Europe/Zurich:20260305T163000
DTSTAMP:20260421T134122
CREATED:20251203T081428Z
LAST-MODIFIED:20251203T081428Z
UID:55367-1772722800-1772728200@www.se-ma.ch
SUMMARY:Trauercafé
DESCRIPTION:Das Trauercafé bietet Angehörigen die Möglichkeit\, über das Erlebte zu sprechen und sich mit anderen Betroffenen auszutauschen. Es ist keine Anmeldung nötig. \nHomepage Ökum. Hospizgruppe Flawil
URL:https://www.se-ma.ch/event/trauercafe-33/
LOCATION:Haus 5egg\, Bahnhofstrasse 33\, Flawil\, St. Gallen\, 9230\, Schweiz
CATEGORIES:Anlässe und Veranstaltungen
END:VEVENT
BEGIN:VEVENT
DTSTART;TZID=Europe/Zurich:20260305T183000
DTEND;TZID=Europe/Zurich:20260305T183000
DTSTAMP:20260421T134122
CREATED:20260211T075213Z
LAST-MODIFIED:20260211T075213Z
UID:56505-1772735400-1772735400@www.se-ma.ch
SUMMARY:Auftakt zum Ferdinand-Gehr-Jahr
DESCRIPTION:Gast: Franziska Gehr (Tochter)
URL:https://www.se-ma.ch/event/auftakt-zum-ferdinand-gehr-jahr/
LOCATION:Felix + Regula Kirche Niederglatt\, Niederglatt\, 9240\, Schweiz
CATEGORIES:Anlässe und Veranstaltungen
ORGANIZER;CN="Pfarreigremium Niederglatt":MAILTO:sekretariat-flawil@se-ma.ch
END:VEVENT
BEGIN:VEVENT
DTSTART;TZID=Europe/Zurich:20260306T113000
DTEND;TZID=Europe/Zurich:20260306T113000
DTSTAMP:20260421T134122
CREATED:20260209T140651Z
LAST-MODIFIED:20260209T140651Z
UID:56448-1772796600-1772796600@www.se-ma.ch
SUMMARY:Flawil: Suppenfreitag
DESCRIPTION:
URL:https://www.se-ma.ch/event/flawil-suppenfreitag-3/
LOCATION:Pfarreizentrum Flawil\, Enzenbühlstrasse 16\, Flawil\, 9230\, Schweiz
CATEGORIES:Anlässe und Veranstaltungen
END:VEVENT
BEGIN:VEVENT
DTSTART;TZID=Europe/Zurich:20260306T183000
DTEND;TZID=Europe/Zurich:20260306T200000
DTSTAMP:20260421T134122
CREATED:20251217T101528Z
LAST-MODIFIED:20251217T101528Z
UID:55600-1772821800-1772827200@www.se-ma.ch
SUMMARY:Degersheim: Zämägang
DESCRIPTION:für einander da sein \nzusammen statt alleine \nHast du Lust\, mit mir und hoffentlich anderen Menschen zusammen zu sein? Dann komm einfach mit. \nVielleicht kennst du Menschen\, denen das freundliche und interessierte Miteinander gut tun würde. Mache sie aufmerksam auf dieses Angebot oder bring sie gleich selbst mit! \nEs braucht keine Anmeldung! \nTreffpunkt beim Parkplatz Föhrenwäldli Degersheim! \nIch freue mich auf dich! \nSilvan Hollenstein\, Seelsorger\, Tel. 079 743 73 89
URL:https://www.se-ma.ch/event/degersheim-zaemaegang-27/
LOCATION:Föhrenwäldli\, Berg 1\, Degersheim\, 9113 \, Schweiz
CATEGORIES:Anlässe und Veranstaltungen
END:VEVENT
BEGIN:VEVENT
DTSTART;TZID=Europe/Zurich:20260307T100000
DTEND;TZID=Europe/Zurich:20260307T100000
DTSTAMP:20260421T134122
CREATED:20251114T092850Z
LAST-MODIFIED:20251114T092854Z
UID:55080-1772877600-1772877600@www.se-ma.ch
SUMMARY:Degersheim: ökum. Chinderchile
DESCRIPTION:Die Gestaltung des Programms ist auf die Fähigkeiten von Kindern im Alter von 3 – 6 Jahren mit ihren Begleitpersonen ausgerichtet. \nGeschwister sind herzlich willkommen. \nIm Anschluss an die Feier geniessen wir das gemütliche Zusammensein im ref. Kirchgemeindehaus.
URL:https://www.se-ma.ch/event/degersheim-oekum-chinderchile-16/
LOCATION:evang. Kirchgemeindehaus Degersheim\, Steineggstrasse 12\, Degersheim\, 9113\, Schweiz
CATEGORIES:Gottesdienste,Kinder und Familien
END:VEVENT
BEGIN:VEVENT
DTSTART;TZID=Europe/Zurich:20260307T173000
DTEND;TZID=Europe/Zurich:20260307T173000
DTSTAMP:20260421T134122
CREATED:20251028T132751Z
LAST-MODIFIED:20251028T132759Z
UID:54758-1772904600-1772904600@www.se-ma.ch
SUMMARY:Degersheim: Eucharistiefeier
DESCRIPTION:
URL:https://www.se-ma.ch/event/degersheim-eucharistiefeier-59/
LOCATION:St. Jakobuskirche Degersheim\, Bergstrasse 10\, Degersheim\, 9113\, Schweiz
CATEGORIES:Gottesdienste
END:VEVENT
BEGIN:VEVENT
DTSTART;TZID=Europe/Zurich:20260308T101500
DTEND;TZID=Europe/Zurich:20260308T101500
DTSTAMP:20260421T134122
CREATED:20251024T092919Z
LAST-MODIFIED:20260114T083719Z
UID:54568-1772964900-1772964900@www.se-ma.ch
SUMMARY:Wolfertswil: Eucharistiefeier mit anschliessendem Suppenzmittag
DESCRIPTION:
URL:https://www.se-ma.ch/event/wolfertswil-eucharistiefeier-am-suppentag/
LOCATION:Kirche Bruder Klaus\, Wolfertswil\, 9116
END:VEVENT
BEGIN:VEVENT
DTSTART;TZID=Europe/Zurich:20260308T090000
DTEND;TZID=Europe/Zurich:20260308T090000
DTSTAMP:20260421T134122
CREATED:20260106T151420Z
LAST-MODIFIED:20260106T151420Z
UID:55861-1772960400-1772960400@www.se-ma.ch
SUMMARY:Flawil: Eucharistiefeier in Italienisch
DESCRIPTION:
URL:https://www.se-ma.ch/event/flawil-eucharistiefeier-in-italienisch-3/
LOCATION:Kapelle St. Laurentius Flawil\, Enzenbühlstrasse 20\, Flawil\, 9230\, Schweiz
CATEGORIES:Gottesdienste
END:VEVENT
BEGIN:VEVENT
DTSTART;TZID=Europe/Zurich:20260308T101500
DTEND;TZID=Europe/Zurich:20260308T101500
DTSTAMP:20260421T134122
CREATED:20260106T155127Z
LAST-MODIFIED:20260106T155127Z
UID:56017-1772964900-1772964900@www.se-ma.ch
SUMMARY:Flawil: Eucharistiefeier
DESCRIPTION:
URL:https://www.se-ma.ch/event/flawil-eucharistiefeier-45/
LOCATION:Kirche St. Laurentius Flawil\, Enzenbühlstrasse 20\, Flawil\, 9230\, Schweiz
CATEGORIES:Gottesdienste
END:VEVENT
BEGIN:VEVENT
DTSTART;TZID=Europe/Zurich:20260308T173000
DTEND;TZID=Europe/Zurich:20260308T173000
DTSTAMP:20260421T134122
CREATED:20251028T132902Z
LAST-MODIFIED:20251028T132906Z
UID:54761-1772991000-1772991000@www.se-ma.ch
SUMMARY:Degersheim: Abendlob zur Fastenzeit
DESCRIPTION:
URL:https://www.se-ma.ch/event/degersheim-abendlob-zur-fastenzeit-9/
LOCATION:St. Jakobuskirche Degersheim\, Bergstrasse 10\, Degersheim\, 9113\, Schweiz
CATEGORIES:Gottesdienste
END:VEVENT
BEGIN:VEVENT
DTSTART;TZID=Europe/Zurich:20260309T193000
DTEND;TZID=Europe/Zurich:20260309T203000
DTSTAMP:20260421T134122
CREATED:20251125T100014Z
LAST-MODIFIED:20251125T100014Z
UID:55187-1773084600-1773088200@www.se-ma.ch
SUMMARY:Degersheim: Schweigemeditation
DESCRIPTION:In der Kapelle der Kath. Kirche St. Jakobus werden wir gemeinsam meditieren. Alle Interessierten\, unabhängig von Konfession oder Kirchennähe\, sind dazu herzlich eingeladen. \nFür Auskünfte steht Walter Germann gerne zur Verfügung: T 071 371 29 38.
URL:https://www.se-ma.ch/event/degersheim-schweigemeditation-92/
LOCATION:Jakobuskirche Kapelle Degersheim\, Bergstrasse 10\, Degersheim\, St. Gallen\, 9113\, Schweiz
CATEGORIES:Anlässe und Veranstaltungen
END:VEVENT
BEGIN:VEVENT
DTSTART;TZID=Europe/Zurich:20260311T114500
DTEND;TZID=Europe/Zurich:20260311T140000
DTSTAMP:20260421T134122
CREATED:20251031T093016Z
LAST-MODIFIED:20251031T093016Z
UID:54851-1773229500-1773237600@www.se-ma.ch
SUMMARY:Degersheim: zämä ässä
DESCRIPTION:Wir freuen uns über alle\, die Lust haben\, gemeinsam zu essen\, zu geniessen und zu plaudern. Ein bunt zusammengewürfeltes Küchenteam kocht und serviert speziell für Sie! Der Preis beträgt Fr. 10.00. Bitte geben Sie bei der Anmeldung an\, falls Sie vegetarisch essen möchten! Anmeldungen bitte bis spätestens am Freitag bis 11.00 Uhr\, vor dem „zämä ässä“ an:\nTel. 071 371 10 17 oder per Mail: hc.am-esobfsctd-1cc409@miehsreged-tairaterkes
URL:https://www.se-ma.ch/event/degersheim-zaemae-aessae-25/
LOCATION:Pfarreiheim
CATEGORIES:Anlässe und Veranstaltungen
END:VEVENT
BEGIN:VEVENT
DTSTART;TZID=Europe/Zurich:20260311T143000
DTEND;TZID=Europe/Zurich:20260311T163000
DTSTAMP:20260421T134122
CREATED:20260319T130721Z
LAST-MODIFIED:20260319T130721Z
UID:56938-1773239400-1773246600@www.se-ma.ch
SUMMARY:Flawil: SEMAplus - Seniorennachmittag
DESCRIPTION:Hommage an Mani Matter – mit Andreas Aeschlimann
URL:https://www.se-ma.ch/event/flawil-semaplus-seniorennachmittag/
LOCATION:Pfarreizentrum Flawil\, Enzenbühlstrasse 16\, Flawil\, 9230\, Schweiz
END:VEVENT
BEGIN:VEVENT
DTSTART;TZID=Europe/Zurich:20260312T190000
DTEND;TZID=Europe/Zurich:20260312T190000
DTSTAMP:20260421T134122
CREATED:20251208T133728Z
LAST-MODIFIED:20251208T133736Z
UID:55439-1773342000-1773342000@www.se-ma.ch
SUMMARY:Flawiler Friedensgebet
DESCRIPTION:In Flawil treffen sich Angehörige verschiedener Konfessionen zum Friedensgebet in der Kapelle der kath. Kirche \nDaten Friedensgebet Flawil
URL:https://www.se-ma.ch/event/flawiler-friedensgebet-57/
LOCATION:Kapelle St. Laurentius Flawil\, Enzenbühlstrasse 20\, Flawil\, 9230\, Schweiz
CATEGORIES:Anlässe und Veranstaltungen,Gottesdienste
END:VEVENT
BEGIN:VEVENT
DTSTART;TZID=Europe/Zurich:20260312T190000
DTEND;TZID=Europe/Zurich:20260312T200000
DTSTAMP:20260421T134122
CREATED:20251202T103833Z
LAST-MODIFIED:20251202T103833Z
UID:55300-1773342000-1773345600@www.se-ma.ch
SUMMARY:Degersheim: Friedensgebet
DESCRIPTION:Wir beten für den Frieden in unserer Welt.
URL:https://www.se-ma.ch/event/degersheim-friedensgebet-30/
LOCATION:evang. Kirche Degersheim\, Steineggstrasse 10\, Degersheim\, 9113
CATEGORIES:Anlässe und Veranstaltungen
END:VEVENT
BEGIN:VEVENT
DTSTART;TZID=Europe/Zurich:20260313T113000
DTEND;TZID=Europe/Zurich:20260313T113000
DTSTAMP:20260421T134122
CREATED:20260209T140709Z
LAST-MODIFIED:20260209T140709Z
UID:56450-1773401400-1773401400@www.se-ma.ch
SUMMARY:Flawil: Suppenfreitag
DESCRIPTION:
URL:https://www.se-ma.ch/event/flawil-suppenfreitag-4/
LOCATION:Pfarreizentrum Flawil\, Enzenbühlstrasse 16\, Flawil\, 9230\, Schweiz
CATEGORIES:Anlässe und Veranstaltungen
END:VEVENT
BEGIN:VEVENT
DTSTART;TZID=Europe/Zurich:20260314T173000
DTEND;TZID=Europe/Zurich:20260314T173000
DTSTAMP:20260421T134122
CREATED:20251028T133008Z
LAST-MODIFIED:20251028T133013Z
UID:54763-1773509400-1773509400@www.se-ma.ch
SUMMARY:Degersheim: Kommunionfeier
DESCRIPTION:Suppenzmittag
URL:https://www.se-ma.ch/event/degersheim-kommunionfeier-35/
LOCATION:St. Jakobuskirche Degersheim\, Bergstrasse 10\, Degersheim\, 9113\, Schweiz
CATEGORIES:Gottesdienste
END:VEVENT
BEGIN:VEVENT
DTSTART;TZID=Europe/Zurich:20260314T173000
DTEND;TZID=Europe/Zurich:20260314T173000
DTSTAMP:20260421T134122
CREATED:20260106T152401Z
LAST-MODIFIED:20260106T152401Z
UID:55913-1773509400-1773509400@www.se-ma.ch
SUMMARY:Flawil: Eucharistiefeier in Portugiesisch
DESCRIPTION:
URL:https://www.se-ma.ch/event/flawil-eucharistiefeier-in-portugiesisch-35/
LOCATION:Kapelle St. Laurentius Flawil\, Enzenbühlstrasse 20\, Flawil\, 9230\, Schweiz
CATEGORIES:Gottesdienste
END:VEVENT
BEGIN:VEVENT
DTSTART;TZID=Europe/Zurich:20260329T113000
DTEND;TZID=Europe/Zurich:20260329T113000
DTSTAMP:20260421T134122
CREATED:20260106T152430Z
LAST-MODIFIED:20260106T152430Z
UID:55915-1774783800-1774783800@www.se-ma.ch
SUMMARY:Flawil: Eucharistiefeier in Portugiesisch
DESCRIPTION:
URL:https://www.se-ma.ch/event/flawil-eucharistiefeier-in-portugiesisch-36/
LOCATION:Kapelle St. Laurentius Flawil\, Enzenbühlstrasse 20\, Flawil\, 9230\, Schweiz
CATEGORIES:Gottesdienste
END:VEVENT
BEGIN:VEVENT
DTSTART;TZID=Europe/Zurich:20260315T093000
DTEND;TZID=Europe/Zurich:20260315T093000
DTSTAMP:20260421T134122
CREATED:20260106T153606Z
LAST-MODIFIED:20260106T153606Z
UID:55971-1773567000-1773567000@www.se-ma.ch
SUMMARY:Flawil: Eucharistiefeier in Spanisch
DESCRIPTION:
URL:https://www.se-ma.ch/event/flawil-eucharistiefeier-in-spanisch-70/
LOCATION:Kapelle St. Laurentius Flawil\, Enzenbühlstrasse 20\, Flawil\, 9230\, Schweiz
CATEGORIES:Gottesdienste
END:VEVENT
BEGIN:VEVENT
DTSTART;TZID=Europe/Zurich:20260402T170000
DTEND;TZID=Europe/Zurich:20260402T170000
DTSTAMP:20260421T134122
CREATED:20260319T130005Z
LAST-MODIFIED:20260319T130005Z
UID:56930-1775149200-1775149200@www.se-ma.ch
SUMMARY:Flawil: Eucharistiefeier in Spanisch
DESCRIPTION:
URL:https://www.se-ma.ch/event/flawil-eucharistiefeier-in-spanisch-71/
LOCATION:Kapelle St. Laurentius Flawil\, Enzenbühlstrasse 20\, Flawil\, 9230\, Schweiz
CATEGORIES:Gottesdienste
END:VEVENT
BEGIN:VEVENT
DTSTART;TZID=Europe/Zurich:20260315T101500
DTEND;TZID=Europe/Zurich:20260315T101500
DTSTAMP:20260421T134122
CREATED:20260107T064222Z
LAST-MODIFIED:20260107T064222Z
UID:56035-1773569700-1773569700@www.se-ma.ch
SUMMARY:Flawil: Kommunionfeier
DESCRIPTION:
URL:https://www.se-ma.ch/event/flawil-kommunionfeier-33/
LOCATION:Kirche St. Laurentius Flawil\, Enzenbühlstrasse 20\, Flawil\, 9230\, Schweiz
CATEGORIES:Gottesdienste
END:VEVENT
BEGIN:VEVENT
DTSTART;TZID=Europe/Zurich:20260316T193000
DTEND;TZID=Europe/Zurich:20260316T203000
DTSTAMP:20260421T134122
CREATED:20251125T100113Z
LAST-MODIFIED:20251125T100113Z
UID:55189-1773689400-1773693000@www.se-ma.ch
SUMMARY:Degersheim: Schweigemeditation
DESCRIPTION:In der Kapelle der Kath. Kirche St. Jakobus werden wir gemeinsam meditieren. Alle Interessierten\, unabhängig von Konfession oder Kirchennähe\, sind dazu herzlich eingeladen. \nFür Auskünfte steht Walter Germann gerne zur Verfügung: T 071 371 29 38.
URL:https://www.se-ma.ch/event/degersheim-schweigemeditation-93/
LOCATION:Jakobuskirche Kapelle Degersheim\, Bergstrasse 10\, Degersheim\, St. Gallen\, 9113\, Schweiz
CATEGORIES:Anlässe und Veranstaltungen
END:VEVENT
BEGIN:VEVENT
DTSTART;TZID=Europe/Zurich:20260319T193000
DTEND;TZID=Europe/Zurich:20260319T210000
DTSTAMP:20260421T134122
CREATED:20260211T064843Z
LAST-MODIFIED:20260217T135611Z
UID:56496-1773948600-1773954000@www.se-ma.ch
SUMMARY:Projekt "zämä sophierä"
DESCRIPTION:Seit jeher entstehen gute Gespräche dort\, wo Menschen zusammenkommen und den Mut haben\, Fragen zu stellen. Welche Gedanken tragen Sie mit sich? Welche Lebensfragen lassen \nSie nicht los? An unseren Abenden nehmen wir uns Zeit\, gemeinsam nachzudenken – offen und ohne vorschnelle Antworten. Im Gespräch kann sich zeigen\, was im Alltag oft keinen Raum \nfindet. Vielleicht liegt im gemeinsamen Suchen nach Antworten bereits ein Stück Wahrheit. Eine Anmeldung ist nicht erforderlich. Zu diesem Philosophenabend laden wir Sie gerne ein. \nMarkus Schöbi und Silvan Hollenstein
URL:https://www.se-ma.ch/event/projekt-zaemae-sophierae-in-vino-veritas/
LOCATION:WIRZ haus\, Hauptstrasse 80\, Degersheim\, 9113\, Switzerland
CATEGORIES:Anlässe und Veranstaltungen
END:VEVENT
BEGIN:VEVENT
DTSTART;TZID=Europe/Zurich:20260320T113000
DTEND;TZID=Europe/Zurich:20260320T113000
DTSTAMP:20260421T134122
CREATED:20260209T140728Z
LAST-MODIFIED:20260209T140728Z
UID:56452-1774006200-1774006200@www.se-ma.ch
SUMMARY:Flawil: Suppenfreitag
DESCRIPTION:
URL:https://www.se-ma.ch/event/flawil-suppenfreitag-5/
LOCATION:Pfarreizentrum Flawil\, Enzenbühlstrasse 16\, Flawil\, 9230\, Schweiz
CATEGORIES:Anlässe und Veranstaltungen
END:VEVENT
END:VCALENDAR