BEGIN:VCALENDAR
VERSION:2.0
PRODID:-//Seelsorgeeinheit Magdenau - ECPv6.15.20//NONSGML v1.0//EN
CALSCALE:GREGORIAN
METHOD:PUBLISH
X-WR-CALNAME:Seelsorgeeinheit Magdenau
X-ORIGINAL-URL:https://www.se-ma.ch
X-WR-CALDESC:Veranstaltungen für Seelsorgeeinheit Magdenau
REFRESH-INTERVAL;VALUE=DURATION:PT1H
X-Robots-Tag:noindex
X-PUBLISHED-TTL:PT1H
BEGIN:VTIMEZONE
TZID:Europe/Zurich
BEGIN:DAYLIGHT
TZOFFSETFROM:+0100
TZOFFSETTO:+0200
TZNAME:CEST
DTSTART:20250330T010000
END:DAYLIGHT
BEGIN:STANDARD
TZOFFSETFROM:+0200
TZOFFSETTO:+0100
TZNAME:CET
DTSTART:20251026T010000
END:STANDARD
BEGIN:DAYLIGHT
TZOFFSETFROM:+0100
TZOFFSETTO:+0200
TZNAME:CEST
DTSTART:20260329T010000
END:DAYLIGHT
BEGIN:STANDARD
TZOFFSETFROM:+0200
TZOFFSETTO:+0100
TZNAME:CET
DTSTART:20261025T010000
END:STANDARD
BEGIN:DAYLIGHT
TZOFFSETFROM:+0100
TZOFFSETTO:+0200
TZNAME:CEST
DTSTART:20270328T010000
END:DAYLIGHT
BEGIN:STANDARD
TZOFFSETFROM:+0200
TZOFFSETTO:+0100
TZNAME:CET
DTSTART:20271031T010000
END:STANDARD
END:VTIMEZONE
BEGIN:VEVENT
DTSTART;TZID=Europe/Zurich:20261201T060000
DTEND;TZID=Europe/Zurich:20261201T070000
DTSTAMP:20260422T015030
CREATED:20260325T110109Z
LAST-MODIFIED:20260325T110109Z
UID:57010-1796104800-1796108400@www.se-ma.ch
SUMMARY:Degersheim: Rorate
DESCRIPTION:
URL:https://www.se-ma.ch/event/degersheim-rorate-6/
LOCATION:Jakobuskirche Degersheim\, Bergstrasse 10\, Degersheim\, 9113\, Schweiz
CATEGORIES:Gottesdienste
END:VEVENT
BEGIN:VEVENT
DTSTART;TZID=Europe/Zurich:20261202T060000
DTEND;TZID=Europe/Zurich:20261202T060000
DTSTAMP:20260422T015030
CREATED:20260414T113931Z
LAST-MODIFIED:20260414T115042Z
UID:57202-1796191200-1796191200@www.se-ma.ch
SUMMARY:Wolfertswil: Rorate
DESCRIPTION:
URL:https://www.se-ma.ch/event/wolfertswil-rorate-2/
LOCATION:Bruder Klaus Kirche Wolfertswil\, Wolfertswil\, 9116 \, Schweiz
CATEGORIES:Gottesdienste
END:VEVENT
BEGIN:VEVENT
DTSTART;TZID=Europe/Zurich:20261203T150000
DTEND;TZID=Europe/Zurich:20261203T163000
DTSTAMP:20260422T015030
CREATED:20251203T081712Z
LAST-MODIFIED:20251203T081712Z
UID:55383-1796310000-1796315400@www.se-ma.ch
SUMMARY:Trauercafé
DESCRIPTION:Das Trauercafé bietet Angehörigen die Möglichkeit\, über das Erlebte zu sprechen und sich mit anderen Betroffenen auszutauschen. Es ist keine Anmeldung nötig. \nHomepage Ökum. Hospizgruppe Flawil
URL:https://www.se-ma.ch/event/trauercafe-41/
LOCATION:Haus 5egg\, Bahnhofstrasse 33\, Flawil\, St. Gallen\, 9230\, Schweiz
CATEGORIES:Anlässe und Veranstaltungen
END:VEVENT
BEGIN:VEVENT
DTSTART;TZID=Europe/Zurich:20261203T193000
DTEND;TZID=Europe/Zurich:20261203T210000
DTSTAMP:20260422T015030
CREATED:20260421T140015Z
LAST-MODIFIED:20260421T140015Z
UID:57364-1796326200-1796331600@www.se-ma.ch
SUMMARY:Degersheim: Eucharistische Anbetung
DESCRIPTION:In der stillen Anbetung vor dem Allerheiligsten sind wir eingeladen\, vor Gott zur Ruhe zu kommen\, innezuhalten und neue Kraft aus seiner Gegenwart zu schöpfen. \nIn der Stille dürfen wir verweilen\, ihm unser Herz öffnen und alles\, was uns belastet\, in die Hände Jesu legen. \nFreies Kommen und Gehen ist jederzeit möglich.
URL:https://www.se-ma.ch/event/degersheim-eucharistische-anbetung-6/
LOCATION:Jakobuskirche Kapelle Degersheim\, Bergstrasse 10\, Degersheim\, St. Gallen\, 9113\, Schweiz
CATEGORIES:Anlässe und Veranstaltungen
END:VEVENT
BEGIN:VEVENT
DTSTART;TZID=Europe/Zurich:20261204T183000
DTEND;TZID=Europe/Zurich:20261204T200000
DTSTAMP:20260422T015030
CREATED:20251217T102358Z
LAST-MODIFIED:20251217T102358Z
UID:55616-1796409000-1796414400@www.se-ma.ch
SUMMARY:Degersheim: Zämägang
DESCRIPTION:für einander da sein \nzusammen statt alleine \nHast du Lust\, mit mir und hoffentlich anderen Menschen zusammen zu sein? Dann komm einfach mit. \nVielleicht kennst du Menschen\, denen das freundliche und interessierte Miteinander gut tun würde. Mache sie aufmerksam auf dieses Angebot oder bring sie gleich selbst mit! \nEs braucht keine Anmeldung! \nTreffpunkt beim Parkplatz Föhrenwäldli Degersheim! \nIch freue mich auf dich! \nSilvan Hollenstein\, Seelsorger\, Tel. 079 743 73 89
URL:https://www.se-ma.ch/event/degersheim-zaemaegang-35/
LOCATION:Föhrenwäldli\, Berg 1\, Degersheim\, 9113 \, Schweiz
CATEGORIES:Anlässe und Veranstaltungen
END:VEVENT
BEGIN:VEVENT
DTSTART;TZID=Europe/Zurich:20261205T173000
DTEND;TZID=Europe/Zurich:20261205T183000
DTSTAMP:20260422T015030
CREATED:20260325T110223Z
LAST-MODIFIED:20260325T110223Z
UID:57012-1796491800-1796495400@www.se-ma.ch
SUMMARY:Degersheim: Eucharistiefeier
DESCRIPTION:mit Querflöte
URL:https://www.se-ma.ch/event/degersheim-eucharistiefeier-68/
LOCATION:Jakobuskirche Degersheim\, Bergstrasse 10\, Degersheim\, 9113\, Schweiz
CATEGORIES:Gottesdienste
END:VEVENT
BEGIN:VEVENT
DTSTART;TZID=Europe/Zurich:20261206T084500
DTEND;TZID=Europe/Zurich:20261206T084500
DTSTAMP:20260422T015030
CREATED:20260414T114020Z
LAST-MODIFIED:20260414T114023Z
UID:57204-1796546700-1796546700@www.se-ma.ch
SUMMARY:Wolfertswil: Eucharistiefeier mit Abt Emmanuel
DESCRIPTION:
URL:https://www.se-ma.ch/event/wolfertswil-eucharistiefeier-mit-abt-emmanuel-3/
LOCATION:Bruder Klaus Kirche Wolfertswil\, Wolfertswil\, 9116 \, Schweiz
CATEGORIES:Gottesdienste
END:VEVENT
BEGIN:VEVENT
DTSTART;TZID=Europe/Zurich:20261206T093000
DTEND;TZID=Europe/Zurich:20261206T093000
DTSTAMP:20260422T015030
CREATED:20260106T153431Z
LAST-MODIFIED:20260106T153431Z
UID:55967-1796549400-1796549400@www.se-ma.ch
SUMMARY:Flawil: Eucharistiefeier in Spanisch
DESCRIPTION:ab 9.00 Uhr Beichtgelegenheit
URL:https://www.se-ma.ch/event/flawil-eucharistiefeier-in-spanisch-68/
LOCATION:Kapelle St. Laurentius Flawil\, Enzenbühlstrasse 20\, Flawil\, 9230\, Schweiz
CATEGORIES:Gottesdienste
END:VEVENT
BEGIN:VEVENT
DTSTART;TZID=Europe/Zurich:20261208T060000
DTEND;TZID=Europe/Zurich:20261208T070000
DTSTAMP:20260422T015030
CREATED:20260325T110351Z
LAST-MODIFIED:20260325T110351Z
UID:57015-1796709600-1796713200@www.se-ma.ch
SUMMARY:Degersheim: Rorate
DESCRIPTION:mit Oberstufe (Wolfgang am E-Piano)
URL:https://www.se-ma.ch/event/degersheim-rorate-7/
LOCATION:Jakobuskirche Degersheim\, Bergstrasse 10\, Degersheim\, 9113\, Schweiz
CATEGORIES:Gottesdienste
END:VEVENT
BEGIN:VEVENT
DTSTART;TZID=Europe/Zurich:20261209T114500
DTEND;TZID=Europe/Zurich:20261209T140000
DTSTAMP:20260422T015030
CREATED:20251031T093936Z
LAST-MODIFIED:20251031T094235Z
UID:54873-1796816700-1796824800@www.se-ma.ch
SUMMARY:Degersheim: zämä ässä
DESCRIPTION:Wir freuen uns über alle\, die Lust haben\, gemeinsam zu essen\, zu geniessen und zu plaudern. Ein bunt zusammengewürfeltes Küchenteam kocht und serviert speziell für Sie! Der Preis beträgt Fr. 10.00. Bitte geben Sie bei der Anmeldung an\, falls Sie vegetarisch essen möchten! Anmeldungen bitte bis spätestens am Freitag bis 11.00 Uhr\, vor dem „zämä ässä“ an:\nTel. 071 371 10 17 oder per Mail: hc.am-esobfsctd-385302@miehsreged-tairaterkes
URL:https://www.se-ma.ch/event/degersheim-zaemae-aessae-33/
LOCATION:Pfarreiheim
CATEGORIES:Anlässe und Veranstaltungen
END:VEVENT
BEGIN:VEVENT
DTSTART;TZID=Europe/Zurich:20261209T143000
DTEND;TZID=Europe/Zurich:20261209T143000
DTSTAMP:20260422T015030
CREATED:20260319T131320Z
LAST-MODIFIED:20260319T131320Z
UID:56949-1796826600-1796826600@www.se-ma.ch
SUMMARY:Flawil: SEMAplus - Seniorennachmittag
DESCRIPTION:Adventsfeier
URL:https://www.se-ma.ch/event/flawil-semaplus-seniorennachmittag-5/
LOCATION:Pfarreizentrum Flawil\, Enzenbühlstrasse 16\, Flawil\, 9230\, Schweiz
CATEGORIES:Anlässe und Veranstaltungen
END:VEVENT
BEGIN:VEVENT
DTSTART;TZID=Europe/Zurich:20261212T173000
DTEND;TZID=Europe/Zurich:20261212T173000
DTSTAMP:20260422T015030
CREATED:20260106T152921Z
LAST-MODIFIED:20260106T152921Z
UID:55943-1797096600-1797096600@www.se-ma.ch
SUMMARY:Flawil: Eucharistiefeier in Portugiesisch
DESCRIPTION:
URL:https://www.se-ma.ch/event/flawil-eucharistiefeier-in-portugiesisch-50/
LOCATION:Kapelle St. Laurentius Flawil\, Enzenbühlstrasse 20\, Flawil\, 9230\, Schweiz
CATEGORIES:Gottesdienste
END:VEVENT
BEGIN:VEVENT
DTSTART;TZID=Europe/Zurich:20261212T173000
DTEND;TZID=Europe/Zurich:20261212T183000
DTSTAMP:20260422T015030
CREATED:20260325T110508Z
LAST-MODIFIED:20260325T110508Z
UID:57018-1797096600-1797100200@www.se-ma.ch
SUMMARY:Degersheim: Kommunionfeier
DESCRIPTION:
URL:https://www.se-ma.ch/event/degersheim-kommunionfeier-47/
LOCATION:Jakobuskirche Degersheim\, Bergstrasse 10\, Degersheim\, 9113\, Schweiz
CATEGORIES:Gottesdienste
END:VEVENT
BEGIN:VEVENT
DTSTART;TZID=Europe/Zurich:20261213T090000
DTEND;TZID=Europe/Zurich:20261213T090000
DTSTAMP:20260422T015030
CREATED:20260106T151650Z
LAST-MODIFIED:20260106T151650Z
UID:55877-1797152400-1797152400@www.se-ma.ch
SUMMARY:Flawil: Eucharistiefeier in Italienisch
DESCRIPTION:
URL:https://www.se-ma.ch/event/flawil-eucharistiefeier-in-italienisch-11/
LOCATION:Kapelle St. Laurentius Flawil\, Enzenbühlstrasse 20\, Flawil\, 9230\, Schweiz
CATEGORIES:Gottesdienste
END:VEVENT
BEGIN:VEVENT
DTSTART;TZID=Europe/Zurich:20261215T060000
DTEND;TZID=Europe/Zurich:20261215T070000
DTSTAMP:20260422T015030
CREATED:20260325T110620Z
LAST-MODIFIED:20260325T110620Z
UID:57020-1797314400-1797318000@www.se-ma.ch
SUMMARY:Degersheim: Rorate mit den Frauen
DESCRIPTION:
URL:https://www.se-ma.ch/event/degersheim-rorate-mit-den-frauen/
LOCATION:Jakobuskirche Degersheim\, Bergstrasse 10\, Degersheim\, 9113\, Schweiz
CATEGORIES:Gottesdienste
END:VEVENT
BEGIN:VEVENT
DTSTART;TZID=Europe/Zurich:20261216T060000
DTEND;TZID=Europe/Zurich:20261216T060000
DTSTAMP:20260422T015030
CREATED:20260414T114117Z
LAST-MODIFIED:20260414T114121Z
UID:57206-1797400800-1797400800@www.se-ma.ch
SUMMARY:Magdenau: Rorate
DESCRIPTION:
URL:https://www.se-ma.ch/event/magdenau-rorate-2/
LOCATION:Kirche St. Verena Magdenau\, St. Verena 929\, Wolfertswil\, 9116\, Schweiz
CATEGORIES:Gottesdienste
END:VEVENT
BEGIN:VEVENT
DTSTART;TZID=Europe/Zurich:20261216T140000
DTEND;TZID=Europe/Zurich:20261216T163000
DTSTAMP:20260422T015030
CREATED:20251112T064451Z
LAST-MODIFIED:20251112T064451Z
UID:55034-1797429600-1797438600@www.se-ma.ch
SUMMARY:Degersheim: ökum. Seniorennachmittag
DESCRIPTION:Adventlicher Zauber \nGesang und Musik mit Uelis „Wiiberchörli“
URL:https://www.se-ma.ch/event/degersheim-oekum-seniorennachmittag-9/
LOCATION:evang. Kirchgemeindehaus Degersheim\, Steineggstrasse 12\, Degersheim\, 9113\, Schweiz
CATEGORIES:Anlässe und Veranstaltungen
END:VEVENT
BEGIN:VEVENT
DTSTART;TZID=Europe/Zurich:20261217T190000
DTEND;TZID=Europe/Zurich:20261217T200000
DTSTAMP:20260422T015030
CREATED:20251202T110333Z
LAST-MODIFIED:20251202T110333Z
UID:55323-1797534000-1797537600@www.se-ma.ch
SUMMARY:Degersheim: Friedensgebet
DESCRIPTION:Wir beten für den Frieden in unserer Welt.
URL:https://www.se-ma.ch/event/degersheim-friedensgebet-38/
LOCATION:evang. Kirche Degersheim\, Steineggstrasse 10\, Degersheim\, 9113
CATEGORIES:Anlässe und Veranstaltungen
END:VEVENT
BEGIN:VEVENT
DTSTART;TZID=Europe/Zurich:20261218T090000
DTEND;TZID=Europe/Zurich:20261218T090000
DTSTAMP:20260422T015030
CREATED:20251028T134601Z
LAST-MODIFIED:20251028T134604Z
UID:54788-1797584400-1797584400@www.se-ma.ch
SUMMARY:Degersheim: Herz-Jesu-Freitag
DESCRIPTION:
URL:https://www.se-ma.ch/event/degersheim-herz-jesu-freitag-4/
LOCATION:Jakobuskirche Kapelle Degersheim\, Bergstrasse 10\, Degersheim\, St. Gallen\, 9113\, Schweiz
CATEGORIES:Gottesdienste
END:VEVENT
BEGIN:VEVENT
DTSTART;TZID=Europe/Zurich:20261219T173000
DTEND;TZID=Europe/Zurich:20261219T183000
DTSTAMP:20260422T015030
CREATED:20260325T110731Z
LAST-MODIFIED:20260325T110731Z
UID:57022-1797701400-1797705000@www.se-ma.ch
SUMMARY:Degersheim: Eucharistiefeier
DESCRIPTION:
URL:https://www.se-ma.ch/event/degersheim-eucharistiefeier-69/
LOCATION:Jakobuskirche Degersheim\, Bergstrasse 10\, Degersheim\, 9113\, Schweiz
CATEGORIES:Gottesdienste
END:VEVENT
BEGIN:VEVENT
DTSTART;TZID=Europe/Zurich:20261220T093000
DTEND;TZID=Europe/Zurich:20261220T093000
DTSTAMP:20260422T015030
CREATED:20260106T154051Z
LAST-MODIFIED:20260106T154051Z
UID:55993-1797759000-1797759000@www.se-ma.ch
SUMMARY:Flawil: Eucharistiefeier in Spanisch
DESCRIPTION:
URL:https://www.se-ma.ch/event/flawil-eucharistiefeier-in-spanisch-81/
LOCATION:Kapelle St. Laurentius Flawil\, Enzenbühlstrasse 20\, Flawil\, 9230\, Schweiz
CATEGORIES:Gottesdienste
END:VEVENT
BEGIN:VEVENT
DTSTART;TZID=Europe/Zurich:20261220T163000
DTEND;TZID=Europe/Zurich:20261220T163000
DTSTAMP:20260422T015030
CREATED:20260414T114216Z
LAST-MODIFIED:20260414T114224Z
UID:57208-1797784200-1797784200@www.se-ma.ch
SUMMARY:Wolfertswil: Weihnachtsfeier für Kinder
DESCRIPTION:
URL:https://www.se-ma.ch/event/wolfertswil-weihnachtsfeier-fuer-kinder-2/
LOCATION:Bruder Klaus Kirche Wolfertswil\, Wolfertswil\, 9116 \, Schweiz
CATEGORIES:Gottesdienste
END:VEVENT
BEGIN:VEVENT
DTSTART;TZID=Europe/Zurich:20261222T060000
DTEND;TZID=Europe/Zurich:20261222T070000
DTSTAMP:20260422T015030
CREATED:20260325T110846Z
LAST-MODIFIED:20260325T110846Z
UID:57024-1797919200-1797922800@www.se-ma.ch
SUMMARY:Degersheim: Rorate mit Erstkommunionkindern
DESCRIPTION:
URL:https://www.se-ma.ch/event/degersheim-rorate-mit-erstkommunionkindern/
LOCATION:Jakobuskirche Degersheim\, Bergstrasse 10\, Degersheim\, 9113\, Schweiz
CATEGORIES:Gottesdienste,Kinder und Familien
END:VEVENT
BEGIN:VEVENT
DTSTART;TZID=Europe/Zurich:20261224T170000
DTEND;TZID=Europe/Zurich:20261224T180000
DTSTAMP:20260422T015030
CREATED:20260325T110959Z
LAST-MODIFIED:20260325T110959Z
UID:57026-1798131600-1798135200@www.se-ma.ch
SUMMARY:Degersheim: ökum. Familien-Weihnachtsfeier
DESCRIPTION:
URL:https://www.se-ma.ch/event/degersheim-oekum-familien-weihnachtsfeier-2/
LOCATION:Jakobuskirche Degersheim\, Bergstrasse 10\, Degersheim\, 9113\, Schweiz
CATEGORIES:Gottesdienste,Kinder und Familien
END:VEVENT
BEGIN:VEVENT
DTSTART;TZID=Europe/Zurich:20261224T180000
DTEND;TZID=Europe/Zurich:20261224T180000
DTSTAMP:20260422T015030
CREATED:20260414T114333Z
LAST-MODIFIED:20260414T115210Z
UID:57210-1798135200-1798135200@www.se-ma.ch
SUMMARY:Magdenau: Weihnachtsfeier für Erwachsene
DESCRIPTION:Eucharistiefeier
URL:https://www.se-ma.ch/event/magdenau-weihnachtsfeier-fuer-erwachsene/
LOCATION:Kirche St. Verena Magdenau\, St. Verena 929\, Wolfertswil\, 9116\, Schweiz
CATEGORIES:Gottesdienste
END:VEVENT
BEGIN:VEVENT
DTSTART;TZID=Europe/Zurich:20261224T230000
DTEND;TZID=Europe/Zurich:20261224T235900
DTSTAMP:20260422T015030
CREATED:20260325T111110Z
LAST-MODIFIED:20260325T111110Z
UID:57028-1798153200-1798156740@www.se-ma.ch
SUMMARY:Degersheim: Eucharistiefeier Mitternachtsfeier
DESCRIPTION:
URL:https://www.se-ma.ch/event/degersheim-eucharistiefeier-mitternachtsfeier/
LOCATION:Jakobuskirche Degersheim\, Bergstrasse 10\, Degersheim\, 9113\, Schweiz
CATEGORIES:Gottesdienste
END:VEVENT
BEGIN:VEVENT
DTSTART;TZID=Europe/Zurich:20261225T084500
DTEND;TZID=Europe/Zurich:20261225T084500
DTSTAMP:20260422T015030
CREATED:20260414T114453Z
LAST-MODIFIED:20260414T114500Z
UID:57213-1798188300-1798188300@www.se-ma.ch
SUMMARY:Wolfertswil: Festgottesdienst zu Weihnachten
DESCRIPTION:Eucharistiefeier
URL:https://www.se-ma.ch/event/wolfertswil-festgottesdienst-zu-weihnachten-2/
LOCATION:Bruder Klaus Kirche Wolfertswil\, Wolfertswil\, 9116 \, Schweiz
CATEGORIES:Gottesdienste
END:VEVENT
BEGIN:VEVENT
DTSTART;TZID=Europe/Zurich:20261225T101500
DTEND;TZID=Europe/Zurich:20261225T111500
DTSTAMP:20260422T015030
CREATED:20260325T111240Z
LAST-MODIFIED:20260325T111240Z
UID:57030-1798193700-1798197300@www.se-ma.ch
SUMMARY:Degersheim: Festgottesdienst zu Weihnachten
DESCRIPTION:Kommunionfeier mit Kirchenchor
URL:https://www.se-ma.ch/event/degersheim-festgottesdienst-zu-weihnachten-3/
LOCATION:Jakobuskirche Degersheim\, Bergstrasse 10\, Degersheim\, 9113\, Schweiz
CATEGORIES:Gottesdienste
END:VEVENT
BEGIN:VEVENT
DTSTART;TZID=Europe/Zurich:20261226T173000
DTEND;TZID=Europe/Zurich:20261226T180000
DTSTAMP:20260422T015030
CREATED:20260325T111553Z
LAST-MODIFIED:20260325T111553Z
UID:57034-1798306200-1798308000@www.se-ma.ch
SUMMARY:Degersheim: Besinnliche Momente an der Krippe
DESCRIPTION:mit Silvan Hollenstein
URL:https://www.se-ma.ch/event/degersheim-besinnliche-momente-an-der-krippe-5/
LOCATION:Jakobuskirche Degersheim\, Bergstrasse 10\, Degersheim\, 9113\, Schweiz
CATEGORIES:Anlässe und Veranstaltungen
END:VEVENT
BEGIN:VEVENT
DTSTART;TZID=Europe/Zurich:20261226T190000
DTEND;TZID=Europe/Zurich:20261226T193000
DTSTAMP:20260422T015030
CREATED:20260414T114545Z
LAST-MODIFIED:20260414T114548Z
UID:57216-1798311600-1798313400@www.se-ma.ch
SUMMARY:Wolfertswil: Besinnliche Momente an der Krippe
DESCRIPTION:
URL:https://www.se-ma.ch/event/wolfertswil-besinnliche-momente-an-der-krippe/
LOCATION:Bruder Klaus Kirche Wolfertswil\, Wolfertswil\, 9116 \, Schweiz
CATEGORIES:Gottesdienste
END:VEVENT
END:VCALENDAR