BEGIN:VCALENDAR
VERSION:2.0
PRODID:-//Seelsorgeeinheit Magdenau - ECPv6.15.20//NONSGML v1.0//EN
CALSCALE:GREGORIAN
METHOD:PUBLISH
X-ORIGINAL-URL:https://www.se-ma.ch
X-WR-CALDESC:Veranstaltungen für Seelsorgeeinheit Magdenau
REFRESH-INTERVAL;VALUE=DURATION:PT1H
X-Robots-Tag:noindex
X-PUBLISHED-TTL:PT1H
BEGIN:VTIMEZONE
TZID:Europe/Zurich
BEGIN:DAYLIGHT
TZOFFSETFROM:+0100
TZOFFSETTO:+0200
TZNAME:CEST
DTSTART:20220327T010000
END:DAYLIGHT
BEGIN:STANDARD
TZOFFSETFROM:+0200
TZOFFSETTO:+0100
TZNAME:CET
DTSTART:20221030T010000
END:STANDARD
BEGIN:DAYLIGHT
TZOFFSETFROM:+0100
TZOFFSETTO:+0200
TZNAME:CEST
DTSTART:20230326T010000
END:DAYLIGHT
BEGIN:STANDARD
TZOFFSETFROM:+0200
TZOFFSETTO:+0100
TZNAME:CET
DTSTART:20231029T010000
END:STANDARD
BEGIN:DAYLIGHT
TZOFFSETFROM:+0100
TZOFFSETTO:+0200
TZNAME:CEST
DTSTART:20240331T010000
END:DAYLIGHT
BEGIN:STANDARD
TZOFFSETFROM:+0200
TZOFFSETTO:+0100
TZNAME:CET
DTSTART:20241027T010000
END:STANDARD
END:VTIMEZONE
BEGIN:VEVENT
DTSTART;TZID=Europe/Zurich:20230126T190000
DTEND;TZID=Europe/Zurich:20230126T203000
DTSTAMP:20260422T152950
CREATED:20221122T163802Z
LAST-MODIFIED:20230207T124616Z
UID:37795-1674759600-1674765000@www.se-ma.ch
SUMMARY:Die Seele hat die Farbe deiner Gedanken
DESCRIPTION:Lars Thoma\, Mentalcoach \nAnlässlich der Frühjahrsrätetagung durften wir Lars Thoma\, studierter Mentalcoach\, kennenlernen und von seinem grossen Wissensschatz profitieren. Seine Vision ist es\, Menschen in einem selbstbestimmten und selbstverantwortlichen Leben zu unterstützen\, ihnen eine Lösungsstrategie zu vermitteln\, die ihnen bei künftigen Herausforderungen hilft. Da wir seinen Vortrag als sehr bereichernd erfahren haben\, möchten wir Ihnen eine Begegnung mit ihm ebenfalls ermöglichen.\nPfarreigremium Flawil \nFlyer \nFoliensatz
URL:https://www.se-ma.ch/event/die-seele-hat-die-farbe-deiner-gedanken/
LOCATION:Pfarreizentrum Flawil\, Enzenbühlstrasse 16\, Flawil\, 9230\, Schweiz
CATEGORIES:Anlässe und Veranstaltungen
END:VEVENT
END:VCALENDAR