BEGIN:VCALENDAR
VERSION:2.0
PRODID:-//Seelsorgeeinheit Magdenau - ECPv6.15.20//NONSGML v1.0//EN
CALSCALE:GREGORIAN
METHOD:PUBLISH
X-ORIGINAL-URL:https://www.se-ma.ch
X-WR-CALDESC:Veranstaltungen für Seelsorgeeinheit Magdenau
REFRESH-INTERVAL;VALUE=DURATION:PT1H
X-Robots-Tag:noindex
X-PUBLISHED-TTL:PT1H
BEGIN:VTIMEZONE
TZID:Europe/Zurich
BEGIN:DAYLIGHT
TZOFFSETFROM:+0100
TZOFFSETTO:+0200
TZNAME:CEST
DTSTART:20250330T010000
END:DAYLIGHT
BEGIN:STANDARD
TZOFFSETFROM:+0200
TZOFFSETTO:+0100
TZNAME:CET
DTSTART:20251026T010000
END:STANDARD
BEGIN:DAYLIGHT
TZOFFSETFROM:+0100
TZOFFSETTO:+0200
TZNAME:CEST
DTSTART:20260329T010000
END:DAYLIGHT
BEGIN:STANDARD
TZOFFSETFROM:+0200
TZOFFSETTO:+0100
TZNAME:CET
DTSTART:20261025T010000
END:STANDARD
BEGIN:DAYLIGHT
TZOFFSETFROM:+0100
TZOFFSETTO:+0200
TZNAME:CEST
DTSTART:20270328T010000
END:DAYLIGHT
BEGIN:STANDARD
TZOFFSETFROM:+0200
TZOFFSETTO:+0100
TZNAME:CET
DTSTART:20271031T010000
END:STANDARD
END:VTIMEZONE
BEGIN:VEVENT
DTSTART;TZID=Europe/Zurich:20260725T173000
DTEND;TZID=Europe/Zurich:20260725T183000
DTSTAMP:20260422T033329
CREATED:20260318T102454Z
LAST-MODIFIED:20260318T102454Z
UID:56904-1785000600-1785004200@www.se-ma.ch
SUMMARY:Degersheim: Eucharistiefeier
DESCRIPTION:
URL:https://www.se-ma.ch/event/degersheim-eucharistiefeier-62/
LOCATION:Jakobuskirche Degersheim\, Bergstrasse 10\, Degersheim\, 9113\, Schweiz
CATEGORIES:Gottesdienste
END:VEVENT
BEGIN:VEVENT
DTSTART;TZID=Europe/Zurich:20260726T083000
DTEND;TZID=Europe/Zurich:20260726T083000
DTSTAMP:20260422T033329
CREATED:20260106T151907Z
LAST-MODIFIED:20260106T151907Z
UID:55889-1785054600-1785054600@www.se-ma.ch
SUMMARY:Flawil: Eucharistiefeier in Italienisch
DESCRIPTION:
URL:https://www.se-ma.ch/event/flawil-eucharistiefeier-in-italienisch-17/
LOCATION:Kapelle St. Laurentius Flawil\, Enzenbühlstrasse 20\, Flawil\, 9230\, Schweiz
CATEGORIES:Gottesdienste
END:VEVENT
BEGIN:VEVENT
DTSTART;TZID=Europe/Zurich:20260726T084500
DTEND;TZID=Europe/Zurich:20260726T084500
DTSTAMP:20260422T033329
CREATED:20251104T141135Z
LAST-MODIFIED:20251104T141139Z
UID:54927-1785055500-1785055500@www.se-ma.ch
SUMMARY:Wolfertswil: Eucharistiefeier
DESCRIPTION:
URL:https://www.se-ma.ch/event/wolfertswil-eucharistiefeier-14/
LOCATION:Bruder Klaus Kirche Wolfertswil\, Wolfertswil\, 9116 \, Schweiz
CATEGORIES:Gottesdienste
END:VEVENT
BEGIN:VEVENT
DTSTART;TZID=Europe/Zurich:20260726T101500
DTEND;TZID=Europe/Zurich:20260726T101500
DTSTAMP:20260422T033329
CREATED:20260106T155639Z
LAST-MODIFIED:20260106T155639Z
UID:56033-1785060900-1785060900@www.se-ma.ch
SUMMARY:Flawil: Eucharistiefeier
DESCRIPTION:
URL:https://www.se-ma.ch/event/flawil-eucharistiefeier-49/
LOCATION:Kirche St. Laurentius Flawil\, Enzenbühlstrasse 20\, Flawil\, 9230\, Schweiz
CATEGORIES:Gottesdienste
END:VEVENT
BEGIN:VEVENT
DTSTART;TZID=Europe/Zurich:20260801T173000
DTEND;TZID=Europe/Zurich:20260801T183000
DTSTAMP:20260422T033329
CREATED:20260318T102623Z
LAST-MODIFIED:20260318T102623Z
UID:56906-1785605400-1785609000@www.se-ma.ch
SUMMARY:Degersheim: Kommunionfeier
DESCRIPTION:
URL:https://www.se-ma.ch/event/degersheim-kommunionfeier-41/
LOCATION:Jakobuskirche Degersheim\, Bergstrasse 10\, Degersheim\, 9113\, Schweiz
CATEGORIES:Gottesdienste
END:VEVENT
BEGIN:VEVENT
DTSTART;TZID=Europe/Zurich:20260802T084500
DTEND;TZID=Europe/Zurich:20260802T084500
DTSTAMP:20260422T033329
CREATED:20260107T081046Z
LAST-MODIFIED:20260107T081046Z
UID:56124-1785660300-1785660300@www.se-ma.ch
SUMMARY:Niederglatt: Kommunionfeier
DESCRIPTION:
URL:https://www.se-ma.ch/event/niederglatt-kommunionfeier-19/
LOCATION:Felix + Regula Kirche Niederglatt\, Niederglatt\, 9240\, Schweiz
CATEGORIES:Gottesdienste
END:VEVENT
BEGIN:VEVENT
DTSTART;TZID=Europe/Zurich:20260802T093000
DTEND;TZID=Europe/Zurich:20260802T093000
DTSTAMP:20260422T033329
CREATED:20260106T153227Z
LAST-MODIFIED:20260106T153227Z
UID:55959-1785663000-1785663000@www.se-ma.ch
SUMMARY:Flawil: Eucharistiefeier in Spanisch
DESCRIPTION:ab 9.00 Uhr Beichtgelegenheit
URL:https://www.se-ma.ch/event/flawil-eucharistiefeier-in-spanisch-64/
LOCATION:Kapelle St. Laurentius Flawil\, Enzenbühlstrasse 20\, Flawil\, 9230\, Schweiz
CATEGORIES:Gottesdienste
END:VEVENT
BEGIN:VEVENT
DTSTART;TZID=Europe/Zurich:20260806T193000
DTEND;TZID=Europe/Zurich:20260806T210000
DTSTAMP:20260422T033329
CREATED:20260421T135449Z
LAST-MODIFIED:20260421T135449Z
UID:57356-1786044600-1786050000@www.se-ma.ch
SUMMARY:Degersheim: Eucharistische Anbetung
DESCRIPTION:In der stillen Anbetung vor dem Allerheiligsten sind wir eingeladen\, vor Gott zur Ruhe zu kommen\, innezuhalten und neue Kraft aus seiner Gegenwart zu schöpfen. \nIn der Stille dürfen wir verweilen\, ihm unser Herz öffnen und alles\, was uns belastet\, in die Hände Jesu legen. \nFreies Kommen und Gehen ist jederzeit möglich.
URL:https://www.se-ma.ch/event/degersheim-eucharistische-anbetung-2/
LOCATION:Jakobuskirche Kapelle Degersheim\, Bergstrasse 10\, Degersheim\, St. Gallen\, 9113\, Schweiz
CATEGORIES:Anlässe und Veranstaltungen
END:VEVENT
BEGIN:VEVENT
DTSTART;TZID=Europe/Zurich:20260807T183000
DTEND;TZID=Europe/Zurich:20260807T200000
DTSTAMP:20260422T033329
CREATED:20251217T101938Z
LAST-MODIFIED:20251217T101938Z
UID:55608-1786127400-1786132800@www.se-ma.ch
SUMMARY:Degersheim: Zämägang
DESCRIPTION:für einander da sein \nzusammen statt alleine \nHast du Lust\, mit mir und hoffentlich anderen Menschen zusammen zu sein? Dann komm einfach mit. \nVielleicht kennst du Menschen\, denen das freundliche und interessierte Miteinander gut tun würde. Mache sie aufmerksam auf dieses Angebot oder bring sie gleich selbst mit! \nEs braucht keine Anmeldung! \nTreffpunkt beim Parkplatz Föhrenwäldli Degersheim! \nIch freue mich auf dich! \nSilvan Hollenstein\, Seelsorger\, Tel. 079 743 73 89
URL:https://www.se-ma.ch/event/degersheim-zaemaegang-31/
LOCATION:Föhrenwäldli\, Berg 1\, Degersheim\, 9113 \, Schweiz
CATEGORIES:Anlässe und Veranstaltungen
END:VEVENT
BEGIN:VEVENT
DTSTART;TZID=Europe/Zurich:20260809T084500
DTEND;TZID=Europe/Zurich:20260809T084500
DTSTAMP:20260422T033329
CREATED:20251104T141315Z
LAST-MODIFIED:20251104T141318Z
UID:54929-1786265100-1786265100@www.se-ma.ch
SUMMARY:Wolfertswil: Schulanfangsgottesdienst
DESCRIPTION:Kommunionfeier mit Segnung und Kräutersträusschen
URL:https://www.se-ma.ch/event/wolfertswil-schulanfangsgottesdienst/
LOCATION:Bruder Klaus Kirche Wolfertswil\, Wolfertswil\, 9116 \, Schweiz
CATEGORIES:Gottesdienste
END:VEVENT
BEGIN:VEVENT
DTSTART;TZID=Europe/Zurich:20260809T101500
DTEND;TZID=Europe/Zurich:20260809T101500
DTSTAMP:20260422T033329
CREATED:20260107T065131Z
LAST-MODIFIED:20260107T065400Z
UID:56059-1786270500-1786270500@www.se-ma.ch
SUMMARY:Flawil: Kommunionfeier zum Schulanfang
DESCRIPTION:mit der Begegnungsfeiergruppe
URL:https://www.se-ma.ch/event/flawil-kommunionfeier-41/
LOCATION:Kirche St. Laurentius Flawil\, Enzenbühlstrasse 20\, Flawil\, 9230\, Schweiz
CATEGORIES:Gottesdienste,Kinder und Familien
END:VEVENT
BEGIN:VEVENT
DTSTART;TZID=Europe/Zurich:20260809T170000
DTEND;TZID=Europe/Zurich:20260809T180000
DTSTAMP:20260422T033329
CREATED:20260318T102841Z
LAST-MODIFIED:20260318T102841Z
UID:56908-1786294800-1786298400@www.se-ma.ch
SUMMARY:Degersheim: Kommunionfeier
DESCRIPTION:Schulanfangs-Gottesdienst mit Kräutersegnung
URL:https://www.se-ma.ch/event/degersheim-kommunionfeier-42/
LOCATION:Jakobuskirche Degersheim\, Bergstrasse 10\, Degersheim\, 9113\, Schweiz
CATEGORIES:Gottesdienste,Kinder und Familien
END:VEVENT
BEGIN:VEVENT
DTSTART;TZID=Europe/Zurich:20260810T193000
DTEND;TZID=Europe/Zurich:20260810T203000
DTSTAMP:20260422T033329
CREATED:20251125T101724Z
LAST-MODIFIED:20251125T101724Z
UID:55215-1786390200-1786393800@www.se-ma.ch
SUMMARY:Degersheim: Schweigemeditation
DESCRIPTION:Im Chorraum der Kath. Kirche St. Jakobus werden wir gemeinsam meditieren. Alle Interessierten\, unabhängig von Konfession oder Kirchennähe\, sind dazu herzlich eingeladen. \nFür Auskünfte steht Walter Germann gerne zur Verfügung: T 071 371 29 38.
URL:https://www.se-ma.ch/event/degersheim-schweigemeditation-104/
LOCATION:Jakobuskirche Degersheim\, Bergstrasse 10\, Degersheim\, 9113\, Schweiz
CATEGORIES:Anlässe und Veranstaltungen
END:VEVENT
BEGIN:VEVENT
DTSTART;TZID=Europe/Zurich:20260812T114500
DTEND;TZID=Europe/Zurich:20260812T140000
DTSTAMP:20260422T033329
CREATED:20251031T093439Z
LAST-MODIFIED:20251031T093439Z
UID:54862-1786535100-1786543200@www.se-ma.ch
SUMMARY:Degersheim: zämä ässä
DESCRIPTION:Wir freuen uns über alle\, die Lust haben\, gemeinsam zu essen\, zu geniessen und zu plaudern. Ein bunt zusammengewürfeltes Küchenteam kocht und serviert speziell für Sie! Der Preis beträgt Fr. 10.00. Bitte geben Sie bei der Anmeldung an\, falls Sie vegetarisch essen möchten! Anmeldungen bitte bis spätestens am Freitag bis 11.00 Uhr\, vor dem „zämä ässä“ an:\nTel. 071 371 10 17 oder per Mail: hc.am-esobfsctd-89d6a0@miehsreged-tairaterkes
URL:https://www.se-ma.ch/event/degersheim-zaemae-aessae-29/
LOCATION:Pfarreiheim
CATEGORIES:Anlässe und Veranstaltungen
END:VEVENT
BEGIN:VEVENT
DTSTART;VALUE=DATE:20260813
DTEND;VALUE=DATE:20260814
DTSTAMP:20260422T033329
CREATED:20260319T131629Z
LAST-MODIFIED:20260319T131629Z
UID:56957-1786579200-1786665599@www.se-ma.ch
SUMMARY:Flawil: SEMAplus - Seniorenausflug
DESCRIPTION:
URL:https://www.se-ma.ch/event/flawil-semaplus-seniorenausflug/
LOCATION:Lindensaal\, Lindenstrasse 6b\, Flawil\, 9230
CATEGORIES:Anlässe und Veranstaltungen
END:VEVENT
BEGIN:VEVENT
DTSTART;TZID=Europe/Zurich:20260816T084500
DTEND;TZID=Europe/Zurich:20260816T084500
DTSTAMP:20260422T033329
CREATED:20260107T081222Z
LAST-MODIFIED:20260107T081222Z
UID:56128-1786869900-1786869900@www.se-ma.ch
SUMMARY:Niederglatt:  Grottengottesdienst\, Kommunionfeier mit Kräutersegnung
DESCRIPTION:
URL:https://www.se-ma.ch/event/niederglatt-grottengottesdienst-kommunionfeier-mit-kraeutersegnung/
LOCATION:Lourdes Grotte Niederglatt\, Niederglattstrasse\, Niederglatt\, 9240\, Schweiz
CATEGORIES:Gottesdienste,Kinder und Familien
END:VEVENT
BEGIN:VEVENT
DTSTART;TZID=Europe/Zurich:20260816T100000
DTEND;TZID=Europe/Zurich:20260816T140000
DTSTAMP:20260422T033329
CREATED:20250826T142357Z
LAST-MODIFIED:20250826T142508Z
UID:53871-1786874400-1786888800@www.se-ma.ch
SUMMARY:Degersheim: Ökum. Föhrenwäldli Gottesdienst
DESCRIPTION:Ökum. Föhrenwäldli Gottesdienst bei schönem Wetter im Föhrenwäldli\, bei schlechter Witterung in der kath. Kirche. Anschliessend gemütliches Beisammensein mit Verpflegungsmöglichkeit.
URL:https://www.se-ma.ch/event/degersheim-oekum-foehrenwaeldli-gottesdienst-3/
LOCATION:Föhrenwäldli\, Berg 1\, Degersheim\, 9113 \, Schweiz
CATEGORIES:Gottesdienste,Kinder und Familien
END:VEVENT
BEGIN:VEVENT
DTSTART;TZID=Europe/Zurich:20260816T101500
DTEND;TZID=Europe/Zurich:20260816T101500
DTSTAMP:20260422T033329
CREATED:20260107T072711Z
LAST-MODIFIED:20260107T073053Z
UID:56087-1786875300-1786875300@www.se-ma.ch
SUMMARY:Flawil: Patrozinium\, Festgottesdienst zum Laurentiusfest\, Eucharistiefeier
DESCRIPTION:mit den Kirchenchören Flawil und Degersheim\nanschliessend Apéro
URL:https://www.se-ma.ch/event/flawil-patrozinium-festgottesdienst-zum-laurentiusfest/
LOCATION:Kirche St. Laurentius Flawil\, Enzenbühlstrasse 20\, Flawil\, 9230\, Schweiz
CATEGORIES:Gottesdienste,Kinder und Familien
END:VEVENT
BEGIN:VEVENT
DTSTART;TZID=Europe/Zurich:20260819T140000
DTEND;TZID=Europe/Zurich:20260819T163000
DTSTAMP:20260422T033329
CREATED:20251112T064137Z
LAST-MODIFIED:20251112T064137Z
UID:55030-1787148000-1787157000@www.se-ma.ch
SUMMARY:Degersheim: ökum. Seniorennachmittag
DESCRIPTION:Besuch vom Clownduo Sofie & Pepi \nAuf spielerisch\, fantasievolle und amüsante Weise sorgen die zwei ausgebildeten Künstlerinnen für einen Nachmittag voller Überraschungen.
URL:https://www.se-ma.ch/event/degersheim-oekum-seniorennachmittag-7/
LOCATION:evang. Kirchgemeindehaus Degersheim\, Steineggstrasse 12\, Degersheim\, 9113\, Schweiz
CATEGORIES:Anlässe und Veranstaltungen
END:VEVENT
BEGIN:VEVENT
DTSTART;TZID=Europe/Zurich:20260820T190000
DTEND;TZID=Europe/Zurich:20260820T200000
DTSTAMP:20260422T033329
CREATED:20251202T105841Z
LAST-MODIFIED:20251202T105841Z
UID:55311-1787252400-1787256000@www.se-ma.ch
SUMMARY:Degersheim: Friedensgebet
DESCRIPTION:Wir beten für den Frieden in unserer Welt.
URL:https://www.se-ma.ch/event/degersheim-friedensgebet-34/
LOCATION:evang. Kirche Degersheim\, Steineggstrasse 10\, Degersheim\, 9113
CATEGORIES:Anlässe und Veranstaltungen
END:VEVENT
BEGIN:VEVENT
DTSTART;VALUE=DATE:20260821
DTEND;VALUE=DATE:20260822
DTSTAMP:20260422T033329
CREATED:20260211T075425Z
LAST-MODIFIED:20260211T075456Z
UID:56510-1787270400-1787356799@www.se-ma.ch
SUMMARY:Pfarreireise zum Ferdinand-Gehr-Jahr
DESCRIPTION:
URL:https://www.se-ma.ch/event/pfarreireise-zum-ferdinand-gehr-jahr/
CATEGORIES:Anlässe und Veranstaltungen
ORGANIZER;CN="Pfarreigremium Niederglatt":MAILTO:sekretariat-flawil@se-ma.ch
END:VEVENT
BEGIN:VEVENT
DTSTART;TZID=Europe/Zurich:20260822T173000
DTEND;TZID=Europe/Zurich:20260822T183000
DTSTAMP:20260422T033330
CREATED:20260318T103057Z
LAST-MODIFIED:20260318T103057Z
UID:56911-1787419800-1787423400@www.se-ma.ch
SUMMARY:Degersheim: Eucharistiefeier
DESCRIPTION:mit Albert Schmucki
URL:https://www.se-ma.ch/event/degersheim-eucharistiefeier-63/
LOCATION:Jakobuskirche Degersheim\, Bergstrasse 10\, Degersheim\, 9113\, Schweiz
CATEGORIES:Gottesdienste
END:VEVENT
BEGIN:VEVENT
DTSTART;TZID=Europe/Zurich:20260823T084500
DTEND;TZID=Europe/Zurich:20260823T084500
DTSTAMP:20260422T033330
CREATED:20251104T141417Z
LAST-MODIFIED:20251219T090340Z
UID:54932-1787474700-1787474700@www.se-ma.ch
SUMMARY:Wolfertswil: Eucharistiefeier mit Albert Schmucki
DESCRIPTION:
URL:https://www.se-ma.ch/event/wolfertswil-eucharistiefeier-mit-albert-schmucki/
LOCATION:Bruder Klaus Kirche Wolfertswil\, Wolfertswil\, 9116 \, Schweiz
CATEGORIES:Gottesdienste
END:VEVENT
BEGIN:VEVENT
DTSTART;TZID=Europe/Zurich:20260823T101500
DTEND;TZID=Europe/Zurich:20260823T101500
DTSTAMP:20260422T033330
CREATED:20260107T072823Z
LAST-MODIFIED:20260107T072823Z
UID:56089-1787480100-1787480100@www.se-ma.ch
SUMMARY:Flawil: Eucharistiefeier
DESCRIPTION:
URL:https://www.se-ma.ch/event/flawil-eucharistiefeier-50/
LOCATION:Kirche St. Laurentius Flawil\, Enzenbühlstrasse 20\, Flawil\, 9230\, Schweiz
CATEGORIES:Gottesdienste
END:VEVENT
BEGIN:VEVENT
DTSTART;TZID=Europe/Zurich:20260829T173000
DTEND;TZID=Europe/Zurich:20260829T183000
DTSTAMP:20260422T033330
CREATED:20260318T103331Z
LAST-MODIFIED:20260318T103331Z
UID:56914-1788024600-1788028200@www.se-ma.ch
SUMMARY:Degersheim: Kommunionfeier
DESCRIPTION:
URL:https://www.se-ma.ch/event/degersheim-kommunionfeier-43/
LOCATION:Jakobuskirche Degersheim\, Bergstrasse 10\, Degersheim\, 9113\, Schweiz
CATEGORIES:Gottesdienste
END:VEVENT
BEGIN:VEVENT
DTSTART;TZID=Europe/Zurich:20260830T084500
DTEND;TZID=Europe/Zurich:20260830T084500
DTSTAMP:20260422T033330
CREATED:20260107T081105Z
LAST-MODIFIED:20260107T081105Z
UID:56126-1788079500-1788079500@www.se-ma.ch
SUMMARY:Niederglatt: Kommunionfeier
DESCRIPTION:
URL:https://www.se-ma.ch/event/niederglatt-kommunionfeier-20/
LOCATION:Felix + Regula Kirche Niederglatt\, Niederglatt\, 9240\, Schweiz
CATEGORIES:Gottesdienste
END:VEVENT
BEGIN:VEVENT
DTSTART;TZID=Europe/Zurich:20260830T093000
DTEND;TZID=Europe/Zurich:20260830T093000
DTSTAMP:20260422T033330
CREATED:20260106T153835Z
LAST-MODIFIED:20260106T153901Z
UID:55983-1788082200-1788082200@www.se-ma.ch
SUMMARY:Flawil: Eucharistiefeier in Spanisch
DESCRIPTION:
URL:https://www.se-ma.ch/event/flawil-eucharistiefeier-in-spanisch-76/
LOCATION:Kapelle St. Laurentius Flawil\, Enzenbühlstrasse 20\, Flawil\, 9230\, Schweiz
CATEGORIES:Gottesdienste
END:VEVENT
BEGIN:VEVENT
DTSTART;TZID=Europe/Zurich:20260830T100000
DTEND;TZID=Europe/Zurich:20260830T100000
DTSTAMP:20260422T033330
CREATED:20251104T141538Z
LAST-MODIFIED:20251104T141542Z
UID:54934-1788084000-1788084000@www.se-ma.ch
SUMMARY:Wolfertswil: Familiengottesdienst zum Chilbisonntag
DESCRIPTION:
URL:https://www.se-ma.ch/event/wolfertswil-familiengottesdienst-zum-chilbisonntag/
LOCATION:Bruder Klaus Kirche Wolfertswil\, Wolfertswil\, 9116 \, Schweiz
END:VEVENT
BEGIN:VEVENT
DTSTART;TZID=Europe/Zurich:20260830T101500
DTEND;TZID=Europe/Zurich:20260830T101500
DTSTAMP:20260422T033330
CREATED:20260107T072921Z
LAST-MODIFIED:20260107T072921Z
UID:56091-1788084900-1788084900@www.se-ma.ch
SUMMARY:Flawil: Ökumenischer Gottesdienst zum Erntedank\, Kommunionfeier
DESCRIPTION:anschliessend Apéro
URL:https://www.se-ma.ch/event/flawil-oekumenischer-gottesdienst-zum-erntedank-kommunionfeier-2/
LOCATION:Kirche St. Laurentius Flawil\, Enzenbühlstrasse 20\, Flawil\, 9230\, Schweiz
CATEGORIES:Gottesdienste
END:VEVENT
BEGIN:VEVENT
DTSTART;TZID=Europe/Zurich:20260901T193000
DTEND;TZID=Europe/Zurich:20260901T193000
DTSTAMP:20260422T033330
CREATED:20260113T095113Z
LAST-MODIFIED:20260414T113411Z
UID:56178-1788291000-1788291000@www.se-ma.ch
SUMMARY:Wolfertswil: IMPULSraum
DESCRIPTION:
URL:https://www.se-ma.ch/event/impulsraum-3/
LOCATION:Bruder Klaus Kirche Wolfertswil\, Wolfertswil\, 9116 \, Schweiz
CATEGORIES:Anlässe und Veranstaltungen
END:VEVENT
END:VCALENDAR