BEGIN:VCALENDAR
VERSION:2.0
PRODID:-//Seelsorgeeinheit Magdenau - ECPv6.15.20//NONSGML v1.0//EN
CALSCALE:GREGORIAN
METHOD:PUBLISH
X-ORIGINAL-URL:https://www.se-ma.ch
X-WR-CALDESC:Veranstaltungen für Seelsorgeeinheit Magdenau
REFRESH-INTERVAL;VALUE=DURATION:PT1H
X-Robots-Tag:noindex
X-PUBLISHED-TTL:PT1H
BEGIN:VTIMEZONE
TZID:Europe/Zurich
BEGIN:DAYLIGHT
TZOFFSETFROM:+0100
TZOFFSETTO:+0200
TZNAME:CEST
DTSTART:20250330T010000
END:DAYLIGHT
BEGIN:STANDARD
TZOFFSETFROM:+0200
TZOFFSETTO:+0100
TZNAME:CET
DTSTART:20251026T010000
END:STANDARD
BEGIN:DAYLIGHT
TZOFFSETFROM:+0100
TZOFFSETTO:+0200
TZNAME:CEST
DTSTART:20260329T010000
END:DAYLIGHT
BEGIN:STANDARD
TZOFFSETFROM:+0200
TZOFFSETTO:+0100
TZNAME:CET
DTSTART:20261025T010000
END:STANDARD
BEGIN:DAYLIGHT
TZOFFSETFROM:+0100
TZOFFSETTO:+0200
TZNAME:CEST
DTSTART:20270328T010000
END:DAYLIGHT
BEGIN:STANDARD
TZOFFSETFROM:+0200
TZOFFSETTO:+0100
TZNAME:CET
DTSTART:20271031T010000
END:STANDARD
END:VTIMEZONE
BEGIN:VEVENT
DTSTART;TZID=Europe/Zurich:20260909T114500
DTEND;TZID=Europe/Zurich:20260909T140000
DTSTAMP:20260422T103503
CREATED:20251031T093623Z
LAST-MODIFIED:20251031T093623Z
UID:54865-1788954300-1788962400@www.se-ma.ch
SUMMARY:Degersheim: zämä ässä
DESCRIPTION:Wir freuen uns über alle\, die Lust haben\, gemeinsam zu essen\, zu geniessen und zu plaudern. Ein bunt zusammengewürfeltes Küchenteam kocht und serviert speziell für Sie! Der Preis beträgt Fr. 10.00. Bitte geben Sie bei der Anmeldung an\, falls Sie vegetarisch essen möchten! Anmeldungen bitte bis spätestens am Freitag bis 11.00 Uhr\, vor dem „zämä ässä“ an:\nTel. 071 371 10 17 oder per Mail: hc.am-esobfsctd-4e1d36@miehsreged-tairaterkes
URL:https://www.se-ma.ch/event/degersheim-zaemae-aessae-30/
LOCATION:Pfarreiheim
CATEGORIES:Anlässe und Veranstaltungen
END:VEVENT
BEGIN:VEVENT
DTSTART;TZID=Europe/Zurich:20260909T150000
DTEND;TZID=Europe/Zurich:20260909T150000
DTSTAMP:20260422T103503
CREATED:20260317T153722Z
LAST-MODIFIED:20260317T153722Z
UID:56876-1788966000-1788966000@www.se-ma.ch
SUMMARY:Wolfertswil: Eucharistiefeier mit Krankensalbung
DESCRIPTION:
URL:https://www.se-ma.ch/event/wolfertswil-eucharistiefeier-mit-krankensalbung/
LOCATION:Bruder Klaus Kirche Wolfertswil\, Wolfertswil\, 9116 \, Schweiz
CATEGORIES:Gottesdienste
END:VEVENT
BEGIN:VEVENT
DTSTART;TZID=Europe/Zurich:20260912T173000
DTEND;TZID=Europe/Zurich:20260912T173000
DTSTAMP:20260422T103503
CREATED:20260106T152749Z
LAST-MODIFIED:20260106T152749Z
UID:55931-1789234200-1789234200@www.se-ma.ch
SUMMARY:Flawil: Eucharistiefeier in Portugiesisch
DESCRIPTION:
URL:https://www.se-ma.ch/event/flawil-eucharistiefeier-in-portugiesisch-44/
LOCATION:Kapelle St. Laurentius Flawil\, Enzenbühlstrasse 20\, Flawil\, 9230\, Schweiz
CATEGORIES:Gottesdienste
END:VEVENT
BEGIN:VEVENT
DTSTART;TZID=Europe/Zurich:20260913T090000
DTEND;TZID=Europe/Zurich:20260913T090000
DTSTAMP:20260422T103503
CREATED:20260106T151559Z
LAST-MODIFIED:20260106T151559Z
UID:55871-1789290000-1789290000@www.se-ma.ch
SUMMARY:Flawil: Eucharistiefeier in Italienisch
DESCRIPTION:
URL:https://www.se-ma.ch/event/flawil-eucharistiefeier-in-italienisch-8/
LOCATION:Kapelle St. Laurentius Flawil\, Enzenbühlstrasse 20\, Flawil\, 9230\, Schweiz
CATEGORIES:Gottesdienste
END:VEVENT
BEGIN:VEVENT
DTSTART;TZID=Europe/Zurich:20260913T101500
DTEND;TZID=Europe/Zurich:20260913T113000
DTSTAMP:20260422T103503
CREATED:20260325T104518Z
LAST-MODIFIED:20260325T104518Z
UID:56989-1789294500-1789299000@www.se-ma.ch
SUMMARY:Degersheim: Gottesdienscht bi de Lüüt uf em Burehof
DESCRIPTION:mit Kinderprogramm und Tiersegnung
URL:https://www.se-ma.ch/event/degersheim-gottesdienscht-bi-de-lueuet-uf-em-burehof/
CATEGORIES:Gottesdienste,Kinder und Familien
END:VEVENT
BEGIN:VEVENT
DTSTART;VALUE=DATE:20260914
DTEND;VALUE=DATE:20260920
DTSTAMP:20260422T103503
CREATED:20251112T065321Z
LAST-MODIFIED:20251112T065321Z
UID:55039-1789344000-1789862399@www.se-ma.ch
SUMMARY:Degersheim: ökum. Seniorenferien in Bad Krotzingen (Deutschland)
DESCRIPTION:Seniorenferien im Hotel Eden – an den Thermen in D-79189 Bad Krotzingen \nCarchauffeur/Reiseleiter: Hans Martin Enz \nAnmeldung mit Anmeldeformular bis 30. Juni 2026
URL:https://www.se-ma.ch/event/degersheim-oekum-seniorenferien-in-bad-krotzingen-deutschland/
CATEGORIES:Anlässe und Veranstaltungen
END:VEVENT
BEGIN:VEVENT
DTSTART;TZID=Europe/Zurich:20260916T083000
DTEND;TZID=Europe/Zurich:20260916T103000
DTSTAMP:20260422T103503
CREATED:20260210T142438Z
LAST-MODIFIED:20260210T142819Z
UID:56487-1789547400-1789554600@www.se-ma.ch
SUMMARY:Degersheim: Waldcafé
DESCRIPTION:Gerne laden wir Sie als Waldspazierer mit oder ohne Hund\, Jogger\, Träumer\, etc. zu einem feinen Café ein! \nFür Auskünfte steht Silvan Hollenstein\, T 079 743 73 89\, zur Verfügung.
URL:https://www.se-ma.ch/event/degersheim-waldcafe-4/
LOCATION:Föhrenwäldli\, Berg 1\, Degersheim\, 9113 \, Schweiz
CATEGORIES:Anlässe und Veranstaltungen
END:VEVENT
BEGIN:VEVENT
DTSTART;TZID=Europe/Zurich:20260916T143000
DTEND;TZID=Europe/Zurich:20260916T163000
DTSTAMP:20260422T103503
CREATED:20260319T131014Z
LAST-MODIFIED:20260319T131014Z
UID:56945-1789569000-1789576200@www.se-ma.ch
SUMMARY:Flawil: SEMAplus - Seniorennachmittag
DESCRIPTION:mit dem Akkordeonorchester Waldkirch-Häggenschwil
URL:https://www.se-ma.ch/event/flawil-semaplus-seniorennachmittag-3/
LOCATION:Pfarreizentrum Flawil\, Enzenbühlstrasse 16\, Flawil\, 9230\, Schweiz
END:VEVENT
BEGIN:VEVENT
DTSTART;TZID=Europe/Zurich:20261021T113000
DTEND;TZID=Europe/Zurich:20261021T113000
DTSTAMP:20260422T103503
CREATED:20260319T131244Z
LAST-MODIFIED:20260319T131244Z
UID:56947-1792582200-1792582200@www.se-ma.ch
SUMMARY:Flawil: SEMAplus - Seniorennachmittag
DESCRIPTION:Raclette-Plausch\, mit Anmeldung im Pfarreisekretariat
URL:https://www.se-ma.ch/event/flawil-semaplus-seniorennachmittag-4/
LOCATION:Pfarreizentrum Flawil\, Enzenbühlstrasse 16\, Flawil\, 9230\, Schweiz
CATEGORIES:Anlässe und Veranstaltungen
END:VEVENT
BEGIN:VEVENT
DTSTART;TZID=Europe/Zurich:20260917T190000
DTEND;TZID=Europe/Zurich:20260917T200000
DTSTAMP:20260422T103503
CREATED:20251202T105947Z
LAST-MODIFIED:20251202T105947Z
UID:55314-1789671600-1789675200@www.se-ma.ch
SUMMARY:Degersheim: Friedensgebet
DESCRIPTION:Wir beten für den Frieden in unserer Welt.
URL:https://www.se-ma.ch/event/degersheim-friedensgebet-35/
LOCATION:Jakobuskirche Kapelle Degersheim\, Bergstrasse 10\, Degersheim\, St. Gallen\, 9113\, Schweiz
CATEGORIES:Anlässe und Veranstaltungen
END:VEVENT
BEGIN:VEVENT
DTSTART;TZID=Europe/Zurich:20260919T100000
DTEND;TZID=Europe/Zurich:20260919T100000
DTSTAMP:20260422T103503
CREATED:20251114T092730Z
LAST-MODIFIED:20251114T093340Z
UID:55078-1789812000-1789812000@www.se-ma.ch
SUMMARY:Degersheim: ökum. Chinderchile
DESCRIPTION:Die Gestaltung des Programms ist auf die Fähigkeiten von Kindern im Alter von 3 – 6 Jahren mit ihren Begleitpersonen ausgerichtet. \nGeschwister sind herzlich willkommen. \nIm Anschluss an die Feier geniessen wir das gemütliche Zusammensein im kath. Pfarreiheim.
URL:https://www.se-ma.ch/event/degersheim-oekum-chinderchile-15/
LOCATION:kath. Pfarramt Degersheim\, Friedbergstrasse 2\, 9113 Degersheim\, 9113\, Schweiz
CATEGORIES:Gottesdienste,Kinder und Familien
END:VEVENT
BEGIN:VEVENT
DTSTART;TZID=Europe/Zurich:20260920T093000
DTEND;TZID=Europe/Zurich:20260920T093000
DTSTAMP:20260422T103503
CREATED:20260106T153918Z
LAST-MODIFIED:20260106T153918Z
UID:55985-1789896600-1789896600@www.se-ma.ch
SUMMARY:Flawil: Eucharistiefeier in Spanisch
DESCRIPTION:
URL:https://www.se-ma.ch/event/flawil-eucharistiefeier-in-spanisch-77/
LOCATION:Kapelle St. Laurentius Flawil\, Enzenbühlstrasse 20\, Flawil\, 9230\, Schweiz
CATEGORIES:Gottesdienste
END:VEVENT
BEGIN:VEVENT
DTSTART;TZID=Europe/Zurich:20260920T094000
DTEND;TZID=Europe/Zurich:20260920T104000
DTSTAMP:20260422T103503
CREATED:20260318T104025Z
LAST-MODIFIED:20260318T104025Z
UID:56920-1789897200-1789900800@www.se-ma.ch
SUMMARY:Degersheim: Bettag Einladungs-GD in der evang. Kirche
DESCRIPTION:Kommunionfeier\, Einladungs-Gottesdienst mit Erntedank\, Bettag\, mit evang. und kath. Kirchenchören
URL:https://www.se-ma.ch/event/degersheim-bettag-einladungs-gd-in-der-evang-kirche/
LOCATION:evang. Kirche Degersheim\, Steineggstrasse 10\, Degersheim\, 9113
CATEGORIES:Gottesdienste
END:VEVENT
BEGIN:VEVENT
DTSTART;TZID=Europe/Zurich:20260920T160000
DTEND;TZID=Europe/Zurich:20260920T160000
DTSTAMP:20260422T103503
CREATED:20260317T153827Z
LAST-MODIFIED:20260317T153827Z
UID:56878-1789920000-1789920000@www.se-ma.ch
SUMMARY:Wolfertswil: SEMA-Bettagsandacht mit Pirmin Baumgartner
DESCRIPTION:
URL:https://www.se-ma.ch/event/wolfertswil-sema-bettagsandacht-mit-pirmin-baumgartner/
LOCATION:Bruder Klaus Kirche Wolfertswil\, Wolfertswil\, 9116 \, Schweiz
CATEGORIES:Gottesdienste
END:VEVENT
BEGIN:VEVENT
DTSTART;TZID=Europe/Zurich:20260925T183000
DTEND;TZID=Europe/Zurich:20260925T193000
DTSTAMP:20260422T103503
CREATED:20260318T104352Z
LAST-MODIFIED:20260318T104352Z
UID:56924-1790361000-1790364600@www.se-ma.ch
SUMMARY:Degersheim: Lagergottesdienst mit Jungwacht/Blauring
DESCRIPTION:
URL:https://www.se-ma.ch/event/degersheim-lagergottesdienst-mit-jungwacht-blauring/
LOCATION:Jakobuskirche Degersheim\, Bergstrasse 10\, Degersheim\, 9113\, Schweiz
CATEGORIES:Gottesdienste,Kinder und Familien
END:VEVENT
BEGIN:VEVENT
DTSTART;TZID=Europe/Zurich:20260926T173000
DTEND;TZID=Europe/Zurich:20260926T173000
DTSTAMP:20260422T103503
CREATED:20260106T152805Z
LAST-MODIFIED:20260106T152805Z
UID:55933-1790443800-1790443800@www.se-ma.ch
SUMMARY:Flawil: Eucharistiefeier in Portugiesisch
DESCRIPTION:
URL:https://www.se-ma.ch/event/flawil-eucharistiefeier-in-portugiesisch-45/
LOCATION:Kapelle St. Laurentius Flawil\, Enzenbühlstrasse 20\, Flawil\, 9230\, Schweiz
CATEGORIES:Gottesdienste
END:VEVENT
BEGIN:VEVENT
DTSTART;TZID=Europe/Zurich:20260926T173000
DTEND;TZID=Europe/Zurich:20260926T183000
DTSTAMP:20260422T103503
CREATED:20260318T104502Z
LAST-MODIFIED:20260318T104502Z
UID:56926-1790443800-1790447400@www.se-ma.ch
SUMMARY:Degersheim: Eucharistiefeier
DESCRIPTION:
URL:https://www.se-ma.ch/event/degersheim-eucharistiefeier-65/
LOCATION:Jakobuskirche Degersheim\, Bergstrasse 10\, Degersheim\, 9113\, Schweiz
CATEGORIES:Gottesdienste
END:VEVENT
BEGIN:VEVENT
DTSTART;TZID=Europe/Zurich:20260927T083000
DTEND;TZID=Europe/Zurich:20260927T083000
DTSTAMP:20260422T103503
CREATED:20260106T151849Z
LAST-MODIFIED:20260106T151849Z
UID:55887-1790497800-1790497800@www.se-ma.ch
SUMMARY:Flawil: Eucharistiefeier in Italienisch
DESCRIPTION:
URL:https://www.se-ma.ch/event/flawil-eucharistiefeier-in-italienisch-16/
LOCATION:Kapelle St. Laurentius Flawil\, Enzenbühlstrasse 20\, Flawil\, 9230\, Schweiz
CATEGORIES:Gottesdienste
END:VEVENT
BEGIN:VEVENT
DTSTART;TZID=Europe/Zurich:20260927T084500
DTEND;TZID=Europe/Zurich:20260927T084500
DTSTAMP:20260422T103503
CREATED:20260317T153934Z
LAST-MODIFIED:20260317T153934Z
UID:56881-1790498700-1790498700@www.se-ma.ch
SUMMARY:Wolfertswil: Kirchenpatronfest Bruder Klaus
DESCRIPTION:Eucharistiefeier
URL:https://www.se-ma.ch/event/wolfertswil-kirchenpatronfest-bruder-klaus/
LOCATION:Bruder Klaus Kirche Wolfertswil\, Wolfertswil\, 9116 \, Schweiz
CATEGORIES:Gottesdienste
END:VEVENT
BEGIN:VEVENT
DTSTART;TZID=Europe/Zurich:20261001T150000
DTEND;TZID=Europe/Zurich:20261001T163000
DTSTAMP:20260422T103503
CREATED:20251203T081642Z
LAST-MODIFIED:20251203T081642Z
UID:55379-1790866800-1790872200@www.se-ma.ch
SUMMARY:Trauercafé
DESCRIPTION:Das Trauercafé bietet Angehörigen die Möglichkeit\, über das Erlebte zu sprechen und sich mit anderen Betroffenen auszutauschen. Es ist keine Anmeldung nötig. \nHomepage Ökum. Hospizgruppe Flawil
URL:https://www.se-ma.ch/event/trauercafe-39/
LOCATION:Haus 5egg\, Bahnhofstrasse 33\, Flawil\, St. Gallen\, 9230\, Schweiz
CATEGORIES:Anlässe und Veranstaltungen
END:VEVENT
BEGIN:VEVENT
DTSTART;TZID=Europe/Zurich:20261002T183000
DTEND;TZID=Europe/Zurich:20261002T200000
DTSTAMP:20260422T103503
CREATED:20251217T102156Z
LAST-MODIFIED:20251217T102156Z
UID:55612-1790965800-1790971200@www.se-ma.ch
SUMMARY:Degersheim: Zämägang
DESCRIPTION:für einander da sein \nzusammen statt alleine \nHast du Lust\, mit mir und hoffentlich anderen Menschen zusammen zu sein? Dann komm einfach mit. \nVielleicht kennst du Menschen\, denen das freundliche und interessierte Miteinander gut tun würde. Mache sie aufmerksam auf dieses Angebot oder bring sie gleich selbst mit! \nEs braucht keine Anmeldung! \nTreffpunkt beim Parkplatz Föhrenwäldli Degersheim! \nIch freue mich auf dich! \nSilvan Hollenstein\, Seelsorger\, Tel. 079 743 73 89
URL:https://www.se-ma.ch/event/degersheim-zaemaegang-33/
LOCATION:Föhrenwäldli\, Berg 1\, Degersheim\, 9113 \, Schweiz
CATEGORIES:Anlässe und Veranstaltungen
END:VEVENT
BEGIN:VEVENT
DTSTART;TZID=Europe/Zurich:20261003T173000
DTEND;TZID=Europe/Zurich:20261003T183000
DTSTAMP:20260422T103503
CREATED:20260318T104607Z
LAST-MODIFIED:20260318T104607Z
UID:56928-1791048600-1791052200@www.se-ma.ch
SUMMARY:Degersheim: Eucharistiefeier
DESCRIPTION:
URL:https://www.se-ma.ch/event/degersheim-eucharistiefeier-66/
LOCATION:Jakobuskirche Degersheim\, Bergstrasse 10\, Degersheim\, 9113\, Schweiz
CATEGORIES:Gottesdienste
END:VEVENT
BEGIN:VEVENT
DTSTART;TZID=Europe/Zurich:20261004T093000
DTEND;TZID=Europe/Zurich:20261004T093000
DTSTAMP:20260422T103503
CREATED:20260106T153255Z
LAST-MODIFIED:20260106T153255Z
UID:55963-1791106200-1791106200@www.se-ma.ch
SUMMARY:Flawil: Eucharistiefeier in Spanisch
DESCRIPTION:ab 9.00 Uhr Beichtgelegenheit
URL:https://www.se-ma.ch/event/flawil-eucharistiefeier-in-spanisch-66/
LOCATION:Kapelle St. Laurentius Flawil\, Enzenbühlstrasse 20\, Flawil\, 9230\, Schweiz
CATEGORIES:Gottesdienste
END:VEVENT
BEGIN:VEVENT
DTSTART;TZID=Europe/Zurich:20261010T173000
DTEND;TZID=Europe/Zurich:20261010T173000
DTSTAMP:20260422T103503
CREATED:20260106T152818Z
LAST-MODIFIED:20260106T152818Z
UID:55935-1791653400-1791653400@www.se-ma.ch
SUMMARY:Flawil: Eucharistiefeier in Portugiesisch
DESCRIPTION:
URL:https://www.se-ma.ch/event/flawil-eucharistiefeier-in-portugiesisch-46/
LOCATION:Kapelle St. Laurentius Flawil\, Enzenbühlstrasse 20\, Flawil\, 9230\, Schweiz
CATEGORIES:Gottesdienste
END:VEVENT
BEGIN:VEVENT
DTSTART;TZID=Europe/Zurich:20261010T173000
DTEND;TZID=Europe/Zurich:20261010T183000
DTSTAMP:20260422T103503
CREATED:20260325T104813Z
LAST-MODIFIED:20260325T104813Z
UID:56993-1791653400-1791657000@www.se-ma.ch
SUMMARY:Degersheim: Gottesdienst
DESCRIPTION:
URL:https://www.se-ma.ch/event/degersheim-gottesdienst-2/
LOCATION:Jakobuskirche Degersheim\, Bergstrasse 10\, Degersheim\, 9113\, Schweiz
CATEGORIES:Gottesdienste
END:VEVENT
BEGIN:VEVENT
DTSTART;TZID=Europe/Zurich:20261011T090000
DTEND;TZID=Europe/Zurich:20261011T090000
DTSTAMP:20260422T103503
CREATED:20260106T151616Z
LAST-MODIFIED:20260106T151616Z
UID:55873-1791709200-1791709200@www.se-ma.ch
SUMMARY:Flawil: Eucharistiefeier in Italienisch
DESCRIPTION:
URL:https://www.se-ma.ch/event/flawil-eucharistiefeier-in-italienisch-9/
LOCATION:Kapelle St. Laurentius Flawil\, Enzenbühlstrasse 20\, Flawil\, 9230\, Schweiz
CATEGORIES:Gottesdienste
END:VEVENT
BEGIN:VEVENT
DTSTART;TZID=Europe/Zurich:20261017T173000
DTEND;TZID=Europe/Zurich:20261017T183000
DTSTAMP:20260422T103503
CREATED:20260325T104933Z
LAST-MODIFIED:20260325T104933Z
UID:56995-1792258200-1792261800@www.se-ma.ch
SUMMARY:Degersheim: Eucharistiefeier Salbungs-Gottesdienst
DESCRIPTION:
URL:https://www.se-ma.ch/event/degersheim-eucharistiefeier-salbungs-gottesdienst/
LOCATION:Jakobuskirche Degersheim\, Bergstrasse 10\, Degersheim\, 9113\, Schweiz
CATEGORIES:Gottesdienste
END:VEVENT
BEGIN:VEVENT
DTSTART;TZID=Europe/Zurich:20261018T084500
DTEND;TZID=Europe/Zurich:20261018T084500
DTSTAMP:20260422T103503
CREATED:20260317T154043Z
LAST-MODIFIED:20260317T154043Z
UID:56884-1792313100-1792313100@www.se-ma.ch
SUMMARY:Wolfertswil: Salbungsgottesdienst
DESCRIPTION:Ecuharistiefeier
URL:https://www.se-ma.ch/event/wolfertswil-salbungsgottesdienst/
LOCATION:Bruder Klaus Kirche Wolfertswil\, Wolfertswil\, 9116 \, Schweiz
CATEGORIES:Gottesdienste
END:VEVENT
BEGIN:VEVENT
DTSTART;TZID=Europe/Zurich:20261018T093000
DTEND;TZID=Europe/Zurich:20261018T093000
DTSTAMP:20260422T103503
CREATED:20260106T153942Z
LAST-MODIFIED:20260106T153942Z
UID:55987-1792315800-1792315800@www.se-ma.ch
SUMMARY:Flawil: Eucharistiefeier in Spanisch
DESCRIPTION:
URL:https://www.se-ma.ch/event/flawil-eucharistiefeier-in-spanisch-78/
LOCATION:Kapelle St. Laurentius Flawil\, Enzenbühlstrasse 20\, Flawil\, 9230\, Schweiz
CATEGORIES:Gottesdienste
END:VEVENT
BEGIN:VEVENT
DTSTART;TZID=Europe/Zurich:20261021T114500
DTEND;TZID=Europe/Zurich:20261021T140000
DTSTAMP:20260422T103503
CREATED:20251031T093732Z
LAST-MODIFIED:20251031T093732Z
UID:54868-1792583100-1792591200@www.se-ma.ch
SUMMARY:Degersheim: zämä ässä
DESCRIPTION:Wir freuen uns über alle\, die Lust haben\, gemeinsam zu essen\, zu geniessen und zu plaudern. Ein bunt zusammengewürfeltes Küchenteam kocht und serviert speziell für Sie! Der Preis beträgt Fr. 10.00. Bitte geben Sie bei der Anmeldung an\, falls Sie vegetarisch essen möchten! Anmeldungen bitte bis spätestens am Freitag bis 11.00 Uhr\, vor dem „zämä ässä“ an:\nTel. 071 371 10 17 oder per Mail: hc.am-esobfsctd-8c8936@miehsreged-tairaterkes
URL:https://www.se-ma.ch/event/degersheim-zaemae-aessae-31/
LOCATION:Pfarreiheim
CATEGORIES:Anlässe und Veranstaltungen
END:VEVENT
END:VCALENDAR