BEGIN:VCALENDAR
VERSION:2.0
PRODID:-//Seelsorgeeinheit Magdenau - ECPv6.15.20//NONSGML v1.0//EN
CALSCALE:GREGORIAN
METHOD:PUBLISH
X-ORIGINAL-URL:https://www.se-ma.ch
X-WR-CALDESC:Veranstaltungen für Seelsorgeeinheit Magdenau
REFRESH-INTERVAL;VALUE=DURATION:PT1H
X-Robots-Tag:noindex
X-PUBLISHED-TTL:PT1H
BEGIN:VTIMEZONE
TZID:Europe/Zurich
BEGIN:DAYLIGHT
TZOFFSETFROM:+0100
TZOFFSETTO:+0200
TZNAME:CEST
DTSTART:20250330T010000
END:DAYLIGHT
BEGIN:STANDARD
TZOFFSETFROM:+0200
TZOFFSETTO:+0100
TZNAME:CET
DTSTART:20251026T010000
END:STANDARD
BEGIN:DAYLIGHT
TZOFFSETFROM:+0100
TZOFFSETTO:+0200
TZNAME:CEST
DTSTART:20260329T010000
END:DAYLIGHT
BEGIN:STANDARD
TZOFFSETFROM:+0200
TZOFFSETTO:+0100
TZNAME:CET
DTSTART:20261025T010000
END:STANDARD
BEGIN:DAYLIGHT
TZOFFSETFROM:+0100
TZOFFSETTO:+0200
TZNAME:CEST
DTSTART:20270328T010000
END:DAYLIGHT
BEGIN:STANDARD
TZOFFSETFROM:+0200
TZOFFSETTO:+0100
TZNAME:CET
DTSTART:20271031T010000
END:STANDARD
BEGIN:DAYLIGHT
TZOFFSETFROM:+0100
TZOFFSETTO:+0200
TZNAME:CEST
DTSTART:20280326T010000
END:DAYLIGHT
BEGIN:STANDARD
TZOFFSETFROM:+0200
TZOFFSETTO:+0100
TZNAME:CET
DTSTART:20281029T010000
END:STANDARD
END:VTIMEZONE
BEGIN:VEVENT
DTSTART;TZID=Europe/Zurich:20261226T173000
DTEND;TZID=Europe/Zurich:20261226T180000
DTSTAMP:20260423T004100
CREATED:20260325T111553Z
LAST-MODIFIED:20260325T111553Z
UID:57034-1798306200-1798308000@www.se-ma.ch
SUMMARY:Degersheim: Besinnliche Momente an der Krippe
DESCRIPTION:mit Silvan Hollenstein
URL:https://www.se-ma.ch/event/degersheim-besinnliche-momente-an-der-krippe-5/
LOCATION:Jakobuskirche Degersheim\, Bergstrasse 10\, Degersheim\, 9113\, Schweiz
CATEGORIES:Anlässe und Veranstaltungen
END:VEVENT
BEGIN:VEVENT
DTSTART;TZID=Europe/Zurich:20261226T190000
DTEND;TZID=Europe/Zurich:20261226T193000
DTSTAMP:20260423T004100
CREATED:20260414T114545Z
LAST-MODIFIED:20260414T114548Z
UID:57216-1798311600-1798313400@www.se-ma.ch
SUMMARY:Wolfertswil: Besinnliche Momente an der Krippe
DESCRIPTION:
URL:https://www.se-ma.ch/event/wolfertswil-besinnliche-momente-an-der-krippe/
LOCATION:Bruder Klaus Kirche Wolfertswil\, Wolfertswil\, 9116 \, Schweiz
CATEGORIES:Gottesdienste
END:VEVENT
BEGIN:VEVENT
DTSTART;TZID=Europe/Zurich:20261227T083000
DTEND;TZID=Europe/Zurich:20261227T083000
DTSTAMP:20260423T004100
CREATED:20260106T151720Z
LAST-MODIFIED:20260106T151720Z
UID:55879-1798360200-1798360200@www.se-ma.ch
SUMMARY:Flawil: Eucharistiefeier in Italienisch
DESCRIPTION:
URL:https://www.se-ma.ch/event/flawil-eucharistiefeier-in-italienisch-12/
LOCATION:Kapelle St. Laurentius Flawil\, Enzenbühlstrasse 20\, Flawil\, 9230\, Schweiz
CATEGORIES:Gottesdienste
END:VEVENT
BEGIN:VEVENT
DTSTART;TZID=Europe/Zurich:20261231T234500
DTEND;TZID=Europe/Zurich:20261231T234500
DTSTAMP:20260423T004100
CREATED:20260414T114652Z
LAST-MODIFIED:20260414T114656Z
UID:57218-1798760700-1798760700@www.se-ma.ch
SUMMARY:Magdenau: Übergang ins neue Jahr mit Pius Angehrn
DESCRIPTION:
URL:https://www.se-ma.ch/event/magdenau-uebergang-ins-neue-jahr-mit-pius-angehrn/
LOCATION:Kirche St. Verena Magdenau\, St. Verena 929\, Wolfertswil\, 9116\, Schweiz
CATEGORIES:Anlässe und Veranstaltungen
END:VEVENT
BEGIN:VEVENT
DTSTART;TZID=Europe/Zurich:20270103T093000
DTEND;TZID=Europe/Zurich:20270103T093000
DTSTAMP:20260423T004100
CREATED:20260106T153445Z
LAST-MODIFIED:20260106T153445Z
UID:55969-1798968600-1798968600@www.se-ma.ch
SUMMARY:Flawil: Eucharistiefeier in Spanisch
DESCRIPTION:ab 9.00 Uhr Beichtgelegenheit
URL:https://www.se-ma.ch/event/flawil-eucharistiefeier-in-spanisch-69/
LOCATION:Kapelle St. Laurentius Flawil\, Enzenbühlstrasse 20\, Flawil\, 9230\, Schweiz
CATEGORIES:Gottesdienste
END:VEVENT
BEGIN:VEVENT
DTSTART;TZID=Europe/Zurich:20270107T150000
DTEND;TZID=Europe/Zurich:20270107T163000
DTSTAMP:20260423T004100
CREATED:20251203T081730Z
LAST-MODIFIED:20251203T081730Z
UID:55385-1799334000-1799339400@www.se-ma.ch
SUMMARY:Trauercafé
DESCRIPTION:Das Trauercafé bietet Angehörigen die Möglichkeit\, über das Erlebte zu sprechen und sich mit anderen Betroffenen auszutauschen. Es ist keine Anmeldung nötig. \nHomepage Ökum. Hospizgruppe Flawil
URL:https://www.se-ma.ch/event/trauercafe-42/
LOCATION:Haus 5egg\, Bahnhofstrasse 33\, Flawil\, St. Gallen\, 9230\, Schweiz
CATEGORIES:Anlässe und Veranstaltungen
END:VEVENT
BEGIN:VEVENT
DTSTART;TZID=Europe/Zurich:20270109T173000
DTEND;TZID=Europe/Zurich:20270109T173000
DTSTAMP:20260423T004100
CREATED:20260106T152939Z
LAST-MODIFIED:20260106T152939Z
UID:55945-1799515800-1799515800@www.se-ma.ch
SUMMARY:Flawil: Eucharistiefeier in Portugiesisch
DESCRIPTION:
URL:https://www.se-ma.ch/event/flawil-eucharistiefeier-in-portugiesisch-51/
LOCATION:Kapelle St. Laurentius Flawil\, Enzenbühlstrasse 20\, Flawil\, 9230\, Schweiz
CATEGORIES:Gottesdienste
END:VEVENT
BEGIN:VEVENT
DTSTART;TZID=Europe/Zurich:20270110T090000
DTEND;TZID=Europe/Zurich:20270110T090000
DTSTAMP:20260423T004100
CREATED:20260106T152127Z
LAST-MODIFIED:20260106T152127Z
UID:55903-1799571600-1799571600@www.se-ma.ch
SUMMARY:Flawil: Eucharistiefeier in Italienisch
DESCRIPTION:
URL:https://www.se-ma.ch/event/flawil-eucharistiefeier-in-italienisch-24/
LOCATION:Kapelle St. Laurentius Flawil\, Enzenbühlstrasse 20\, Flawil\, 9230\, Schweiz
CATEGORIES:Gottesdienste
END:VEVENT
BEGIN:VEVENT
DTSTART;TZID=Europe/Zurich:20270117T093000
DTEND;TZID=Europe/Zurich:20270117T093000
DTSTAMP:20260423T004100
CREATED:20260106T154107Z
LAST-MODIFIED:20260106T154107Z
UID:55995-1800178200-1800178200@www.se-ma.ch
SUMMARY:Flawil: Eucharistiefeier in Spanisch
DESCRIPTION:
URL:https://www.se-ma.ch/event/flawil-eucharistiefeier-in-spanisch-82/
LOCATION:Kapelle St. Laurentius Flawil\, Enzenbühlstrasse 20\, Flawil\, 9230\, Schweiz
CATEGORIES:Gottesdienste
END:VEVENT
BEGIN:VEVENT
DTSTART;TZID=Europe/Zurich:20270123T173000
DTEND;TZID=Europe/Zurich:20270123T173000
DTSTAMP:20260423T004100
CREATED:20260106T152952Z
LAST-MODIFIED:20260106T152952Z
UID:55947-1800725400-1800725400@www.se-ma.ch
SUMMARY:Flawil: Eucharistiefeier in Portugiesisch
DESCRIPTION:
URL:https://www.se-ma.ch/event/flawil-eucharistiefeier-in-portugiesisch-52/
LOCATION:Kapelle St. Laurentius Flawil\, Enzenbühlstrasse 20\, Flawil\, 9230\, Schweiz
CATEGORIES:Gottesdienste
END:VEVENT
BEGIN:VEVENT
DTSTART;TZID=Europe/Zurich:20270124T083000
DTEND;TZID=Europe/Zurich:20270124T083000
DTSTAMP:20260423T004100
CREATED:20260106T151741Z
LAST-MODIFIED:20260106T151741Z
UID:55881-1800779400-1800779400@www.se-ma.ch
SUMMARY:Flawil: Eucharistiefeier in Italienisch
DESCRIPTION:
URL:https://www.se-ma.ch/event/flawil-eucharistiefeier-in-italienisch-13/
LOCATION:Kapelle St. Laurentius Flawil\, Enzenbühlstrasse 20\, Flawil\, 9230\, Schweiz
CATEGORIES:Gottesdienste
END:VEVENT
BEGIN:VEVENT
DTSTART;TZID=Europe/Zurich:20270131T093000
DTEND;TZID=Europe/Zurich:20270131T093000
DTSTAMP:20260423T004100
CREATED:20260106T154123Z
LAST-MODIFIED:20260106T154123Z
UID:55997-1801387800-1801387800@www.se-ma.ch
SUMMARY:Flawil: Eucharistiefeier in Spanisch
DESCRIPTION:
URL:https://www.se-ma.ch/event/flawil-eucharistiefeier-in-spanisch-83/
LOCATION:Kapelle St. Laurentius Flawil\, Enzenbühlstrasse 20\, Flawil\, 9230\, Schweiz
CATEGORIES:Gottesdienste
END:VEVENT
END:VCALENDAR