BEGIN:VCALENDAR
VERSION:2.0
PRODID:-//Seelsorgeeinheit Magdenau - ECPv6.15.20//NONSGML v1.0//EN
CALSCALE:GREGORIAN
METHOD:PUBLISH
X-ORIGINAL-URL:https://www.se-ma.ch
X-WR-CALDESC:Veranstaltungen für Seelsorgeeinheit Magdenau
REFRESH-INTERVAL;VALUE=DURATION:PT1H
X-Robots-Tag:noindex
X-PUBLISHED-TTL:PT1H
BEGIN:VTIMEZONE
TZID:Europe/Zurich
BEGIN:DAYLIGHT
TZOFFSETFROM:+0100
TZOFFSETTO:+0200
TZNAME:CEST
DTSTART:20250330T010000
END:DAYLIGHT
BEGIN:STANDARD
TZOFFSETFROM:+0200
TZOFFSETTO:+0100
TZNAME:CET
DTSTART:20251026T010000
END:STANDARD
BEGIN:DAYLIGHT
TZOFFSETFROM:+0100
TZOFFSETTO:+0200
TZNAME:CEST
DTSTART:20260329T010000
END:DAYLIGHT
BEGIN:STANDARD
TZOFFSETFROM:+0200
TZOFFSETTO:+0100
TZNAME:CET
DTSTART:20261025T010000
END:STANDARD
BEGIN:DAYLIGHT
TZOFFSETFROM:+0100
TZOFFSETTO:+0200
TZNAME:CEST
DTSTART:20270328T010000
END:DAYLIGHT
BEGIN:STANDARD
TZOFFSETFROM:+0200
TZOFFSETTO:+0100
TZNAME:CET
DTSTART:20271031T010000
END:STANDARD
END:VTIMEZONE
BEGIN:VEVENT
DTSTART;TZID=Europe/Zurich:20260513T114500
DTEND;TZID=Europe/Zurich:20260513T140000
DTSTAMP:20260421T164841
CREATED:20251031T093227Z
LAST-MODIFIED:20251031T093227Z
UID:54857-1778672700-1778680800@www.se-ma.ch
SUMMARY:Degersheim: zämä ässä
DESCRIPTION:Wir freuen uns über alle\, die Lust haben\, gemeinsam zu essen\, zu geniessen und zu plaudern. Ein bunt zusammengewürfeltes Küchenteam kocht und serviert speziell für Sie! Der Preis beträgt Fr. 10.00. Bitte geben Sie bei der Anmeldung an\, falls Sie vegetarisch essen möchten! Anmeldungen bitte bis spätestens am Freitag bis 11.00 Uhr\, vor dem „zämä ässä“ an:\nTel. 071 371 10 17 oder per Mail: hc.am-esobfsctd-2e6b56@miehsreged-tairaterkes
URL:https://www.se-ma.ch/event/degersheim-zaemae-aessae-27/
LOCATION:Pfarreiheim
CATEGORIES:Anlässe und Veranstaltungen
END:VEVENT
BEGIN:VEVENT
DTSTART;TZID=Europe/Zurich:20260514T101500
DTEND;TZID=Europe/Zurich:20260514T101500
DTSTAMP:20260421T164841
CREATED:20251104T135355Z
LAST-MODIFIED:20260414T112551Z
UID:54896-1778753700-1778753700@www.se-ma.ch
SUMMARY:Wolfertswil: SEMA Festgottesdienst im Böhlwäldli
DESCRIPTION:Eucharistiefeier und Agape zu Auffahrt \nmit Echo vom Züche und Stosse\, anschl. Bräteln
URL:https://www.se-ma.ch/event/wolfertswil-sema-festgottesdienst-im-boehlwaeldli/
LOCATION:Böhlwäldli
CATEGORIES:Gottesdienste
END:VEVENT
BEGIN:VEVENT
DTSTART;TZID=Europe/Zurich:20260516T173000
DTEND;TZID=Europe/Zurich:20260516T183000
DTSTAMP:20260421T164841
CREATED:20260311T100608Z
LAST-MODIFIED:20260311T100608Z
UID:56806-1778952600-1778956200@www.se-ma.ch
SUMMARY:Degersheim: Kommunionfeier
DESCRIPTION:
URL:https://www.se-ma.ch/event/degersheim-kommunionfeier-37/
LOCATION:Jakobuskirche Degersheim\, Bergstrasse 10\, Degersheim\, 9113\, Schweiz
CATEGORIES:Gottesdienste
END:VEVENT
BEGIN:VEVENT
DTSTART;TZID=Europe/Zurich:20260517T093000
DTEND;TZID=Europe/Zurich:20260517T093000
DTSTAMP:20260421T164841
CREATED:20260106T153702Z
LAST-MODIFIED:20260106T153702Z
UID:55977-1779010200-1779010200@www.se-ma.ch
SUMMARY:Flawil: Eucharistiefeier in Spanisch
DESCRIPTION:
URL:https://www.se-ma.ch/event/flawil-eucharistiefeier-in-spanisch-73/
LOCATION:Kapelle St. Laurentius Flawil\, Enzenbühlstrasse 20\, Flawil\, 9230\, Schweiz
CATEGORIES:Gottesdienste
END:VEVENT
BEGIN:VEVENT
DTSTART;TZID=Europe/Zurich:20260517T101500
DTEND;TZID=Europe/Zurich:20260517T101500
DTSTAMP:20260421T164841
CREATED:20260107T064743Z
LAST-MODIFIED:20260107T064743Z
UID:56047-1779012900-1779012900@www.se-ma.ch
SUMMARY:Flawil: Kommunionfeier
DESCRIPTION:
URL:https://www.se-ma.ch/event/flawil-kommunionfeier-37/
LOCATION:Kirche St. Laurentius Flawil\, Enzenbühlstrasse 20\, Flawil\, 9230\, Schweiz
CATEGORIES:Gottesdienste
END:VEVENT
BEGIN:VEVENT
DTSTART;TZID=Europe/Zurich:20260517T190000
DTEND;TZID=Europe/Zurich:20260517T190000
DTSTAMP:20260421T164841
CREATED:20251104T135504Z
LAST-MODIFIED:20251104T135517Z
UID:54899-1779044400-1779044400@www.se-ma.ch
SUMMARY:Magdenau: Maiandacht
DESCRIPTION:
URL:https://www.se-ma.ch/event/magdenau-maiandacht-3/
LOCATION:Kirche St. Verena Magdenau\, St. Verena 929\, Wolfertswil\, 9116\, Schweiz
END:VEVENT
BEGIN:VEVENT
DTSTART;TZID=Europe/Zurich:20260518T194500
DTEND;TZID=Europe/Zurich:20260518T204500
DTSTAMP:20260421T164841
CREATED:20251125T100803Z
LAST-MODIFIED:20251125T100803Z
UID:55199-1779133500-1779137100@www.se-ma.ch
SUMMARY:Degersheim: Schweigemeditation
DESCRIPTION:Im Chorraum der Kath. Kirche St. Jakobus werden wir gemeinsam meditieren. Alle Interessierten\, unabhängig von Konfession oder Kirchennähe\, sind dazu herzlich eingeladen. \nFür Auskünfte steht Walter Germann gerne zur Verfügung: T 071 371 29 38.
URL:https://www.se-ma.ch/event/degersheim-schweigemeditation-98/
LOCATION:Jakobuskirche Degersheim\, Bergstrasse 10\, Degersheim\, 9113\, Schweiz
CATEGORIES:Anlässe und Veranstaltungen
END:VEVENT
BEGIN:VEVENT
DTSTART;TZID=Europe/Zurich:20260521T190000
DTEND;TZID=Europe/Zurich:20260521T190000
DTSTAMP:20260421T164841
CREATED:20251208T134349Z
LAST-MODIFIED:20251208T134349Z
UID:55457-1779390000-1779390000@www.se-ma.ch
SUMMARY:Flawiler Friedensgebet
DESCRIPTION:In Flawil treffen sich Angehörige verschiedener Konfessionen zum Friedensgebet im Meditationsraum der ref. Kirche \nDaten Friedensgebet Flawil
URL:https://www.se-ma.ch/event/flawiler-friedensgebet-66/
LOCATION:Ref. Kirche Feld\, Flawil\, 9230\, Schweiz
CATEGORIES:Anlässe und Veranstaltungen,Gottesdienste
END:VEVENT
BEGIN:VEVENT
DTSTART;TZID=Europe/Zurich:20260521T190000
DTEND;TZID=Europe/Zurich:20260521T200000
DTSTAMP:20260421T164841
CREATED:20251202T105622Z
LAST-MODIFIED:20251202T105622Z
UID:55305-1779390000-1779393600@www.se-ma.ch
SUMMARY:Degersheim: Friedensgebet
DESCRIPTION:Wir beten für den Frieden in unserer Welt.
URL:https://www.se-ma.ch/event/degersheim-friedensgebet-32/
LOCATION:evang. Kirche Degersheim\, Steineggstrasse 10\, Degersheim\, 9113
CATEGORIES:Anlässe und Veranstaltungen
END:VEVENT
BEGIN:VEVENT
DTSTART;TZID=Europe/Zurich:20260524T083000
DTEND;TZID=Europe/Zurich:20260524T083000
DTSTAMP:20260421T164841
CREATED:20260106T151941Z
LAST-MODIFIED:20260106T151941Z
UID:55893-1779611400-1779611400@www.se-ma.ch
SUMMARY:Flawil: Eucharistiefeier in Italienisch
DESCRIPTION:
URL:https://www.se-ma.ch/event/flawil-eucharistiefeier-in-italienisch-19/
LOCATION:Kapelle St. Laurentius Flawil\, Enzenbühlstrasse 20\, Flawil\, 9230\, Schweiz
CATEGORIES:Gottesdienste
END:VEVENT
BEGIN:VEVENT
DTSTART;TZID=Europe/Zurich:20260524T084500
DTEND;TZID=Europe/Zurich:20260524T084500
DTSTAMP:20260421T164841
CREATED:20251104T140615Z
LAST-MODIFIED:20251104T140619Z
UID:54915-1779612300-1779612300@www.se-ma.ch
SUMMARY:Wolfertswil: Festgottesdienst zu Pfingsten
DESCRIPTION:Eucharistiefeier
URL:https://www.se-ma.ch/event/wolfertswil-festgottesdienst-zu-pfingsten-2/
LOCATION:Bruder Klaus Kirche Wolfertswil\, Wolfertswil\, 9116 \, Schweiz
CATEGORIES:Gottesdienste
END:VEVENT
BEGIN:VEVENT
DTSTART;TZID=Europe/Zurich:20260524T084500
DTEND;TZID=Europe/Zurich:20260524T084500
DTSTAMP:20260421T164841
CREATED:20260107T080203Z
LAST-MODIFIED:20260107T080419Z
UID:56111-1779612300-1779612300@www.se-ma.ch
SUMMARY:Niederglatt: Festgottesdienst an Pfingsten\, Kommunionfeier
DESCRIPTION:
URL:https://www.se-ma.ch/event/niederglatt-kommunionfeier-17/
LOCATION:Felix + Regula Kirche Niederglatt\, Niederglatt\, 9240\, Schweiz
CATEGORIES:Gottesdienste
END:VEVENT
BEGIN:VEVENT
DTSTART;TZID=Europe/Zurich:20260524T101500
DTEND;TZID=Europe/Zurich:20260524T101500
DTSTAMP:20260421T164841
CREATED:20260107T064842Z
LAST-MODIFIED:20260107T064842Z
UID:56049-1779617700-1779617700@www.se-ma.ch
SUMMARY:Flawil: Festgottesdienst an Pfingsten\, Kommunionfeier
DESCRIPTION:mit Kirchenchor
URL:https://www.se-ma.ch/event/flawil-festgottesdienst-an-pfingsten-kommunionfeier/
LOCATION:Kirche St. Laurentius Flawil\, Enzenbühlstrasse 20\, Flawil\, 9230\, Schweiz
CATEGORIES:Gottesdienste
END:VEVENT
BEGIN:VEVENT
DTSTART;TZID=Europe/Zurich:20260524T101500
DTEND;TZID=Europe/Zurich:20260524T111500
DTSTAMP:20260421T164841
CREATED:20260311T100736Z
LAST-MODIFIED:20260311T100736Z
UID:56808-1779617700-1779621300@www.se-ma.ch
SUMMARY:Degersheim: Eucharistiefeier Fest-Gottesdienst zu Pfingsten
DESCRIPTION:mit Kirchenchor
URL:https://www.se-ma.ch/event/degersheim-eucharistiefeier-fest-gottesdienst-zu-pfingsten/
LOCATION:Jakobuskirche Degersheim\, Bergstrasse 10\, Degersheim\, 9113\, Schweiz
CATEGORIES:Gottesdienste
END:VEVENT
BEGIN:VEVENT
DTSTART;TZID=Europe/Zurich:20260525T190000
DTEND;TZID=Europe/Zurich:20260525T200000
DTSTAMP:20260421T164841
CREATED:20251125T101018Z
LAST-MODIFIED:20251125T101018Z
UID:55202-1779735600-1779739200@www.se-ma.ch
SUMMARY:Degersheim: Abendlob im Mai
DESCRIPTION:Pfingstmontag
URL:https://www.se-ma.ch/event/degersheim-abendlob-im-mai-7/
LOCATION:Jakobuskirche Kapelle Degersheim\, Bergstrasse 10\, Degersheim\, St. Gallen\, 9113\, Schweiz
CATEGORIES:Gottesdienste
END:VEVENT
BEGIN:VEVENT
DTSTART;TZID=Europe/Zurich:20260528T083000
DTEND;TZID=Europe/Zurich:20260528T103000
DTSTAMP:20260421T164841
CREATED:20260210T142333Z
LAST-MODIFIED:20260210T153747Z
UID:56485-1779957000-1779964200@www.se-ma.ch
SUMMARY:Degersheim: Waldcafé
DESCRIPTION:Gerne laden wir Sie als Waldspazierer mit oder ohne Hund\, Jogger\, Träumer\, etc. zu einem feinen Café ein! \nFür Auskünfte steht Silvan Hollenstein\, T 079 743 73 89\, zur Verfügung.
URL:https://www.se-ma.ch/event/degersheim-waldcafe-3/
LOCATION:Föhrenwäldli\, Berg 1\, Degersheim\, 9113 \, Schweiz
CATEGORIES:Anlässe und Veranstaltungen
END:VEVENT
BEGIN:VEVENT
DTSTART;TZID=Europe/Zurich:20260530T093000
DTEND;TZID=Europe/Zurich:20260530T093000
DTSTAMP:20260421T164841
CREATED:20251209T101739Z
LAST-MODIFIED:20251209T101739Z
UID:55488-1780133400-1780133400@www.se-ma.ch
SUMMARY:Flawil: ökumenische Chinderfiir - in der kath. Kirche
DESCRIPTION:9.30 bis 10 Uhr – gemeinsam\, mit allen Sinnen\, den christlichen Glauben entdecken und erleben. Kinder im Vorschulalter und ihre erwachsenen Begleitpersonen machen sich während einer halben Stunde mit Musik und einer Geschichte auf den Weg\, Gottes Wirken im Kleinen und Grossen zu erfahren. Kinder ab 3 Jahre dürfen auch alleine teilnehmen.\n10 bis 11 Uhr – Kreativ-sein\, Spiel\, Spass und ein feiner Znüni. \nDie beiden Angebote können auch unabhängig voneinander besucht werden. \nDaten ökum. Chinderfiir
URL:https://www.se-ma.ch/event/flawil-oekumenische-chinderfiir-in-der-kath-kirche-2/
LOCATION:Kirche St. Laurentius Flawil\, Enzenbühlstrasse 20\, Flawil\, 9230\, Schweiz
CATEGORIES:Kinder und Familien
END:VEVENT
BEGIN:VEVENT
DTSTART;TZID=Europe/Zurich:20260530T173000
DTEND;TZID=Europe/Zurich:20260530T183000
DTSTAMP:20260421T164841
CREATED:20260311T100829Z
LAST-MODIFIED:20260311T100829Z
UID:56811-1780162200-1780165800@www.se-ma.ch
SUMMARY:Degersheim: Eucharistiefeier
DESCRIPTION:mit Miniaufnahmen
URL:https://www.se-ma.ch/event/degersheim-eucharistiefeier-58/
LOCATION:Jakobuskirche Degersheim\, Bergstrasse 10\, Degersheim\, 9113\, Schweiz
CATEGORIES:Gottesdienste
END:VEVENT
BEGIN:VEVENT
DTSTART;TZID=Europe/Zurich:20260531T084500
DTEND;TZID=Europe/Zurich:20260531T084500
DTSTAMP:20260421T164841
CREATED:20251104T140658Z
LAST-MODIFIED:20251104T140701Z
UID:54918-1780217100-1780217100@www.se-ma.ch
SUMMARY:Wolfertswil: Eucharistiefeier mit Miniaufnahmen
DESCRIPTION:
URL:https://www.se-ma.ch/event/wolfertswil-eucharistiefeier-mit-miniaufnahmen-2/
LOCATION:Bruder Klaus Kirche Wolfertswil\, Wolfertswil\, 9116 \, Schweiz
CATEGORIES:Gottesdienste
END:VEVENT
BEGIN:VEVENT
DTSTART;TZID=Europe/Zurich:20260531T093000
DTEND;TZID=Europe/Zurich:20260531T093000
DTSTAMP:20260421T164841
CREATED:20260106T153716Z
LAST-MODIFIED:20260106T153716Z
UID:55979-1780219800-1780219800@www.se-ma.ch
SUMMARY:Flawil: Eucharistiefeier in Spanisch
DESCRIPTION:
URL:https://www.se-ma.ch/event/flawil-eucharistiefeier-in-spanisch-74/
LOCATION:Kapelle St. Laurentius Flawil\, Enzenbühlstrasse 20\, Flawil\, 9230\, Schweiz
CATEGORIES:Gottesdienste
END:VEVENT
BEGIN:VEVENT
DTSTART;TZID=Europe/Zurich:20260531T101500
DTEND;TZID=Europe/Zurich:20260531T101500
DTSTAMP:20260421T164841
CREATED:20260106T155520Z
LAST-MODIFIED:20260106T155520Z
UID:56027-1780222500-1780222500@www.se-ma.ch
SUMMARY:Flawil: Eucharistiefeier mit Miniaufnahmen und Verabschiedungen
DESCRIPTION:
URL:https://www.se-ma.ch/event/flawil-eucharistiefeier-mit-miniaufnahmen-und-verabschiedungen/
LOCATION:Kirche St. Laurentius Flawil\, Enzenbühlstrasse 20\, Flawil\, 9230\, Schweiz
CATEGORIES:Gottesdienste,Kinder und Familien
END:VEVENT
BEGIN:VEVENT
DTSTART;TZID=Europe/Zurich:20260601T193000
DTEND;TZID=Europe/Zurich:20260601T203000
DTSTAMP:20260421T164841
CREATED:20251125T101128Z
LAST-MODIFIED:20251125T101128Z
UID:55205-1780342200-1780345800@www.se-ma.ch
SUMMARY:Degersheim: Schweigemeditation
DESCRIPTION:Im Chorraum der Kath. Kirche St. Jakobus werden wir gemeinsam meditieren. Alle Interessierten\, unabhängig von Konfession oder Kirchennähe\, sind dazu herzlich eingeladen. \nFür Auskünfte steht Walter Germann gerne zur Verfügung: T 071 371 29 38.
URL:https://www.se-ma.ch/event/degersheim-schweigemeditation-99/
LOCATION:Jakobuskirche Degersheim\, Bergstrasse 10\, Degersheim\, 9113\, Schweiz
CATEGORIES:Anlässe und Veranstaltungen
END:VEVENT
BEGIN:VEVENT
DTSTART;TZID=Europe/Zurich:20260603T080000
DTEND;TZID=Europe/Zurich:20260603T203000
DTSTAMP:20260421T164841
CREATED:20251112T065028Z
LAST-MODIFIED:20251112T065028Z
UID:55036-1780473600-1780518600@www.se-ma.ch
SUMMARY:Degersheim: ökum. Seniorenausflug ins Emmental BE
DESCRIPTION:Tagesausflug ins Emmental BE \nCarchauffeur: Hans Martin Enz von GROSS-Reisen\n08.00 Uhr Abfahrt ab Bahnhof Degersheim\n08.05 Uhr Abfahrt ab „alte Post“ Wolfertswil \nAnmeldung bis Mittwoch\, 20. Mai 2026 an:\nSilvia Sauder\, Hintere Dorfstrasse 2\, 9113 Degersheim
URL:https://www.se-ma.ch/event/degersheim-oekum-seniorenausflug-ins-emmental-be/
LOCATION:Emmental BE
CATEGORIES:Anlässe und Veranstaltungen
END:VEVENT
BEGIN:VEVENT
DTSTART;TZID=Europe/Zurich:20260604T150000
DTEND;TZID=Europe/Zurich:20260604T163000
DTSTAMP:20260421T164841
CREATED:20251203T081536Z
LAST-MODIFIED:20251203T081541Z
UID:55373-1780585200-1780590600@www.se-ma.ch
SUMMARY:Trauercafé
DESCRIPTION:Das Trauercafé bietet Angehörigen die Möglichkeit\, über das Erlebte zu sprechen und sich mit anderen Betroffenen auszutauschen. Es ist keine Anmeldung nötig. \nHomepage Ökum. Hospizgruppe Flawil
URL:https://www.se-ma.ch/event/trauercafe-36/
LOCATION:Haus 5egg\, Bahnhofstrasse 33\, Flawil\, St. Gallen\, 9230\, Schweiz
CATEGORIES:Anlässe und Veranstaltungen
END:VEVENT
BEGIN:VEVENT
DTSTART;TZID=Europe/Zurich:20260604T190000
DTEND;TZID=Europe/Zurich:20260604T190000
DTSTAMP:20260421T164841
CREATED:20251208T134159Z
LAST-MODIFIED:20251208T134159Z
UID:55451-1780599600-1780599600@www.se-ma.ch
SUMMARY:Flawiler Friedensgebet
DESCRIPTION:In Flawil treffen sich Angehörige verschiedener Konfessionen zum Friedensgebet in der meth. Kirche \nDaten Friedensgebet Flawil
URL:https://www.se-ma.ch/event/flawiler-friedensgebet-63/
LOCATION:Evangelisch-methodistische Kirche\, Riedernstrasse 13\, Flawil\, 9230\, Schweiz
CATEGORIES:Anlässe und Veranstaltungen,Gottesdienste
END:VEVENT
BEGIN:VEVENT
DTSTART;TZID=Europe/Zurich:20260605T183000
DTEND;TZID=Europe/Zurich:20260605T200000
DTSTAMP:20260421T164841
CREATED:20251217T101846Z
LAST-MODIFIED:20251217T101846Z
UID:55606-1780684200-1780689600@www.se-ma.ch
SUMMARY:Degersheim: Zämägang
DESCRIPTION:für einander da sein \nzusammen statt alleine \nHast du Lust\, mit mir und hoffentlich anderen Menschen zusammen zu sein? Dann komm einfach mit. \nVielleicht kennst du Menschen\, denen das freundliche und interessierte Miteinander gut tun würde. Mache sie aufmerksam auf dieses Angebot oder bring sie gleich selbst mit! \nEs braucht keine Anmeldung! \nTreffpunkt beim Parkplatz Föhrenwäldli Degersheim! \nIch freue mich auf dich! \nSilvan Hollenstein\, Seelsorger\, Tel. 079 743 73 89
URL:https://www.se-ma.ch/event/degersheim-zaemaegang-30/
LOCATION:Föhrenwäldli\, Berg 1\, Degersheim\, 9113 \, Schweiz
CATEGORIES:Anlässe und Veranstaltungen
END:VEVENT
BEGIN:VEVENT
DTSTART;TZID=Europe/Zurich:20260606T170000
DTEND;TZID=Europe/Zurich:20260606T170000
DTSTAMP:20260421T164841
CREATED:20260107T072225Z
LAST-MODIFIED:20260107T072548Z
UID:56083-1780765200-1780765200@www.se-ma.ch
SUMMARY:Flawil: Firmung
DESCRIPTION:mit 24 jungen Erwachsenen auf dem Firmweg
URL:https://www.se-ma.ch/event/flawil-firmung-2/
LOCATION:Kirche St. Laurentius Flawil\, Enzenbühlstrasse 20\, Flawil\, 9230\, Schweiz
CATEGORIES:Gottesdienste,Kinder und Familien
END:VEVENT
BEGIN:VEVENT
DTSTART;TZID=Europe/Zurich:20260606T173000
DTEND;TZID=Europe/Zurich:20260606T183000
DTSTAMP:20260421T164841
CREATED:20260318T101429Z
LAST-MODIFIED:20260325T103858Z
UID:56889-1780767000-1780770600@www.se-ma.ch
SUMMARY:Degersheim: Eucharistiefeier Fronleichnam
DESCRIPTION:mit eucharistischem Segen
URL:https://www.se-ma.ch/event/degersheim-kommunionfeier-fronleichnam/
LOCATION:Jakobuskirche Degersheim\, Bergstrasse 10\, Degersheim\, 9113\, Schweiz
CATEGORIES:Gottesdienste
END:VEVENT
BEGIN:VEVENT
DTSTART;TZID=Europe/Zurich:20260607T084500
DTEND;TZID=Europe/Zurich:20260607T084500
DTSTAMP:20260421T164841
CREATED:20260107T080446Z
LAST-MODIFIED:20260107T080446Z
UID:56114-1780821900-1780821900@www.se-ma.ch
SUMMARY:Niederglatt: Eucharistiefeier
DESCRIPTION:
URL:https://www.se-ma.ch/event/niederglatt-eucharistiefeier-24/
LOCATION:Felix + Regula Kirche Niederglatt\, Niederglatt\, 9240\, Schweiz
CATEGORIES:Gottesdienste
END:VEVENT
BEGIN:VEVENT
DTSTART;TZID=Europe/Zurich:20260607T093000
DTEND;TZID=Europe/Zurich:20260607T093000
DTSTAMP:20260421T164841
CREATED:20260106T153205Z
LAST-MODIFIED:20260106T153205Z
UID:55957-1780824600-1780824600@www.se-ma.ch
SUMMARY:Flawil: Eucharistiefeier in Spanisch
DESCRIPTION:ab 9.00 Uhr Beichtgelegenheit
URL:https://www.se-ma.ch/event/flawil-eucharistiefeier-in-spanisch-63/
LOCATION:Kapelle St. Laurentius Flawil\, Enzenbühlstrasse 20\, Flawil\, 9230\, Schweiz
CATEGORIES:Gottesdienste
END:VEVENT
END:VCALENDAR